BEGIN:VCALENDAR
VERSION:2.0
PRODID:-//Elderbridge Agency On Aging - ECPv6.15.20//NONSGML v1.0//EN
CALSCALE:GREGORIAN
METHOD:PUBLISH
X-WR-CALNAME:Elderbridge Agency On Aging
X-ORIGINAL-URL:https://elderbridge.org
X-WR-CALDESC:Events for Elderbridge Agency On Aging
REFRESH-INTERVAL;VALUE=DURATION:PT1H
X-Robots-Tag:noindex
X-PUBLISHED-TTL:PT1H
BEGIN:VTIMEZONE
TZID:UTC
BEGIN:STANDARD
TZOFFSETFROM:+0000
TZOFFSETTO:+0000
TZNAME:UTC
DTSTART:20200101T000000
END:STANDARD
END:VTIMEZONE
BEGIN:VEVENT
DTSTART;TZID=UTC:20210908T100000
DTEND;TZID=UTC:20210908T120000
DTSTAMP:20260422T092957
CREATED:20210904T081345Z
LAST-MODIFIED:20220223T055811Z
UID:2544-1631095200-1631102400@elderbridge.org
SUMMARY:Senior Fun Day
DESCRIPTION:
URL:https://elderbridge.org/events/senior-fun-day/
LOCATION:Swan lake State Park – Educational Center Parking Lot\, United States
ATTACH;FMTTYPE=image/jpeg:https://elderbridge.org/wp-content/uploads/2021/09/SFD-Poster-2021-scaled.jpg
END:VEVENT
END:VCALENDAR