BEGIN:VCALENDAR
VERSION:2.0
PRODID:-//Elderbridge Agency On Aging - ECPv6.15.20//NONSGML v1.0//EN
CALSCALE:GREGORIAN
METHOD:PUBLISH
X-WR-CALNAME:Elderbridge Agency On Aging
X-ORIGINAL-URL:https://elderbridge.org
X-WR-CALDESC:Events for Elderbridge Agency On Aging
REFRESH-INTERVAL;VALUE=DURATION:PT1H
X-Robots-Tag:noindex
X-PUBLISHED-TTL:PT1H
BEGIN:VTIMEZONE
TZID:UTC
BEGIN:STANDARD
TZOFFSETFROM:+0000
TZOFFSETTO:+0000
TZNAME:UTC
DTSTART:20210101T000000
END:STANDARD
END:VTIMEZONE
BEGIN:VEVENT
DTSTART;TZID=UTC:20220816T123000
DTEND;TZID=UTC:20220816T123000
DTSTAMP:20260422T011114
CREATED:20220804T090444Z
LAST-MODIFIED:20220805T062014Z
UID:6843-1660653000-1660653000@elderbridge.org
SUMMARY:Fresh Conversationsat Memorial Library
DESCRIPTION:
URL:https://elderbridge.org/events/fresh-conversationsat-memorial-library/
LOCATION:Memorial Library\, 400 Grand St\, Guthrie Center\, IA
END:VEVENT
END:VCALENDAR