BEGIN:VCALENDAR
VERSION:2.0
PRODID:-//Elderbridge Agency On Aging - ECPv6.15.20//NONSGML v1.0//EN
CALSCALE:GREGORIAN
METHOD:PUBLISH
X-ORIGINAL-URL:https://elderbridge.org
X-WR-CALDESC:Events for Elderbridge Agency On Aging
REFRESH-INTERVAL;VALUE=DURATION:PT1H
X-Robots-Tag:noindex
X-PUBLISHED-TTL:PT1H
BEGIN:VTIMEZONE
TZID:UTC
BEGIN:STANDARD
TZOFFSETFROM:+0000
TZOFFSETTO:+0000
TZNAME:UTC
DTSTART:20210101T000000
END:STANDARD
END:VTIMEZONE
BEGIN:VEVENT
DTSTART;TZID=UTC:20220517T123000
DTEND;TZID=UTC:20220517T131500
DTSTAMP:20260422T081146
CREATED:20220503T232231Z
LAST-MODIFIED:20220503T232416Z
UID:6443-1652790600-1652793300@elderbridge.org
SUMMARY:Guthrie Center Memorial Library Fresh Conversations on May 17\, 2022 at 12:30 PM to 1:15 PM
DESCRIPTION:
URL:https://elderbridge.org/events/guthrie-center-memorial-library-fresh-conversations-on-may-17-2022-at-1230-pm-t0-115-pm/
LOCATION:Guthrie Center Memorial Library\, 400 Grand Street\, Guthrie Center\, IA\, 50115\, United States
END:VEVENT
END:VCALENDAR