BEGIN:VCALENDAR
VERSION:2.0
PRODID:-//Elderbridge Agency On Aging - ECPv6.15.20//NONSGML v1.0//EN
CALSCALE:GREGORIAN
METHOD:PUBLISH
X-WR-CALNAME:Elderbridge Agency On Aging
X-ORIGINAL-URL:https://elderbridge.org
X-WR-CALDESC:Events for Elderbridge Agency On Aging
REFRESH-INTERVAL;VALUE=DURATION:PT1H
X-Robots-Tag:noindex
X-PUBLISHED-TTL:PT1H
BEGIN:VTIMEZONE
TZID:UTC
BEGIN:STANDARD
TZOFFSETFROM:+0000
TZOFFSETTO:+0000
TZNAME:UTC
DTSTART:20210101T000000
END:STANDARD
END:VTIMEZONE
BEGIN:VEVENT
DTSTART;TZID=UTC:20220420T133000
DTEND;TZID=UTC:20220420T140000
DTSTAMP:20260422T043739
CREATED:20220401T004918Z
LAST-MODIFIED:20220401T004929Z
UID:6235-1650461400-1650463200@elderbridge.org
SUMMARY:Fresh Conversations at Elderbridge Ageny on Aging in Mason City\, IA on April 20 at 1:30 PM
DESCRIPTION:
URL:https://elderbridge.org/events/fresh-conversations-at-elderbridge-ageny-on-aging-in-mason-city-ia-on-april-20-at-130-pm/
LOCATION:Fresh Conversations at Elderbridge Agency on Aging\, 1190 Briarstone Drive\, Ste. 3\, Mason City\, IA\, 50401
ORGANIZER;CN="Jodi Applegate":MAILTO:japplegate@elderbridge.org
END:VEVENT
BEGIN:VEVENT
DTSTART;TZID=UTC:20220316T130000
DTEND;TZID=UTC:20220316T133000
DTSTAMP:20260422T043739
CREATED:20220316T014312Z
LAST-MODIFIED:20220316T014312Z
UID:5951-1647435600-1647437400@elderbridge.org
SUMMARY:Fresh Conversations at Elderbridge Agency on Aging on March 16 at 1:30 PM
DESCRIPTION:
URL:https://elderbridge.org/events/fresh-conversations-at-elderbridge-agency-on-aging-on-march-16-at-130-pm/
LOCATION:Fresh Conversations at Elderbridge Agency on Aging\, 1190 Briarstone Drive\, Ste. 3\, Mason City\, IA\, 50401
ORGANIZER;CN="Jodi Applegate":MAILTO:japplegate@elderbridge.org
END:VEVENT
BEGIN:VEVENT
DTSTART;TZID=UTC:20220216T133000
DTEND;TZID=UTC:20220216T143000
DTSTAMP:20260422T043739
CREATED:20220126T010939Z
LAST-MODIFIED:20220223T052327Z
UID:5066-1645018200-1645021800@elderbridge.org
SUMMARY:Fresh Conversations at Elderbridge Agency on Aging on Wednesday\, February 16 at 1:30 PM
DESCRIPTION:
URL:https://elderbridge.org/events/fresh-conversations-at-elderbridge-agency-on-aging-on-wednesday-february-16-at-130-pm/
LOCATION:Fresh Conversations at Elderbridge Agency on Aging\, 1190 Briarstone Drive\, Ste. 3\, Mason City\, IA\, 50401
ORGANIZER;CN="Jodi Applegate":MAILTO:japplegate@elderbridge.org
END:VEVENT
BEGIN:VEVENT
DTSTART;TZID=UTC:20220119T133000
DTEND;TZID=UTC:20220119T143000
DTSTAMP:20260422T043739
CREATED:20220105T004732Z
LAST-MODIFIED:20220223T053853Z
UID:4558-1642599000-1642602600@elderbridge.org
SUMMARY:Fresh Conversations at Elderbridge Agency on Aging in Mason City\, IA on January 19 at 1:30 PM
DESCRIPTION:
URL:https://elderbridge.org/events/fresh-conversations-at-elderbridge-agency-on-aging-mason-city-ia-january-19-at-130pm/
LOCATION:Fresh Conversations at Elderbridge Agency on Aging\, 1190 Briarstone Drive\, Ste. 3\, Mason City\, IA\, 50401
ORGANIZER;CN="Jodi Applegate":MAILTO:japplegate@elderbridge.org
END:VEVENT
END:VCALENDAR