BEGIN:VCALENDAR
VERSION:2.0
PRODID:-//Elderbridge Agency On Aging - ECPv6.15.20//NONSGML v1.0//EN
CALSCALE:GREGORIAN
METHOD:PUBLISH
X-WR-CALNAME:Elderbridge Agency On Aging
X-ORIGINAL-URL:https://elderbridge.org
X-WR-CALDESC:Events for Elderbridge Agency On Aging
REFRESH-INTERVAL;VALUE=DURATION:PT1H
X-Robots-Tag:noindex
X-PUBLISHED-TTL:PT1H
BEGIN:VTIMEZONE
TZID:UTC
BEGIN:STANDARD
TZOFFSETFROM:+0000
TZOFFSETTO:+0000
TZNAME:UTC
DTSTART:20210101T000000
END:STANDARD
END:VTIMEZONE
BEGIN:VEVENT
DTSTART;TZID=UTC:20220224T100000
DTEND;TZID=UTC:20220224T110000
DTSTAMP:20260422T082313
CREATED:20220208T012633Z
LAST-MODIFIED:20220223T052043Z
UID:5149-1645696800-1645700400@elderbridge.org
SUMMARY:Dementia Friends on ZOOM on February 24 at 10AM
DESCRIPTION:
URL:https://elderbridge.org/events/dementia-friends-on-zoom-on-february-24-at-10am/
LOCATION:Dementia Friends ZOOM\, ZOOM
ORGANIZER;CN="Emily Winker":MAILTO:ewinker@elderbridge.org
END:VEVENT
END:VCALENDAR