BEGIN:VCALENDAR
VERSION:2.0
PRODID:-//Elderbridge Agency On Aging - ECPv6.15.20//NONSGML v1.0//EN
CALSCALE:GREGORIAN
METHOD:PUBLISH
X-WR-CALNAME:Elderbridge Agency On Aging
X-ORIGINAL-URL:https://elderbridge.org
X-WR-CALDESC:Events for Elderbridge Agency On Aging
REFRESH-INTERVAL;VALUE=DURATION:PT1H
X-Robots-Tag:noindex
X-PUBLISHED-TTL:PT1H
BEGIN:VTIMEZONE
TZID:UTC
BEGIN:STANDARD
TZOFFSETFROM:+0000
TZOFFSETTO:+0000
TZNAME:UTC
DTSTART:20210101T000000
END:STANDARD
END:VTIMEZONE
BEGIN:VEVENT
DTSTART;TZID=UTC:20230308T110000
DTEND;TZID=UTC:20230308T110000
DTSTAMP:20260421T220917
CREATED:20230301T021353Z
LAST-MODIFIED:20230301T021353Z
UID:8265-1678273200-1678273200@elderbridge.org
SUMMARY:Fresh Conversations at Charles City
DESCRIPTION:
URL:https://elderbridge.org/events/fresh-conversations-at-charles-city/
LOCATION:Charles City Senior Center\, 900 Hulin Ave.\, Charles City
ATTACH;FMTTYPE=image/jpeg:https://elderbridge.org/wp-content/uploads/2023/03/Charles-City-FC-Mar-23-scaled.jpg
END:VEVENT
BEGIN:VEVENT
DTSTART;TZID=UTC:20230208T110000
DTEND;TZID=UTC:20230208T110000
DTSTAMP:20260421T220917
CREATED:20230202T093408Z
LAST-MODIFIED:20230202T182739Z
UID:8134-1675854000-1675854000@elderbridge.org
SUMMARY:Fresh Conversations at Charles City
DESCRIPTION:
URL:https://elderbridge.org/events/charles-city-fc/
LOCATION:Charles City Senior Center\, 900 Hulin Ave.\, Charles City
ATTACH;FMTTYPE=image/png:https://elderbridge.org/wp-content/uploads/2023/02/Charles-City-FC.png
END:VEVENT
BEGIN:VEVENT
DTSTART;TZID=UTC:20221012T110000
DTEND;TZID=UTC:20221012T110000
DTSTAMP:20260421T220917
CREATED:20221011T090337Z
LAST-MODIFIED:20221013T000051Z
UID:7802-1665572400-1665572400@elderbridge.org
SUMMARY:Fresh Conversations Charles City
DESCRIPTION:Are you age 60 + and interested in learning about different nutrition topics in a small group setting? Then Fresh Conversations may be for you! Sessions run about 30 minutes.\nWhen and Where:   \nOct. 12th at 11:00\nCharles City Senior Center\, 900 Hulin Ave.\, Charles City\nTopic:   “Breaking News: Eggs are Good for You” \nPresenter: Lesley Mehman Milius (641)-228-1453\nHope to see you there!
URL:https://elderbridge.org/events/charles-city/
LOCATION:Charles City Senior Center\, 900 Hulin Ave.\, Charles City
END:VEVENT
END:VCALENDAR