BEGIN:VCALENDAR
VERSION:2.0
PRODID:-//Elderbridge Agency On Aging - ECPv6.15.20//NONSGML v1.0//EN
CALSCALE:GREGORIAN
METHOD:PUBLISH
X-ORIGINAL-URL:https://elderbridge.org
X-WR-CALDESC:Events for Elderbridge Agency On Aging
REFRESH-INTERVAL;VALUE=DURATION:PT1H
X-Robots-Tag:noindex
X-PUBLISHED-TTL:PT1H
BEGIN:VTIMEZONE
TZID:UTC
BEGIN:STANDARD
TZOFFSETFROM:+0000
TZOFFSETTO:+0000
TZNAME:UTC
DTSTART:20200101T000000
END:STANDARD
END:VTIMEZONE
BEGIN:VEVENT
DTSTART;TZID=UTC:20210621T100000
DTEND;TZID=UTC:20210621T110000
DTSTAMP:20260422T023119
CREATED:20210602T211501Z
LAST-MODIFIED:20210602T211507Z
UID:2291-1624269600-1624273200@elderbridge.org
SUMMARY:
DESCRIPTION:ZOOM Link for Fresh Conversations June 21 at 10AM \n 
URL:https://elderbridge.org/events/2291/
ORGANIZER;CN="Sharla Kuyper":MAILTO:skuyper@elderbridge.org
END:VEVENT
BEGIN:VEVENT
DTSTART;TZID=UTC:20210616T133000
DTEND;TZID=UTC:20210616T143000
DTSTAMP:20260422T023119
CREATED:20210602T210937Z
LAST-MODIFIED:20220223T060334Z
UID:2288-1623850200-1623853800@elderbridge.org
SUMMARY:Fresh Conversations ZOOM Meeting June 16\, 2021  1:30PM - 2:30PM
DESCRIPTION:ZOOM Link for the June 16\, 2021 Fresh Conversations Meeting \nhttps://us02web.zoom.us/j/87538850323?pwd=SFJQOW85WjFZUDdSalRMd3VGanRBdz09 \n 
URL:https://elderbridge.org/events/fresh-conversations-zoom-meeting-june-16-2021-10am-11am/
ORGANIZER;CN="Sharla Kuyper":MAILTO:skuyper@elderbridge.org
END:VEVENT
END:VCALENDAR