BEGIN:VCALENDAR
VERSION:2.0
PRODID:-//Elderbridge Agency On Aging - ECPv6.15.20//NONSGML v1.0//EN
CALSCALE:GREGORIAN
METHOD:PUBLISH
X-WR-CALNAME:Elderbridge Agency On Aging
X-ORIGINAL-URL:https://elderbridge.org
X-WR-CALDESC:Events for Elderbridge Agency On Aging
REFRESH-INTERVAL;VALUE=DURATION:PT1H
X-Robots-Tag:noindex
X-PUBLISHED-TTL:PT1H
BEGIN:VTIMEZONE
TZID:UTC
BEGIN:STANDARD
TZOFFSETFROM:+0000
TZOFFSETTO:+0000
TZNAME:UTC
DTSTART:20210101T000000
END:STANDARD
END:VTIMEZONE
BEGIN:VEVENT
DTSTART;TZID=UTC:20220817T114500
DTEND;TZID=UTC:20220817T114500
DTSTAMP:20260421T204832
CREATED:20220804T092327Z
LAST-MODIFIED:20220805T062332Z
UID:6869-1660736700-1660736700@elderbridge.org
SUMMARY:Fresh Conversationsat Deercreek Apartments
DESCRIPTION:
URL:https://elderbridge.org/events/fresh-conversationsat-deercreek-apartments/
LOCATION:Deercreek Apts\, 700 S. 17th St.\, Fort Dodge\, IA
END:VEVENT
BEGIN:VEVENT
DTSTART;TZID=UTC:20220525T113000
DTEND;TZID=UTC:20220525T124500
DTSTAMP:20260421T204832
CREATED:20220503T225054Z
LAST-MODIFIED:20220503T225321Z
UID:6437-1653478200-1653482700@elderbridge.org
SUMMARY:Fort Dodge Citizens Central Fresh Conversation on May 25\, 2022 at 11:30 AM
DESCRIPTION:
URL:https://elderbridge.org/events/fort-dodge-citizens-central-fresh-conversation-on-may-25-2022-at-1130-am/
LOCATION:Fresh Conversations at Citizens Central in Fort Dodge\, 617 Central Ave\, Fort Dodge\, 50501\, United States
END:VEVENT
BEGIN:VEVENT
DTSTART;TZID=UTC:20220518T114500
DTEND;TZID=UTC:20220518T123000
DTSTAMP:20260421T204832
CREATED:20220503T225807Z
LAST-MODIFIED:20220503T225820Z
UID:6440-1652874300-1652877000@elderbridge.org
SUMMARY:Fort Dodge Deercreek Apartments Fresh Conversations on May 18\, 2022 at 11:45 AM to 12:30 PM
DESCRIPTION:
URL:https://elderbridge.org/events/fort-dodge-deercreek-apartments-fresh-conversations-on-may-18-2022-at-1145-am-to-1230-pm/
LOCATION:Fresh Conversations at Deercreek Apartments in Fort Dodge Iowa\, 700 South 17th Street\, Fort Dodge\, IA\, 50501\, United States
END:VEVENT
BEGIN:VEVENT
DTSTART;TZID=UTC:20220421T113000
DTEND;TZID=UTC:20220421T120000
DTSTAMP:20260421T204832
CREATED:20220401T002603Z
LAST-MODIFIED:20220401T002616Z
UID:6221-1650540600-1650542400@elderbridge.org
SUMMARY:Fresh Conversations at Citizens Central in Fort Dodge\, IA on April 21 at 11:30 AM
DESCRIPTION:
URL:https://elderbridge.org/events/fresh-conversations-at-citizens-central-in-fort-dodge-ia-on-april-21-at-1130-am/
LOCATION:Fresh Conversations at Citizens Central in Fort Dodge\, 617 Central Ave\, Fort Dodge\, 50501\, United States
END:VEVENT
BEGIN:VEVENT
DTSTART;TZID=UTC:20220420T114500
DTEND;TZID=UTC:20220420T120000
DTSTAMP:20260421T204832
CREATED:20220331T231926Z
LAST-MODIFIED:20220331T231926Z
UID:6194-1650455100-1650456000@elderbridge.org
SUMMARY:Fresh Conversations at Deercreek Apartments in Fort Dodge\, IA on April 20 at 11:45 AM
DESCRIPTION:
URL:https://elderbridge.org/events/fresh-conversations-at-deercreek-apartments-in-fort-dodge-ia-on-april-20-at-1145-am/
LOCATION:Fresh Conversations at Deercreek Apartments in Fort Dodge Iowa\, 700 South 17th Street\, Fort Dodge\, IA\, 50501\, United States
END:VEVENT
BEGIN:VEVENT
DTSTART;TZID=UTC:20220217T114500
DTEND;TZID=UTC:20220217T120000
DTSTAMP:20260421T204832
CREATED:20220202T004947Z
LAST-MODIFIED:20220223T052228Z
UID:5076-1645098300-1645099200@elderbridge.org
SUMMARY:Fresh Conversations at Deercreek Apartments\, 700 South 17th Street\, Fort Dodge\, IA on February 17 at 11:45 AM
DESCRIPTION:
URL:https://elderbridge.org/events/fresh-conversations-at-deercreek-apartments-700-south-17th-street-fort-dodge-ia/
LOCATION:Fresh Conversations at Deercreek Apartments in Fort Dodge Iowa\, 700 South 17th Street\, Fort Dodge\, IA\, 50501\, United States
END:VEVENT
BEGIN:VEVENT
DTSTART;TZID=UTC:20220119T114500
DTEND;TZID=UTC:20220119T123000
DTSTAMP:20260421T204832
CREATED:20220105T032614Z
LAST-MODIFIED:20220223T053957Z
UID:4630-1642592700-1642595400@elderbridge.org
SUMMARY:Fresh Conversations at Deercreek Apartments in Fort Dodge on January 19 at 11:45am
DESCRIPTION:
URL:https://elderbridge.org/events/fresh-conversations-at-deercreek-apartments-in-fort-dodge-on-january-19-at-1145am/
LOCATION:Fresh Conversations at Deercreek Apartments in Fort Dodge Iowa\, 700 South 17th Street\, Fort Dodge\, IA\, 50501\, United States
END:VEVENT
END:VCALENDAR