BEGIN:VCALENDAR
VERSION:2.0
PRODID:-//Elderbridge Agency On Aging - ECPv6.15.20//NONSGML v1.0//EN
CALSCALE:GREGORIAN
METHOD:PUBLISH
X-ORIGINAL-URL:https://elderbridge.org
X-WR-CALDESC:Events for Elderbridge Agency On Aging
REFRESH-INTERVAL;VALUE=DURATION:PT1H
X-Robots-Tag:noindex
X-PUBLISHED-TTL:PT1H
BEGIN:VTIMEZONE
TZID:UTC
BEGIN:STANDARD
TZOFFSETFROM:+0000
TZOFFSETTO:+0000
TZNAME:UTC
DTSTART:20210101T000000
END:STANDARD
END:VTIMEZONE
BEGIN:VEVENT
DTSTART;TZID=UTC:20230621T100000
DTEND;TZID=UTC:20230621T153000
DTSTAMP:20260422T033729
CREATED:20230429T000628Z
LAST-MODIFIED:20230429T001240Z
UID:8421-1687341600-1687361400@elderbridge.org
SUMMARY:Caregiver Appreciation Event Wednesday\, June 21\, 2023 at 10:00 AM to 3:30 PM at the Surf in Clear Lake\, Iowa
DESCRIPTION:  \n 
URL:https://elderbridge.org/events/8421/
LOCATION:Surf Ballroom\, 460 North South Shore\, Clear Lake\, IA\, 50428\, United States
ORGANIZER;CN="Emily Winker":MAILTO:ewinker@elderbridge.org
END:VEVENT
BEGIN:VEVENT
DTSTART;TZID=UTC:20230420T090000
DTEND;TZID=UTC:20230420T153000
DTSTAMP:20260422T033729
CREATED:20230308T190254Z
LAST-MODIFIED:20230329T145742Z
UID:8305-1681981200-1682004600@elderbridge.org
SUMMARY:Caregiver Conference at Clay County Regional Events Center on April 20th\, 2023 for Family Caregivers\, Professional Caregivers\, and Community Partners
DESCRIPTION:Family Caregivers are free to attend! \nFamily caregivers are spouses\, relatives\, friends\, or neighbors who provide assistance related to an individual with an underlying physical or mental disability for at-home care and assist in the activities of daily living (ADLs) that are unpaid. \nA recent study says that 26.5% of all American adults today are family caregivers. \n9:00 am -9:30 am – Registration\, Vendors\, light breakfast \n9:30 am -10:00 am – Introduction\, and Elderbridge Services \n10:00 am-12:00 pm – Ethan Huizenga \n“Substitute Decision Making in Iowa” \nDuring this workshop\, attendees will be educated on appointing substitute decision makers\, including guardians\, conservators\, and powers of attorney\, and the differences between each. \n12:00 pm-1:00 pm – Lunch \n1:00 pm-3:00 pm – Dr. James Coyle \n“Caring for the Caregiver” \nDuring this workshop\, we will define what Compassion Fatigue is\, identify the signs and symptoms of Compassion Fatigue\, and offer applicable ways to treat and manage Compassion Fatigue. \n  \nIf you are seeking CEUs for this event\, please contact Iowa Lake Community College with any questions or concerns: \nChantel Teeter – cteeter@iowalakes.edu \n  \nTo register for the event contact Emily Winker: \nPhone: 800-243-0678 \nEmail: ewinker@elderbridge.org \n  \nThe cost of attendance for Professional Caregivers and Community Partners is $25 per person (lunch included) Qualifications for CEUs require attendance for all sessions. \nCost of CEUs: Nursing and Social Workers: $12 / EMS: $30 Total CEUs available: 4 \nCommunity partners of Elderbridge are welcome to attend and have a table of information at the event. Please notify Elderbridge to reserve a table for your agency. \n  \n 
URL:https://elderbridge.org/events/caregiver-conference/
LOCATION:Clay County Regional Events Center\, 800 W. 18th Street\, Spencer\, IA\, 51333\, United States
ORGANIZER;CN="Emily Winker":MAILTO:ewinker@elderbridge.org
END:VEVENT
BEGIN:VEVENT
DTSTART;TZID=UTC:20220623T100000
DTEND;TZID=UTC:20220623T153000
DTSTAMP:20260422T033729
CREATED:20220503T033837Z
LAST-MODIFIED:20220503T033925Z
UID:6415-1655978400-1655998200@elderbridge.org
SUMMARY:Crawford County Caregiver Appreciation Event at Boulders Event Center in Denison on June 23. 2022\, at 10:00 AM to 3:30 PM
DESCRIPTION:
URL:https://elderbridge.org/events/crawford-county-caregiver-appreciation-event-at-boulders-event-center-in-denison-on-june-23-2022-at-1000-am-to-330-pm/
LOCATION:Boulders Event Center\, 2507 Boulder Drive\, Denison\, IA\, 51442\, United States
ORGANIZER;CN="Emily Winker":MAILTO:ewinker@elderbridge.org
END:VEVENT
BEGIN:VEVENT
DTSTART;TZID=UTC:20220623T100000
DTEND;TZID=UTC:20220623T150000
DTSTAMP:20260422T033729
CREATED:20220606T061838Z
LAST-MODIFIED:20220606T061852Z
UID:6590-1655978400-1655996400@elderbridge.org
SUMMARY:A Caregiver Appreciation Event at Boulders Event Center in Denison\, Iowa on June 23 from 10:00 AM - 3:30 PM
DESCRIPTION:
URL:https://elderbridge.org/events/a-caregiver-appreciation-event-at-boulders-event-center-in-denison-iowa-on-june-23-from-1000-am-330-pm/
LOCATION:Boulders Event Center\, 2507 Boulder Drive\, Denison\, IA\, 51442\, United States
ORGANIZER;CN="Emily Winker":MAILTO:ewinker@elderbridge.org
END:VEVENT
BEGIN:VEVENT
DTSTART;TZID=UTC:20220125T170000
DTEND;TZID=UTC:20220125T200000
DTSTAMP:20260422T033729
CREATED:20220105T035846Z
LAST-MODIFIED:20220223T053646Z
UID:4650-1643130000-1643140800@elderbridge.org
SUMMARY:Ready? Set\, Retire! January 18 and January 25 at 5pm to 8pm via ZOOM
DESCRIPTION:
URL:https://elderbridge.org/events/ready-set-retire-january-18-and-january-25-at-5pm-to-8pm-via-zoom-2/
LOCATION:ZOOM
ORGANIZER;CN="Thomasina Hegg":MAILTO:thegg@elderbridge.org
END:VEVENT
BEGIN:VEVENT
DTSTART;TZID=UTC:20220119T100000
DTEND;TZID=UTC:20220119T110000
DTSTAMP:20260422T033729
CREATED:20220106T214243Z
LAST-MODIFIED:20220223T054149Z
UID:4710-1642586400-1642590000@elderbridge.org
SUMMARY:Dementia Friends Iowa with Emily Winker on January 19th at 10AM Via ZOOM
DESCRIPTION:
URL:https://elderbridge.org/events/demtia-friends-iowa-with-emily-winker-on-january-19th-at-10am-via-zoom/
ORGANIZER;CN="Emily Winker":MAILTO:ewinker@elderbridge.org
END:VEVENT
END:VCALENDAR