BEGIN:VCALENDAR
VERSION:2.0
PRODID:-//Elderbridge Agency On Aging - ECPv6.15.20//NONSGML v1.0//EN
CALSCALE:GREGORIAN
METHOD:PUBLISH
X-WR-CALNAME:Elderbridge Agency On Aging
X-ORIGINAL-URL:https://elderbridge.org
X-WR-CALDESC:Events for Elderbridge Agency On Aging
REFRESH-INTERVAL;VALUE=DURATION:PT1H
X-Robots-Tag:noindex
X-PUBLISHED-TTL:PT1H
BEGIN:VTIMEZONE
TZID:UTC
BEGIN:STANDARD
TZOFFSETFROM:+0000
TZOFFSETTO:+0000
TZNAME:UTC
DTSTART:20210101T000000
END:STANDARD
END:VTIMEZONE
BEGIN:VEVENT
DTSTART;TZID=UTC:20230621T111500
DTEND;TZID=UTC:20230621T121500
DTSTAMP:20260421T185008
CREATED:20230530T235216Z
LAST-MODIFIED:20230530T235216Z
UID:8484-1687346100-1687349700@elderbridge.org
SUMMARY:Fresh Conversations at Northwood Senior Citizens Canter on June 21\, 2023 at 11:15 AM
DESCRIPTION:
URL:https://elderbridge.org/events/fresh-conversations-at-northwood-senior-citizens-canter-on-june-21-2023-at-1115-am/
LOCATION:Northwood Sr. Citizens Center\, 720 Central Ave.
END:VEVENT
BEGIN:VEVENT
DTSTART;TZID=UTC:20230613T111500
DTEND;TZID=UTC:20230613T121500
DTSTAMP:20260421T185008
CREATED:20230530T234026Z
LAST-MODIFIED:20230530T234310Z
UID:8477-1686654900-1686658500@elderbridge.org
SUMMARY:Fresh Conversations Manly Senior Citizens Center June 13\, 2023 at 11:12 AM
DESCRIPTION:
URL:https://elderbridge.org/events/fresh-conversations-manly-senior-citizens-center-june-13-2023-at-1112-am/
LOCATION:Fresh Conversations at Manly Senior Citizens Center\, 137 East Main Street\, Manly\, 50456\, United States
END:VEVENT
BEGIN:VEVENT
DTSTART;TZID=UTC:20230215T111500
DTEND;TZID=UTC:20230215T111500
DTSTAMP:20260421T185008
CREATED:20230202T093120Z
LAST-MODIFIED:20230202T182940Z
UID:8135-1676459700-1676459700@elderbridge.org
SUMMARY:Fresh Conversations at Northwood
DESCRIPTION:
URL:https://elderbridge.org/events/northwood-fc/
LOCATION:Northwood Sr. Citizens Center\, 720 Central Ave.
ATTACH;FMTTYPE=image/png:https://elderbridge.org/wp-content/uploads/2023/02/Northwood-FC.png
END:VEVENT
BEGIN:VEVENT
DTSTART;TZID=UTC:20230214T111500
DTEND;TZID=UTC:20230214T111500
DTSTAMP:20260421T185008
CREATED:20230202T091316Z
LAST-MODIFIED:20230202T182838Z
UID:8130-1676373300-1676373300@elderbridge.org
SUMMARY:Fresh Conversations at Manly
DESCRIPTION:
URL:https://elderbridge.org/events/manly-fc/
LOCATION:Manly Senior Citizens Center at 137 E. Main St.\, Manly
ATTACH;FMTTYPE=image/png:https://elderbridge.org/wp-content/uploads/2023/02/Manly-FC.png
END:VEVENT
BEGIN:VEVENT
DTSTART;TZID=UTC:20221011T111500
DTEND;TZID=UTC:20221011T111500
DTSTAMP:20260421T185008
CREATED:20221011T084443Z
LAST-MODIFIED:20221012T235942Z
UID:7786-1665486900-1665486900@elderbridge.org
SUMMARY:Fresh Conversations Manly
DESCRIPTION:Are you age 60 + and interested in learning about different nutrition topics in a small group setting? Then Fresh Conversations may be for you! Sessions run about 30 minutes.\nWhen and Where:   \nOct. 11th at 11:15 a.m.\nManly Senior Citizens Center at 137 E. Main St.\, Manly\nTopic:   “Breaking News: Eggs are Good for You” \nPresenter:  Amy Jones (641) 530-9244\nHope to see you there!
URL:https://elderbridge.org/events/manly/
LOCATION:Manly Senior Citizens Center at 137 E. Main St.\, Manly
END:VEVENT
END:VCALENDAR