BEGIN:VCALENDAR
VERSION:2.0
PRODID:-//Elderbridge Agency On Aging - ECPv6.15.20//NONSGML v1.0//EN
CALSCALE:GREGORIAN
METHOD:PUBLISH
X-WR-CALNAME:Elderbridge Agency On Aging
X-ORIGINAL-URL:https://elderbridge.org
X-WR-CALDESC:Events for Elderbridge Agency On Aging
REFRESH-INTERVAL;VALUE=DURATION:PT1H
X-Robots-Tag:noindex
X-PUBLISHED-TTL:PT1H
BEGIN:VTIMEZONE
TZID:UTC
BEGIN:STANDARD
TZOFFSETFROM:+0000
TZOFFSETTO:+0000
TZNAME:UTC
DTSTART:20210101T000000
END:STANDARD
END:VTIMEZONE
BEGIN:VEVENT
DTSTART;TZID=UTC:20221020T111000
DTEND;TZID=UTC:20221020T111000
DTSTAMP:20260422T001205
CREATED:20221011T080906Z
LAST-MODIFIED:20221013T000849Z
UID:7760-1666264200-1666264200@elderbridge.org
SUMMARY:Fresh Conversations Rockwell City
DESCRIPTION:  \n \nAre you age 60 + and interested in learning about different nutrition topics in a small group setting?  Then Fresh Conversations may be for you!  Sessions run about 30 minutes.\nWhen and Where:\nOct. 20\, 11:10 a.m. at the Rockwell City Senior Center\, 422 Main St\, Rockwell City\nTopic: “Breaking News: Eggs are Good for You”\nPresenter: Amber Snyder (800) 243-0678\nHope to see you there!
URL:https://elderbridge.org/events/rockwell-city/
LOCATION:Rockwell City Senior Center\, 422 Main St\, Rockwell City
END:VEVENT
END:VCALENDAR