BEGIN:VCALENDAR
VERSION:2.0
PRODID:-//Elderbridge Agency On Aging - ECPv6.15.20//NONSGML v1.0//EN
CALSCALE:GREGORIAN
METHOD:PUBLISH
X-ORIGINAL-URL:https://elderbridge.org
X-WR-CALDESC:Events for Elderbridge Agency On Aging
REFRESH-INTERVAL;VALUE=DURATION:PT1H
X-Robots-Tag:noindex
X-PUBLISHED-TTL:PT1H
BEGIN:VTIMEZONE
TZID:UTC
BEGIN:STANDARD
TZOFFSETFROM:+0000
TZOFFSETTO:+0000
TZNAME:UTC
DTSTART:20250101T000000
END:STANDARD
END:VTIMEZONE
BEGIN:VEVENT
DTSTART;TZID=UTC:20260515T123000
DTEND;TZID=UTC:20260515T163000
DTSTAMP:20260424T121506
CREATED:20260424T010400Z
LAST-MODIFIED:20260424T010538Z
UID:12097-1778848200-1778862600@elderbridge.org
SUMMARY:Healthy Steps for Older Adults on May15\, at Spencer Manor at 12:30 - 4:30PM
DESCRIPTION:
URL:https://elderbridge.org/events/healthy-steps-for-older-adults-on-may15-at-spencer-manor-at-1230-430pm/
END:VEVENT
END:VCALENDAR