BEGIN:VCALENDAR
VERSION:2.0
PRODID:-//Elderbridge Agency On Aging - ECPv6.15.20//NONSGML v1.0//EN
CALSCALE:GREGORIAN
METHOD:PUBLISH
X-ORIGINAL-URL:https://elderbridge.org
X-WR-CALDESC:Events for Elderbridge Agency On Aging
REFRESH-INTERVAL;VALUE=DURATION:PT1H
X-Robots-Tag:noindex
X-PUBLISHED-TTL:PT1H
BEGIN:VTIMEZONE
TZID:UTC
BEGIN:STANDARD
TZOFFSETFROM:+0000
TZOFFSETTO:+0000
TZNAME:UTC
DTSTART:20250101T000000
END:STANDARD
END:VTIMEZONE
BEGIN:VEVENT
DTSTART;TZID=UTC:20260507T123000
DTEND;TZID=UTC:20260507T163000
DTSTAMP:20260424T103206
CREATED:20260424T010946Z
LAST-MODIFIED:20260424T010946Z
UID:12101-1778157000-1778171400@elderbridge.org
SUMMARY:Healthy Steps for Older Adults on May 7\, at the Peterson Senior Center fom 12:30 PM to 4:30 PM
DESCRIPTION:
URL:https://elderbridge.org/events/healthy-steps-for-older-adults-on-may-7-at-the-peterson-senior-center-fom-1230-pm-to-430-pm/
END:VEVENT
END:VCALENDAR