BEGIN:VCALENDAR
VERSION:2.0
PRODID:-//Elderbridge Agency On Aging - ECPv6.15.20//NONSGML v1.0//EN
CALSCALE:GREGORIAN
METHOD:PUBLISH
X-WR-CALNAME:Elderbridge Agency On Aging
X-ORIGINAL-URL:https://elderbridge.org
X-WR-CALDESC:Events for Elderbridge Agency On Aging
REFRESH-INTERVAL;VALUE=DURATION:PT1H
X-Robots-Tag:noindex
X-PUBLISHED-TTL:PT1H
BEGIN:VTIMEZONE
TZID:UTC
BEGIN:STANDARD
TZOFFSETFROM:+0000
TZOFFSETTO:+0000
TZNAME:UTC
DTSTART:20240101T000000
END:STANDARD
END:VTIMEZONE
BEGIN:VEVENT
DTSTART;TZID=UTC:20250225T123000
DTEND;TZID=UTC:20250225T130000
DTSTAMP:20260422T011259
CREATED:20250203T234555Z
LAST-MODIFIED:20250203T234614Z
UID:10858-1740486600-1740488400@elderbridge.org
SUMMARY:Fresh Conversations at the Lakes Area Senior Center in Spirit Lake on Tuesday\, February 25 at 12:30 PM
DESCRIPTION:
URL:https://elderbridge.org/events/fresh-conversations-at-the-lakes-area-senior-center-in-spirit-lake-on-tuesday-february-25-at-1230-pm/
END:VEVENT
BEGIN:VEVENT
DTSTART;TZID=UTC:20250226T093000
DTEND;TZID=UTC:20250226T103000
DTSTAMP:20260422T011259
CREATED:20250124T022139Z
LAST-MODIFIED:20250124T023100Z
UID:10835-1740562200-1740565800@elderbridge.org
SUMMARY:Elderbridge Agency on Aging in Fort Dodge and on ZOOM is having a Public Hearing Agenda for Area Plan FY 2026 - 2029 on February 26\, 2025
DESCRIPTION:Elderbridge Agency on Aging\nArea Plan FY 2026 -2029\nDate: Wednesday\, February 26\, 2025\nTime: 9:30 am\nLocation: Elderbridge Agency on Aging\n308 Central Ave.\nFort Dodge\, IA 50501\nJoin Zoom MeetingVirtually\nhttps://us02web.zoom.us/j/85338535638?pwd=kqCneQsl3NvE7MSdZLdzJioGVzIEzE.1\nDial by your location\n• +1 301 715 8592 US (Washington DC)\n• +1 305 224 1968 US\nMeeting ID: 853 3853 5638 Passcode: 814992 \n9:30 am Welcome/Introductions\n Purpose of Hearing\n Review of Mandatory Services\n Review of Priority Services\n Presentation of the Area Plan for Fiscal Years 2026 -2029. \n 
URL:https://elderbridge.org/events/elderbridge-agency-on-aging-public-hearing-agenda-for-area-plan-fy-2026-2029-on-february-26-2025/
LOCATION:Elderbridge Agency on Aging  Fort Dodge\, 308 Central Avenue\, Fort Dodge\, IA\, 50501\, United States
END:VEVENT
END:VCALENDAR