BEGIN:VCALENDAR
VERSION:2.0
PRODID:-//Elderbridge Agency On Aging - ECPv6.15.20//NONSGML v1.0//EN
CALSCALE:GREGORIAN
METHOD:PUBLISH
X-ORIGINAL-URL:https://elderbridge.org
X-WR-CALDESC:Events for Elderbridge Agency On Aging
REFRESH-INTERVAL;VALUE=DURATION:PT1H
X-Robots-Tag:noindex
X-PUBLISHED-TTL:PT1H
BEGIN:VTIMEZONE
TZID:UTC
BEGIN:STANDARD
TZOFFSETFROM:+0000
TZOFFSETTO:+0000
TZNAME:UTC
DTSTART:20240101T000000
END:STANDARD
END:VTIMEZONE
BEGIN:VEVENT
DTSTART;TZID=UTC:20250218T100000
DTEND;TZID=UTC:20250218T110000
DTSTAMP:20260422T065750
CREATED:20230203T011921Z
LAST-MODIFIED:20250122T002528Z
UID:8239-1739872800-1739876400@elderbridge.org
SUMMARY:Virtual Caregiver Support Group 3rd Tuesday of Every Month
DESCRIPTION:
URL:https://elderbridge.org/events/virtual-caregiver-support-group-3rd-thursday-of-every-month/2025-02-18/
END:VEVENT
BEGIN:VEVENT
DTSTART;TZID=UTC:20250218T121500
DTEND;TZID=UTC:20250218T124500
DTSTAMP:20260422T065750
CREATED:20250204T000343Z
LAST-MODIFIED:20250204T000404Z
UID:10860-1739880900-1739882700@elderbridge.org
SUMMARY:Fresh Conversations at the Northwood Senior Center on Tuesday\, February 18 at 12:15 PM
DESCRIPTION:
URL:https://elderbridge.org/events/fresh-conversations-at-the-northwood-senior-center-on-tuesday-february-18-at-1215-pm/
END:VEVENT
BEGIN:VEVENT
DTSTART;TZID=UTC:20250219T114500
DTEND;TZID=UTC:20250219T121500
DTSTAMP:20260422T065750
CREATED:20250204T001048Z
LAST-MODIFIED:20250204T001048Z
UID:10864-1739965500-1739967300@elderbridge.org
SUMMARY:Fresh Conversations at Deercreek Apartments in Fort Dodge on Wednesday\, February 19 at 11:45 AM
DESCRIPTION:
URL:https://elderbridge.org/events/fresh-conversations-at-deercreek-apartments-in-fort-dodge-on-wednesday-february-19-at-1145-am/
END:VEVENT
BEGIN:VEVENT
DTSTART;TZID=UTC:20250219T121500
DTEND;TZID=UTC:20250219T124500
DTSTAMP:20260422T065750
CREATED:20250204T002555Z
LAST-MODIFIED:20250204T002635Z
UID:10867-1739967300-1739969100@elderbridge.org
SUMMARY:Fresh Conversations at the Webster City Senior Center on Wednesday\, February 19 at 12:15 PM
DESCRIPTION:
URL:https://elderbridge.org/events/fresh-conversations-at-the-webster-city-senior-center-on-wednesday-february-19-at-1215-pm/
END:VEVENT
BEGIN:VEVENT
DTSTART;TZID=UTC:20250219T150000
DTEND;TZID=UTC:20250219T160000
DTSTAMP:20260422T065750
CREATED:20230204T005903Z
LAST-MODIFIED:20230204T005903Z
UID:8238-1739977200-1739980800@elderbridge.org
SUMMARY:Webster County Caregiver Support Group 3rd Wednesday of Every Month
DESCRIPTION:
URL:https://elderbridge.org/events/webster-county-caregiver-support-group-3rd-wednesday-of-every-month/2025-02-19/
END:VEVENT
END:VCALENDAR