BEGIN:VCALENDAR
VERSION:2.0
PRODID:-//Elderbridge Agency On Aging - ECPv6.15.20//NONSGML v1.0//EN
CALSCALE:GREGORIAN
METHOD:PUBLISH
X-WR-CALNAME:Elderbridge Agency On Aging
X-ORIGINAL-URL:https://elderbridge.org
X-WR-CALDESC:Events for Elderbridge Agency On Aging
REFRESH-INTERVAL;VALUE=DURATION:PT1H
X-Robots-Tag:noindex
X-PUBLISHED-TTL:PT1H
BEGIN:VTIMEZONE
TZID:UTC
BEGIN:STANDARD
TZOFFSETFROM:+0000
TZOFFSETTO:+0000
TZNAME:UTC
DTSTART:20230101T000000
END:STANDARD
END:VTIMEZONE
BEGIN:VEVENT
DTSTART;TZID=UTC:20240709T123000
DTEND;TZID=UTC:20240709T130000
DTSTAMP:20260421T113742
CREATED:20240627T232340Z
LAST-MODIFIED:20240627T232340Z
UID:10272-1720528200-1720530000@elderbridge.org
SUMMARY:Fresh Conversations at the Manly Senior Center in Manly on July 9 at 12:30 PM
DESCRIPTION:
URL:https://elderbridge.org/events/fresh-conversations-at-the-manly-senior-center-in-manly-on-july-9-at-1230-pm/
END:VEVENT
BEGIN:VEVENT
DTSTART;TZID=UTC:20240710T110000
DTEND;TZID=UTC:20240710T110000
DTSTAMP:20260421T113742
CREATED:20240629T111638Z
LAST-MODIFIED:20240629T111723Z
UID:10299-1720609200-1720609200@elderbridge.org
SUMMARY:Fresh Conversations at Charles City Senior Center 900 Hulin Ave on July 10 at 11:00 AM
DESCRIPTION:
URL:https://elderbridge.org/events/fresh-conversations-at-charles-city-senior-center-900-hulin-ave-on-july-10-at-1100-am/
END:VEVENT
BEGIN:VEVENT
DTSTART;TZID=UTC:20240710T110000
DTEND;TZID=UTC:20240710T233000
DTSTAMP:20260421T113742
CREATED:20240627T231358Z
LAST-MODIFIED:20240627T231503Z
UID:10262-1720609200-1720654200@elderbridge.org
SUMMARY:Fresh Conversations Charles City at Charles City Senior Center at 11:00 AM on July 11
DESCRIPTION:
URL:https://elderbridge.org/events/fresh-conversations-charles-city-at-charles-city-senior-center-at-1100-am/
END:VEVENT
END:VCALENDAR