BEGIN:VCALENDAR
VERSION:2.0
PRODID:-//Elderbridge Agency On Aging - ECPv6.15.20//NONSGML v1.0//EN
CALSCALE:GREGORIAN
METHOD:PUBLISH
X-WR-CALNAME:Elderbridge Agency On Aging
X-ORIGINAL-URL:https://elderbridge.org
X-WR-CALDESC:Events for Elderbridge Agency On Aging
REFRESH-INTERVAL;VALUE=DURATION:PT1H
X-Robots-Tag:noindex
X-PUBLISHED-TTL:PT1H
BEGIN:VTIMEZONE
TZID:UTC
BEGIN:STANDARD
TZOFFSETFROM:+0000
TZOFFSETTO:+0000
TZNAME:UTC
DTSTART:20230101T000000
END:STANDARD
END:VTIMEZONE
BEGIN:VEVENT
DTSTART;TZID=UTC:20240625T123000
DTEND;TZID=UTC:20240625T130000
DTSTAMP:20260421T150827
CREATED:20240522T022958Z
LAST-MODIFIED:20240522T023009Z
UID:10094-1719318600-1719320400@elderbridge.org
SUMMARY:Fresh Conversations at the Lakes Area Senior Center on Tuesday\, June 25 at 12:30 PM
DESCRIPTION:
URL:https://elderbridge.org/events/fresh-conversations-at-the-lakes-area-senior-center-on-tuesday-june-25-at-1230-pm/
END:VEVENT
BEGIN:VEVENT
DTSTART;TZID=UTC:20240627T110000
DTEND;TZID=UTC:20240627T113000
DTSTAMP:20260421T150827
CREATED:20240522T023146Z
LAST-MODIFIED:20240522T023155Z
UID:10097-1719486000-1719487800@elderbridge.org
SUMMARY:Fresh Conversations at Athen Woods Estates in Stratford on Thursday\, June 27 at 11:00 AM
DESCRIPTION:
URL:https://elderbridge.org/events/fresh-conversations-at-athen-woods-estates-in-stratford-on-thursday-june-27-at-1100-am/
END:VEVENT
END:VCALENDAR