BEGIN:VCALENDAR
VERSION:2.0
PRODID:-//Elderbridge Agency On Aging - ECPv6.15.20//NONSGML v1.0//EN
CALSCALE:GREGORIAN
METHOD:PUBLISH
X-ORIGINAL-URL:https://elderbridge.org
X-WR-CALDESC:Events for Elderbridge Agency On Aging
REFRESH-INTERVAL;VALUE=DURATION:PT1H
X-Robots-Tag:noindex
X-PUBLISHED-TTL:PT1H
BEGIN:VTIMEZONE
TZID:UTC
BEGIN:STANDARD
TZOFFSETFROM:+0000
TZOFFSETTO:+0000
TZNAME:UTC
DTSTART:20230101T000000
END:STANDARD
END:VTIMEZONE
BEGIN:VEVENT
DTSTART;TZID=UTC:20240618T121500
DTEND;TZID=UTC:20240618T124500
DTSTAMP:20260421T183137
CREATED:20240522T022741Z
LAST-MODIFIED:20240522T022752Z
UID:10091-1718712900-1718714700@elderbridge.org
SUMMARY:Fresh Conversations at the Northwood Senior center on Tuesday\, June 18 at 12:15 AM
DESCRIPTION:
URL:https://elderbridge.org/events/fresh-conversations-at-the-northwood-senior-center-on-tuesday-june-18-at-1215-am/
END:VEVENT
BEGIN:VEVENT
DTSTART;TZID=UTC:20240619T114500
DTEND;TZID=UTC:20240619T121500
DTSTAMP:20260421T183137
CREATED:20240522T021649Z
LAST-MODIFIED:20240522T021658Z
UID:10082-1718797500-1718799300@elderbridge.org
SUMMARY:Fresh Conversations at Deercreek Apartments in Fort Dodge on Wednesday\, June 19 at 11:45 AM
DESCRIPTION:
URL:https://elderbridge.org/events/fresh-conversations-at-deercreek-apartments-in-fort-dodge-on-wednesday-june-19-at-1145-am/
END:VEVENT
BEGIN:VEVENT
DTSTART;TZID=UTC:20240619T150000
DTEND;TZID=UTC:20240619T160000
DTSTAMP:20260421T183137
CREATED:20230204T005903Z
LAST-MODIFIED:20230204T005903Z
UID:8219-1718809200-1718812800@elderbridge.org
SUMMARY:Webster County Caregiver Support Group 3rd Wednesday of Every Month
DESCRIPTION:
URL:https://elderbridge.org/events/webster-county-caregiver-support-group-3rd-wednesday-of-every-month/2024-06-19/
END:VEVENT
BEGIN:VEVENT
DTSTART;TZID=UTC:20240620T100000
DTEND;TZID=UTC:20240620T110000
DTSTAMP:20260421T183137
CREATED:20230203T011921Z
LAST-MODIFIED:20231130T172138Z
UID:9184-1718877600-1718881200@elderbridge.org
SUMMARY:Virtual Caregiver Support Group 3rd Thursday of Every Month
DESCRIPTION:
URL:https://elderbridge.org/events/virtual-caregiver-support-group-3rd-thursday-of-every-month/2024-06-20/
END:VEVENT
BEGIN:VEVENT
DTSTART;TZID=UTC:20240620T113000
DTEND;TZID=UTC:20240620T120000
DTSTAMP:20260421T183137
CREATED:20240522T021943Z
LAST-MODIFIED:20240522T021954Z
UID:10085-1718883000-1718884800@elderbridge.org
SUMMARY:Fresh Conversations at the Eagle Grove Senior Center on Thursday\, June 20 at 11:30 AM
DESCRIPTION:
URL:https://elderbridge.org/events/fresh-conversations-at-the-eagle-grove-senior-center-on-thursday-june-20-at-1130-am/
END:VEVENT
END:VCALENDAR