BEGIN:VCALENDAR
VERSION:2.0
PRODID:-//Elderbridge Agency On Aging - ECPv6.15.20//NONSGML v1.0//EN
CALSCALE:GREGORIAN
METHOD:PUBLISH
X-ORIGINAL-URL:https://elderbridge.org
X-WR-CALDESC:Events for Elderbridge Agency On Aging
REFRESH-INTERVAL;VALUE=DURATION:PT1H
X-Robots-Tag:noindex
X-PUBLISHED-TTL:PT1H
BEGIN:VTIMEZONE
TZID:UTC
BEGIN:STANDARD
TZOFFSETFROM:+0000
TZOFFSETTO:+0000
TZNAME:UTC
DTSTART:20230101T000000
END:STANDARD
END:VTIMEZONE
BEGIN:VEVENT
DTSTART;TZID=UTC:20240130T123000
DTEND;TZID=UTC:20240130T130000
DTSTAMP:20260422T221239
CREATED:20231222T210136Z
LAST-MODIFIED:20231222T210239Z
UID:9458-1706617800-1706619600@elderbridge.org
SUMMARY:Words on Wellness at the Hawarden Senior Center on January 30 at 12:30
DESCRIPTION:
URL:https://elderbridge.org/events/words-on-wellness-at-the-hawarden-senior-center-on-january-30-at-1230/
END:VEVENT
BEGIN:VEVENT
DTSTART;TZID=UTC:20240201T120000
DTEND;TZID=UTC:20240201T123000
DTSTAMP:20260422T221239
CREATED:20240125T014157Z
LAST-MODIFIED:20240125T014157Z
UID:9644-1706788800-1706790600@elderbridge.org
SUMMARY:Words on Wellness at the Lake Park Senior Center on February 1\, at 12:00PM
DESCRIPTION:
URL:https://elderbridge.org/events/words-on-wellness-at-the-lake-park-senior-center-on-february-1-at-1200pm/
END:VEVENT
BEGIN:VEVENT
DTSTART;TZID=UTC:20240202T113000
DTEND;TZID=UTC:20240202T120000
DTSTAMP:20260422T221239
CREATED:20240125T014527Z
LAST-MODIFIED:20240125T014536Z
UID:9647-1706873400-1706875200@elderbridge.org
SUMMARY:Word on Wellness at the Sibley Senior Center on February 2 at 11:30AM
DESCRIPTION:
URL:https://elderbridge.org/events/word-on-wellness-at-the-sibley-senior-center-on-february-2-at-1130am/
END:VEVENT
END:VCALENDAR