BEGIN:VCALENDAR
VERSION:2.0
PRODID:-//Elderbridge Agency On Aging - ECPv6.15.20//NONSGML v1.0//EN
CALSCALE:GREGORIAN
METHOD:PUBLISH
X-ORIGINAL-URL:https://elderbridge.org
X-WR-CALDESC:Events for Elderbridge Agency On Aging
REFRESH-INTERVAL;VALUE=DURATION:PT1H
X-Robots-Tag:noindex
X-PUBLISHED-TTL:PT1H
BEGIN:VTIMEZONE
TZID:UTC
BEGIN:STANDARD
TZOFFSETFROM:+0000
TZOFFSETTO:+0000
TZNAME:UTC
DTSTART:20230101T000000
END:STANDARD
END:VTIMEZONE
BEGIN:VEVENT
DTSTART;TZID=UTC:20240116T001500
DTEND;TZID=UTC:20240116T131500
DTSTAMP:20260423T044030
CREATED:20231220T003523Z
LAST-MODIFIED:20231220T003523Z
UID:9419-1705364100-1705410900@elderbridge.org
SUMMARY:Fresh Conversations at Northwood Senior Center 720 Central Ave on January 16th at 12:15
DESCRIPTION:
URL:https://elderbridge.org/events/fresh-conversations-at-northwood-senior-center-720-central-ave-on-january-16th-at-1215/
END:VEVENT
BEGIN:VEVENT
DTSTART;TZID=UTC:20240117T113000
DTEND;TZID=UTC:20240117T123000
DTSTAMP:20260423T044030
CREATED:20231220T002014Z
LAST-MODIFIED:20231220T002427Z
UID:9402-1705491000-1705494600@elderbridge.org
SUMMARY:Fresh Conversations at Rockford Comm Center 206 West Main Ave on January 17th at 11:30 AM
DESCRIPTION:
URL:https://elderbridge.org/events/fresh-conversations-at-rockford-comm-center-206-west-main-ave-on-january-17th-at-1130-am/
END:VEVENT
BEGIN:VEVENT
DTSTART;TZID=UTC:20240117T114500
DTEND;TZID=UTC:20240117T124500
DTSTAMP:20260423T044030
CREATED:20231220T004144Z
LAST-MODIFIED:20231220T004144Z
UID:9424-1705491900-1705495500@elderbridge.org
SUMMARY:Fresh Conversations at Deercreek Apts 700 So 17th St. Fort Dodge on January 17th at 11:45 AM
DESCRIPTION:
URL:https://elderbridge.org/events/fresh-conversations-at-deercreek-apts-700-so-17th-st-fort-dodge-on-january-17th-at-1145-am/
END:VEVENT
BEGIN:VEVENT
DTSTART;TZID=UTC:20240118T110000
DTEND;TZID=UTC:20240118T120000
DTSTAMP:20260423T044030
CREATED:20231220T004920Z
LAST-MODIFIED:20231220T004920Z
UID:9430-1705575600-1705579200@elderbridge.org
SUMMARY:Fresh Conversations at Eagle Grove Senior Center 401 W Broadway on January 18th at 11:00 AM
DESCRIPTION:
URL:https://elderbridge.org/events/fresh-conversations-at-eagle-grove-senior-center-401-w-broadway-on-january-18th-at-1100-am/
END:VEVENT
BEGIN:VEVENT
DTSTART;TZID=UTC:20240119T130000
DTEND;TZID=UTC:20240119T140000
DTSTAMP:20260423T044030
CREATED:20231220T003114Z
LAST-MODIFIED:20231227T223418Z
UID:9416-1705669200-1705672800@elderbridge.org
SUMMARY:Fresh Conversations at Cedar Valley Seminary 200 N. 7th Street in Osage on January 19th at Noon
DESCRIPTION:
URL:https://elderbridge.org/events/fresh-conversations-at-osage-senior-center-615-state-street-on-january-19th-at-noon/
END:VEVENT
END:VCALENDAR