BEGIN:VCALENDAR
VERSION:2.0
PRODID:-//Elderbridge Agency On Aging - ECPv6.15.20//NONSGML v1.0//EN
CALSCALE:GREGORIAN
METHOD:PUBLISH
X-WR-CALNAME:Elderbridge Agency On Aging
X-ORIGINAL-URL:https://elderbridge.org
X-WR-CALDESC:Events for Elderbridge Agency On Aging
REFRESH-INTERVAL;VALUE=DURATION:PT1H
X-Robots-Tag:noindex
X-PUBLISHED-TTL:PT1H
BEGIN:VTIMEZONE
TZID:UTC
BEGIN:STANDARD
TZOFFSETFROM:+0000
TZOFFSETTO:+0000
TZNAME:UTC
DTSTART:20220101T000000
END:STANDARD
END:VTIMEZONE
BEGIN:VEVENT
DTSTART;TZID=UTC:20231114T123000
DTEND;TZID=UTC:20231114T130000
DTSTAMP:20260423T183833
CREATED:20231030T005151Z
LAST-MODIFIED:20231030T005211Z
UID:9095-1699965000-1699966800@elderbridge.org
SUMMARY:Fresh Conversations at Manly Senior Center on November 14 at 12:30 PM
DESCRIPTION:
URL:https://elderbridge.org/events/fresh-conversations-at-manly-senior-center-on-november-14-at-1230-pm/
END:VEVENT
BEGIN:VEVENT
DTSTART;TZID=UTC:20231115T113000
DTEND;TZID=UTC:20231115T120000
DTSTAMP:20260423T183833
CREATED:20231030T004907Z
LAST-MODIFIED:20231030T004925Z
UID:9092-1700047800-1700049600@elderbridge.org
SUMMARY:Fresh Conversations at Deercreek Apartments in Fort Dodge on November 15 at 11:30 AM
DESCRIPTION:
URL:https://elderbridge.org/events/fresh-conversations-at-deercreek-apartments-in-fort-dodge-on-november-15-at-1130-am/
END:VEVENT
BEGIN:VEVENT
DTSTART;TZID=UTC:20231115T113000
DTEND;TZID=UTC:20231115T120000
DTSTAMP:20260423T183833
CREATED:20231030T011545Z
LAST-MODIFIED:20231030T011545Z
UID:9104-1700047800-1700049600@elderbridge.org
SUMMARY:Fresh Conversations at Rockford Community Center on November 15 at 11:30 AM
DESCRIPTION:
URL:https://elderbridge.org/events/fresh-conversations-at-rockford-community-center-on-november-15-at-1130-am/
END:VEVENT
BEGIN:VEVENT
DTSTART;TZID=UTC:20231117T120000
DTEND;TZID=UTC:20231117T123000
DTSTAMP:20260423T183833
CREATED:20231030T011214Z
LAST-MODIFIED:20231030T011214Z
UID:9101-1700222400-1700224200@elderbridge.org
SUMMARY:Fresh Conversations at Osage Senior Center on November 17 at 12:00 PM
DESCRIPTION:
URL:https://elderbridge.org/events/fresh-conversations-at-osage-senior-center-on-november-17-at-1200-pm/
END:VEVENT
END:VCALENDAR