BEGIN:VCALENDAR
VERSION:2.0
PRODID:-//Elderbridge Agency On Aging - ECPv6.15.20//NONSGML v1.0//EN
CALSCALE:GREGORIAN
METHOD:PUBLISH
X-WR-CALNAME:Elderbridge Agency On Aging
X-ORIGINAL-URL:https://elderbridge.org
X-WR-CALDESC:Events for Elderbridge Agency On Aging
REFRESH-INTERVAL;VALUE=DURATION:PT1H
X-Robots-Tag:noindex
X-PUBLISHED-TTL:PT1H
BEGIN:VTIMEZONE
TZID:UTC
BEGIN:STANDARD
TZOFFSETFROM:+0000
TZOFFSETTO:+0000
TZNAME:UTC
DTSTART:20220101T000000
END:STANDARD
END:VTIMEZONE
BEGIN:VEVENT
DTSTART;TZID=UTC:20231017T121500
DTEND;TZID=UTC:20231017T124500
DTSTAMP:20260423T232814
CREATED:20231003T230446Z
LAST-MODIFIED:20231015T231112Z
UID:9011-1697544900-1697546700@elderbridge.org
SUMMARY:Fresh Conversations at Northwood
DESCRIPTION:
URL:https://elderbridge.org/events/fresh-conversations-at-northwood/
END:VEVENT
BEGIN:VEVENT
DTSTART;TZID=UTC:20231018T113000
DTEND;TZID=UTC:20231018T120000
DTSTAMP:20260423T232814
CREATED:20231015T232743Z
LAST-MODIFIED:20231015T232754Z
UID:9028-1697628600-1697630400@elderbridge.org
SUMMARY:Fresh Conversations at Rockford
DESCRIPTION:
URL:https://elderbridge.org/events/fresh-conversations-at-rockford-2/
END:VEVENT
BEGIN:VEVENT
DTSTART;TZID=UTC:20231019T113000
DTEND;TZID=UTC:20231019T120000
DTSTAMP:20260423T232814
CREATED:20231015T225557Z
LAST-MODIFIED:20231015T225639Z
UID:9003-1697715000-1697716800@elderbridge.org
SUMMARY:Fresh Conversations in Eagle Grove
DESCRIPTION:
URL:https://elderbridge.org/events/fresh-conversations-in-eagle-grove/
END:VEVENT
BEGIN:VEVENT
DTSTART;TZID=UTC:20231020T090000
DTEND;TZID=UTC:20231020T230000
DTSTAMP:20260423T232814
CREATED:20231005T183112Z
LAST-MODIFIED:20231005T183158Z
UID:8917-1697792400-1697842800@elderbridge.org
SUMMARY:Elderbridge Agency on Aging and Cerro Gordo Public Health Vaccine Clinic at Rockwell City Hall\, Rockwell\, IA on October 20\, 2023
DESCRIPTION:  \nFlu Vaccine 6 months and older -$40 \nHigh Dose Flu Vaccine 65 & Older -$78 \nUpdated COVID-19 boosters\, if available. \nWe accept most major insurance. Please bring your insurance card with you. \n 
URL:https://elderbridge.org/events/elderbridge-agency-on-aging-and-cerro-gordo-public-health-vaccine-clinic-at-rockwell-city-hall-rockwell-ia-on-october-20-2023/
END:VEVENT
END:VCALENDAR