BEGIN:VCALENDAR
VERSION:2.0
PRODID:-//Elderbridge Agency On Aging - ECPv6.15.20//NONSGML v1.0//EN
CALSCALE:GREGORIAN
METHOD:PUBLISH
X-WR-CALNAME:Elderbridge Agency On Aging
X-ORIGINAL-URL:https://elderbridge.org
X-WR-CALDESC:Events for Elderbridge Agency On Aging
REFRESH-INTERVAL;VALUE=DURATION:PT1H
X-Robots-Tag:noindex
X-PUBLISHED-TTL:PT1H
BEGIN:VTIMEZONE
TZID:UTC
BEGIN:STANDARD
TZOFFSETFROM:+0000
TZOFFSETTO:+0000
TZNAME:UTC
DTSTART:20250101T000000
END:STANDARD
END:VTIMEZONE
BEGIN:VEVENT
DTSTART;TZID=UTC:20260310T123000
DTEND;TZID=UTC:20260310T130000
DTSTAMP:20260424T094700
CREATED:20260303T153528Z
LAST-MODIFIED:20260303T183013Z
UID:11919-1773145800-1773147600@elderbridge.org
SUMMARY:Fresh Conversations in Manly on March 10 at 12:30 PM
DESCRIPTION:
URL:https://elderbridge.org/events/fresh-conversations-in-manly-on-march-10-at-1230-pm/
END:VEVENT
BEGIN:VEVENT
DTSTART;TZID=UTC:20260311T110000
DTEND;TZID=UTC:20260311T113000
DTSTAMP:20260424T094700
CREATED:20260303T152910Z
LAST-MODIFIED:20260303T152938Z
UID:11913-1773226800-1773228600@elderbridge.org
SUMMARY:Fresh Conversations in Charles City on March 11 at 11:00 AM
DESCRIPTION:
URL:https://elderbridge.org/events/fresh-conversations-in-charles-city-on-march-11-at-1100-am/
END:VEVENT
BEGIN:VEVENT
DTSTART;TZID=UTC:20260317T103000
DTEND;TZID=UTC:20260317T113000
DTSTAMP:20260424T094700
CREATED:20260306T053826Z
LAST-MODIFIED:20260306T053826Z
UID:12006-1773743400-1773747000@elderbridge.org
SUMMARY:Virtual Caregiver Support Group on every Tuesday of the Month via Teams at 10:30 Am to 11:30 AM
DESCRIPTION:
URL:https://elderbridge.org/events/virtual-caregiver-support-group-on-every-tuesday-of-the-month-via-teams-at-1030-am-to-1130-am/2026-03-17/
END:VEVENT
BEGIN:VEVENT
DTSTART;TZID=UTC:20260317T121500
DTEND;TZID=UTC:20260317T124500
DTSTAMP:20260424T094700
CREATED:20260303T183248Z
LAST-MODIFIED:20260303T183248Z
UID:11922-1773749700-1773751500@elderbridge.org
SUMMARY:Fresh Conversations in Northwood on March 17 at 12:15PM
DESCRIPTION:
URL:https://elderbridge.org/events/fresh-conversations-in-northwood-on-march-17-at-1215pm/
END:VEVENT
BEGIN:VEVENT
DTSTART;TZID=UTC:20260318T111500
DTEND;TZID=UTC:20260318T114500
DTSTAMP:20260424T094700
CREATED:20260303T153234Z
LAST-MODIFIED:20260303T153234Z
UID:11916-1773832500-1773834300@elderbridge.org
SUMMARY:Fresh Conversations in Fort Dodge on March 18 at 11:15 AM
DESCRIPTION:
URL:https://elderbridge.org/events/fresh-conversations-in-fort-dodge-on-march-18-at-1115-am/
END:VEVENT
BEGIN:VEVENT
DTSTART;TZID=UTC:20260322T080000
DTEND;TZID=UTC:20260329T200000
DTSTAMP:20260424T094700
CREATED:20260205T154257Z
LAST-MODIFIED:20260205T160618Z
UID:11789-1774166400-1774814400@elderbridge.org
SUMMARY:Elderbridge is Hosting an Annual Virtual Online Fundraiser- "Slam Dunk" Against Hunger on March 22\, 2026 and end on March 29\, 2026
DESCRIPTION:Elderbridge is hosting an annual online Fundraiser\, “Slam Dunk” Against Hunger. Bidding will begin on March 22\, 2026 and end on March 29\, 2026.\nDue to the increasing need for congregate and home-delivered meals\, and stagnant funding streams\, we are fundraising to help meet service gaps for our distinguished older Iowans and their caregivers.\n  \nMalnutrition in older Iowans is increasing in prevalence. This is your opportunity to make a difference\, for every $10.00 donated an individual will receive a meal.\n  \nThis fundraising event will impact the individuals that we serve and the funds raised will be utilized for:\n-Home-delivered meals\n-Congregate meals\n-Emergency meals\n\nPlease help us with this endeavor through your donations. See the opportunities by clicking this link: https://www.32auctions.com/elderbridgenutrition2026\nDonations can either be monetary donations or items for our auction. Any contribution will be appreciated.\nHelp us to achieve our Elderbridge Mission:\nTo advocate for and empower older adults\, caregivers\, and individuals with disabilities to pursue independent healthy lives.\n  \nStacia Timmer – CEO\n714 10th Ave East\, Suite 1 | Spencer\, Iowa 51301\n800.243.0678\nstimmer@elderbridge.org\n  \n 
URL:https://elderbridge.org/events/elderbridge-is-hosting-an-annual-virtual-online-fundraiser-slam-dunk-against-hunger-bidding-will-begin-on-march-22-2026-and-end-on-march-29-2026/
LOCATION:https://www.32auctions.com/elderbridgenutrition2026\, IA\, United States
ATTACH;FMTTYPE=image/jpeg:https://elderbridge.org/wp-content/uploads/2026/02/Elderbridge-2026-March-Madness.pdf-scaled.jpg
ORGANIZER;CN="Sue Anne Stoermer":MAILTO:sstoermer@elderbridge.org
END:VEVENT
END:VCALENDAR