BEGIN:VCALENDAR
VERSION:2.0
PRODID:-//Elderbridge Agency On Aging - ECPv6.15.20//NONSGML v1.0//EN
CALSCALE:GREGORIAN
METHOD:PUBLISH
X-ORIGINAL-URL:https://elderbridge.org
X-WR-CALDESC:Events for Elderbridge Agency On Aging
REFRESH-INTERVAL;VALUE=DURATION:PT1H
X-Robots-Tag:noindex
X-PUBLISHED-TTL:PT1H
BEGIN:VTIMEZONE
TZID:UTC
BEGIN:STANDARD
TZOFFSETFROM:+0000
TZOFFSETTO:+0000
TZNAME:UTC
DTSTART:20240101T000000
END:STANDARD
END:VTIMEZONE
BEGIN:VEVENT
DTSTART;TZID=UTC:20251209T123000
DTEND;TZID=UTC:20251209T130000
DTSTAMP:20260424T202214
CREATED:20251205T011458Z
LAST-MODIFIED:20251205T011511Z
UID:11686-1765283400-1765285200@elderbridge.org
SUMMARY:Fresh Conversatioins at the Manly Senior Center on December 9 at 12:30 PM
DESCRIPTION:
URL:https://elderbridge.org/events/fresh-conversatioins-at-the-manly-senior-center-on-december-9-at-1230-pm/
END:VEVENT
BEGIN:VEVENT
DTSTART;TZID=UTC:20251210T103000
DTEND;TZID=UTC:20251210T233000
DTSTAMP:20260424T202214
CREATED:20250219T232630Z
LAST-MODIFIED:20250220T005240Z
UID:10931-1765362600-1765409400@elderbridge.org
SUMMARY:Virtual Caregiver Support Group on the 2nd Wednesday of each Month from 10:30 to 11:30 AM - ZOOM Invites Sent Via Email
DESCRIPTION:
URL:https://elderbridge.org/events/virtual-caregiver-support-group-o-the-2nd-wednesday-of-each-month-from-1030-to-1130-am-zoom-invites-sent-via-email/2025-12-10/
END:VEVENT
BEGIN:VEVENT
DTSTART;TZID=UTC:20251210T110000
DTEND;TZID=UTC:20251210T113000
DTSTAMP:20260424T202214
CREATED:20251205T005728Z
LAST-MODIFIED:20251205T005745Z
UID:11679-1765364400-1765366200@elderbridge.org
SUMMARY:Fresh Conversations at the Charles City Senior Center on December 10 at 11:00 AM
DESCRIPTION:
URL:https://elderbridge.org/events/fresh-conversations-at-the-charles-city-senior-center-on-december-10-at-1100-am/
END:VEVENT
BEGIN:VEVENT
DTSTART;TZID=UTC:20251216T121500
DTEND;TZID=UTC:20251216T124500
DTSTAMP:20260424T202214
CREATED:20251205T011817Z
LAST-MODIFIED:20251205T011817Z
UID:11689-1765887300-1765889100@elderbridge.org
SUMMARY:Fresh Conversations will be at the Northwood Senior Center on December 16 at 12:15 PM
DESCRIPTION:
URL:https://elderbridge.org/events/fresh-conversations-will-be-at-the-northwood-senior-center-on-december-16-at-1215-pm/
END:VEVENT
BEGIN:VEVENT
DTSTART;TZID=UTC:20251217T114500
DTEND;TZID=UTC:20251217T121500
DTSTAMP:20260424T202214
CREATED:20251205T010932Z
LAST-MODIFIED:20251205T011036Z
UID:11682-1765971900-1765973700@elderbridge.org
SUMMARY:Fresh Conversations in Fort Dodge at Deercreek Apartments on December 17 at 11:45 AM
DESCRIPTION:
URL:https://elderbridge.org/events/fresh-conversations-in-fort-dodge-at-deercreek-apartmentson-december-17-at-1145-am/
END:VEVENT
BEGIN:VEVENT
DTSTART;TZID=UTC:20251217T150000
DTEND;TZID=UTC:20251217T160000
DTSTAMP:20260424T202214
CREATED:20230204T005903Z
LAST-MODIFIED:20230204T005903Z
UID:9396-1765983600-1765987200@elderbridge.org
SUMMARY:Webster County Caregiver Support Group 3rd Wednesday of Every Month
DESCRIPTION:
URL:https://elderbridge.org/events/webster-county-caregiver-support-group-3rd-wednesday-of-every-month/2025-12-17/
END:VEVENT
END:VCALENDAR