BEGIN:VCALENDAR
VERSION:2.0
PRODID:-//Elderbridge Agency On Aging - ECPv6.15.20//NONSGML v1.0//EN
CALSCALE:GREGORIAN
METHOD:PUBLISH
X-WR-CALNAME:Elderbridge Agency On Aging
X-ORIGINAL-URL:https://elderbridge.org
X-WR-CALDESC:Events for Elderbridge Agency On Aging
REFRESH-INTERVAL;VALUE=DURATION:PT1H
X-Robots-Tag:noindex
X-PUBLISHED-TTL:PT1H
BEGIN:VTIMEZONE
TZID:UTC
BEGIN:STANDARD
TZOFFSETFROM:+0000
TZOFFSETTO:+0000
TZNAME:UTC
DTSTART:20240101T000000
END:STANDARD
END:VTIMEZONE
BEGIN:VEVENT
DTSTART;TZID=UTC:20251106T090000
DTEND;TZID=UTC:20251106T153000
DTSTAMP:20260424T213854
CREATED:20250903T212204Z
LAST-MODIFIED:20250903T212229Z
UID:11485-1762419600-1762443000@elderbridge.org
SUMMARY:Elderbridge Agency on Aging Caregiver Conference November 6\, 2025
DESCRIPTION:
URL:https://elderbridge.org/events/elderbridge-agency-on-aging-caregiver-conference-november-6-2025/
LOCATION:East Shelter House -Swan Lake\, 23428 Swan Lake Road\, Carroll\, IA\, 51401\, United States
ORGANIZER;CN="Noa Sample-Bartels":MAILTO:nsample@elderbridge.org
END:VEVENT
BEGIN:VEVENT
DTSTART;TZID=UTC:20251112T103000
DTEND;TZID=UTC:20251112T233000
DTSTAMP:20260424T213854
CREATED:20250219T232630Z
LAST-MODIFIED:20250220T005240Z
UID:10930-1762943400-1762990200@elderbridge.org
SUMMARY:Virtual Caregiver Support Group on the 2nd Wednesday of each Month from 10:30 to 11:30 AM - ZOOM Invites Sent Via Email
DESCRIPTION:
URL:https://elderbridge.org/events/virtual-caregiver-support-group-o-the-2nd-wednesday-of-each-month-from-1030-to-1130-am-zoom-invites-sent-via-email/2025-11-12/
END:VEVENT
BEGIN:VEVENT
DTSTART;TZID=UTC:20251119T150000
DTEND;TZID=UTC:20251119T160000
DTSTAMP:20260424T213854
CREATED:20230204T005903Z
LAST-MODIFIED:20230204T005903Z
UID:9143-1763564400-1763568000@elderbridge.org
SUMMARY:Webster County Caregiver Support Group 3rd Wednesday of Every Month
DESCRIPTION:
URL:https://elderbridge.org/events/webster-county-caregiver-support-group-3rd-wednesday-of-every-month/2025-11-19/
END:VEVENT
BEGIN:VEVENT
DTSTART;TZID=UTC:20251120T100000
DTEND;TZID=UTC:20251120T110000
DTSTAMP:20260424T213854
CREATED:20230203T011921Z
LAST-MODIFIED:20231130T172147Z
UID:9144-1763632800-1763636400@elderbridge.org
SUMMARY:Virtual Caregiver Support Group 3rd Thursday of Every Month
DESCRIPTION:
URL:https://elderbridge.org/events/virtual-caregiver-support-group-3rd-thursday-of-every-month/2025-11-20/
END:VEVENT
END:VCALENDAR