BEGIN:VCALENDAR
VERSION:2.0
PRODID:-//Elderbridge Agency On Aging - ECPv6.15.20//NONSGML v1.0//EN
CALSCALE:GREGORIAN
METHOD:PUBLISH
X-ORIGINAL-URL:https://elderbridge.org
X-WR-CALDESC:Events for Elderbridge Agency On Aging
REFRESH-INTERVAL;VALUE=DURATION:PT1H
X-Robots-Tag:noindex
X-PUBLISHED-TTL:PT1H
BEGIN:VTIMEZONE
TZID:UTC
BEGIN:STANDARD
TZOFFSETFROM:+0000
TZOFFSETTO:+0000
TZNAME:UTC
DTSTART:20220101T000000
END:STANDARD
END:VTIMEZONE
BEGIN:VEVENT
DTSTART;TZID=UTC:20230809T110000
DTEND;TZID=UTC:20230809T233000
DTSTAMP:20260424T193536
CREATED:20230818T024025Z
LAST-MODIFIED:20230818T024038Z
UID:8769-1691578800-1691623800@elderbridge.org
SUMMARY:Charles City Fresh Conversations August 9 at 11:00 AM
DESCRIPTION:
URL:https://elderbridge.org/events/charles-city-fresh-conversations-august-9-at-1100-am/
END:VEVENT
BEGIN:VEVENT
DTSTART;TZID=UTC:20230810T111500
DTEND;TZID=UTC:20230810T114500
DTSTAMP:20260424T193536
CREATED:20230818T022945Z
LAST-MODIFIED:20230818T022957Z
UID:8762-1691666100-1691667900@elderbridge.org
SUMMARY:Jefferson Fresh Conversations August 10 at 11:15 AM
DESCRIPTION:
URL:https://elderbridge.org/events/jefferson-fresh-conversations-august-10-at-1115-am/
END:VEVENT
BEGIN:VEVENT
DTSTART;TZID=UTC:20230810T123000
DTEND;TZID=UTC:20230810T130000
DTSTAMP:20260424T193536
CREATED:20230818T021556Z
LAST-MODIFIED:20230818T021608Z
UID:8760-1691670600-1691672400@elderbridge.org
SUMMARY:Manly Fresh Conversations August 10 at 12:30 PM
DESCRIPTION:
URL:https://elderbridge.org/events/manly-fresh-conversations-august-10-at-1230-pm/
END:VEVENT
BEGIN:VEVENT
DTSTART;TZID=UTC:20230816T113000
DTEND;TZID=UTC:20230816T120000
DTSTAMP:20260424T193536
CREATED:20230818T015107Z
LAST-MODIFIED:20230818T015345Z
UID:8751-1692185400-1692187200@elderbridge.org
SUMMARY:Rockford Fresh Conversations August 16 at 11:30 AM
DESCRIPTION:
URL:https://elderbridge.org/events/rockford-fresh-conversations-august-16-at-1130-am/
END:VEVENT
BEGIN:VEVENT
DTSTART;TZID=UTC:20230816T121500
DTEND;TZID=UTC:20230816T124500
DTSTAMP:20260424T193536
CREATED:20230818T020641Z
LAST-MODIFIED:20230818T020641Z
UID:8758-1692188100-1692189900@elderbridge.org
SUMMARY:Northwood Fresh Conversations August 16 at 12:15 PM
DESCRIPTION:
URL:https://elderbridge.org/events/northwood-fresh-conversations-august-16-at-1215-pm/
END:VEVENT
BEGIN:VEVENT
DTSTART;TZID=UTC:20230816T231500
DTEND;TZID=UTC:20230816T234500
DTSTAMP:20260424T193536
CREATED:20230818T023628Z
LAST-MODIFIED:20230818T023628Z
UID:8767-1692227700-1692229500@elderbridge.org
SUMMARY:Fort Dodge Fresh Conversations August 16 at 11:15 AM
DESCRIPTION:
URL:https://elderbridge.org/events/fort-dodge-fresh-conversations-august-16-at-1115-am/
END:VEVENT
BEGIN:VEVENT
DTSTART;TZID=UTC:20230817T113000
DTEND;TZID=UTC:20230817T120000
DTSTAMP:20260424T193536
CREATED:20230818T023326Z
LAST-MODIFIED:20230818T023341Z
UID:8764-1692271800-1692273600@elderbridge.org
SUMMARY:Eagle Grove Fresh Conversations August 17 at 11:30 PM
DESCRIPTION:
URL:https://elderbridge.org/events/eagle-grove-fresh-conversations-august-17-at-1130-pm/
END:VEVENT
BEGIN:VEVENT
DTSTART;TZID=UTC:20230818T120000
DTEND;TZID=UTC:20230818T123000
DTSTAMP:20260424T193536
CREATED:20230818T015847Z
LAST-MODIFIED:20230818T020350Z
UID:8753-1692360000-1692361800@elderbridge.org
SUMMARY:Osage Fresh Conversations August 18 at Noon
DESCRIPTION:
URL:https://elderbridge.org/events/osage-fresh-conversations-august-19-at-noon/
END:VEVENT
BEGIN:VEVENT
DTSTART;TZID=UTC:20230824T110000
DTEND;TZID=UTC:20230824T113000
DTSTAMP:20260424T193536
CREATED:20230818T014851Z
LAST-MODIFIED:20230818T015558Z
UID:8749-1692874800-1692876600@elderbridge.org
SUMMARY:Stratford Fresh Conversations August 24\, 2023 at 11:00 AM
DESCRIPTION:
URL:https://elderbridge.org/events/stratford-fresh-conversations-august-24-2023-at-1100-am/
END:VEVENT
END:VCALENDAR