BEGIN:VCALENDAR
VERSION:2.0
PRODID:-//Elderbridge Agency On Aging - ECPv6.15.20//NONSGML v1.0//EN
CALSCALE:GREGORIAN
METHOD:PUBLISH
X-ORIGINAL-URL:https://elderbridge.org
X-WR-CALDESC:Events for Elderbridge Agency On Aging
REFRESH-INTERVAL;VALUE=DURATION:PT1H
X-Robots-Tag:noindex
X-PUBLISHED-TTL:PT1H
BEGIN:VTIMEZONE
TZID:UTC
BEGIN:STANDARD
TZOFFSETFROM:+0000
TZOFFSETTO:+0000
TZNAME:UTC
DTSTART:20210101T000000
END:STANDARD
END:VTIMEZONE
BEGIN:VEVENT
DTSTART;TZID=UTC:20220405T104500
DTEND;TZID=UTC:20220405T120000
DTSTAMP:20260422T075912
CREATED:20220105T041104Z
LAST-MODIFIED:20220419T024120Z
UID:4654-1649155500-1649160000@elderbridge.org
SUMMARY:Medicare Conversations 1st Tuesday of every month from 10:45am to 12:00am at Spencer Manor Community Room
DESCRIPTION:
URL:https://elderbridge.org/events/medicare-conversations-1st-tuesday-of-every-month-from-1045am-to-1200am-at-spencer-manor-community-room/2022-04-05/
LOCATION:Medicare Conversations\, 503 East 19th Street\, Spencer\, 51301\, United States
ORGANIZER;CN="Thomasina Hegg":MAILTO:thegg@elderbridge.org
END:VEVENT
END:VCALENDAR