BEGIN:VCALENDAR
VERSION:2.0
PRODID:-//Elderbridge Agency On Aging - ECPv6.15.20//NONSGML v1.0//EN
CALSCALE:GREGORIAN
METHOD:PUBLISH
X-WR-CALNAME:Elderbridge Agency On Aging
X-ORIGINAL-URL:https://elderbridge.org
X-WR-CALDESC:Events for Elderbridge Agency On Aging
REFRESH-INTERVAL;VALUE=DURATION:PT1H
X-Robots-Tag:noindex
X-PUBLISHED-TTL:PT1H
BEGIN:VTIMEZONE
TZID:UTC
BEGIN:STANDARD
TZOFFSETFROM:+0000
TZOFFSETTO:+0000
TZNAME:UTC
DTSTART:20210101T000000
END:STANDARD
END:VTIMEZONE
BEGIN:VEVENT
DTSTART;TZID=UTC:20220608T110000
DTEND;TZID=UTC:20220608T113000
DTSTAMP:20260423T070058
CREATED:20220606T045754Z
LAST-MODIFIED:20220606T045754Z
UID:6541-1654686000-1654687800@elderbridge.org
SUMMARY:Charles City Senior Center has Fresh Conversations on June 8 at 11 AM
DESCRIPTION:
URL:https://elderbridge.org/events/charles-city-senior-center-has-fresh-conversations-on-june-8-at-11-am/
END:VEVENT
BEGIN:VEVENT
DTSTART;TZID=UTC:20220608T153000
DTEND;TZID=UTC:20220608T163000
DTSTAMP:20260423T070058
CREATED:20220606T045132Z
LAST-MODIFIED:20220606T045153Z
UID:6538-1654702200-1654705800@elderbridge.org
SUMMARY:Family Caregiver Support Group Wednesday\, June 8 from 3:30 to 4:30 PM at Park View Terrace in Estherville\, Iowa
DESCRIPTION:
URL:https://elderbridge.org/events/family-caregiver-support-group-wednesday-june-8-from-330-to-430-pm-at-park-view-terrace-in-estherville-iowa/
ORGANIZER;CN="Jenn Lappegard":MAILTO:jlappegard@elderbridge.org
END:VEVENT
BEGIN:VEVENT
DTSTART;TZID=UTC:20220614T123000
DTEND;TZID=UTC:20220614T130000
DTSTAMP:20260423T070058
CREATED:20220606T052045Z
LAST-MODIFIED:20220606T052059Z
UID:6556-1655209800-1655211600@elderbridge.org
SUMMARY:Lake Park Senior Center will have Fresh Conversations on June 14 at 12 PM
DESCRIPTION:
URL:https://elderbridge.org/events/lake-park-senior-center-will-have-fresh-conversations-on-june-14-at-12-pm/
END:VEVENT
BEGIN:VEVENT
DTSTART;TZID=UTC:20220614T170000
DTEND;TZID=UTC:20220614T200000
DTSTAMP:20260423T070058
CREATED:20220606T055057Z
LAST-MODIFIED:20220606T060459Z
UID:6581-1655226000-1655236800@elderbridge.org
SUMMARY:Ready? Set\, Retire! on June 14 at 5PM  Via ZOOM
DESCRIPTION:Angie is inviting you to a Zoom meeting. \nWhen: Jun 14\, 2022\,  5:00 PM Central Time (the US and Canada) \n  \nRegister in advance for this meeting: \nhttps://us02web.zoom.us/meeting/register/tZArc–pqzIoHNeX-acBRPMMqRnChv-DEvVB \n  \nAfter registering\, you will receive a confirmation email containing information about joining the meeting. \n 
URL:https://elderbridge.org/events/ready-set-retire-on-june-14-at-5pm-via-zoom/
END:VEVENT
BEGIN:VEVENT
DTSTART;TZID=UTC:20220614T170000
DTEND;TZID=UTC:20220614T200000
DTSTAMP:20260423T070058
CREATED:20220526T164033Z
LAST-MODIFIED:20220526T164033Z
UID:6510-1655226000-1655236800@elderbridge.org
SUMMARY:Ready? Set\, Retire! Zoom Presentation on Tuesday\, June14\, 2022 from 5pm to 8pm
DESCRIPTION:
URL:https://elderbridge.org/events/ready-set-retire-zoom-presentation-on-tuesday-june14-2022-from-5pm-to-8pm/
LOCATION:ZOOM
ORGANIZER;CN="Angie Martens":MAILTO:amartens@elderbridge.org
END:VEVENT
BEGIN:VEVENT
DTSTART;TZID=UTC:20220615T113000
DTEND;TZID=UTC:20220615T120000
DTSTAMP:20260423T070058
CREATED:20220606T053429Z
LAST-MODIFIED:20220606T053445Z
UID:6568-1655292600-1655294400@elderbridge.org
SUMMARY:Rockford Community Center will have Fresh Conversations on June 15 at 11:30 AM
DESCRIPTION:
URL:https://elderbridge.org/events/rockford-community-center-will-have-fresh-conversations-on-june-15-at-1130-am/
END:VEVENT
BEGIN:VEVENT
DTSTART;TZID=UTC:20220615T114500
DTEND;TZID=UTC:20220615T121500
DTSTAMP:20260423T070058
CREATED:20220606T050403Z
LAST-MODIFIED:20220606T050415Z
UID:6547-1655293500-1655295300@elderbridge.org
SUMMARY:Deercreek Apartments of Fort Dodge is having Fresh Conversations on June15 at 11:45 AM
DESCRIPTION:
URL:https://elderbridge.org/events/deercreek-apartments-of-fort-dodge-is-having-fresh-conversations-on-june15-at-1145-am/
END:VEVENT
BEGIN:VEVENT
DTSTART;TZID=UTC:20220615T120000
DTEND;TZID=UTC:20220615T123000
DTSTAMP:20260423T070058
CREATED:20220606T052947Z
LAST-MODIFIED:20220606T053000Z
UID:6565-1655294400-1655296200@elderbridge.org
SUMMARY:Osage Senior Center will have Fresh Conversations on June 15 at 12 PM
DESCRIPTION:
URL:https://elderbridge.org/events/osage-senior-center-will-have-fresh-conversations-on-june-15-at-12-pm/
END:VEVENT
BEGIN:VEVENT
DTSTART;TZID=UTC:20220616T111000
DTEND;TZID=UTC:20220616T114000
DTSTAMP:20260423T070058
CREATED:20220606T053728Z
LAST-MODIFIED:20220606T053745Z
UID:6572-1655377800-1655379600@elderbridge.org
SUMMARY:Rockwell City Senior Center will have Fresh Conversations on June 16 at 11:10 AM
DESCRIPTION:
URL:https://elderbridge.org/events/rockwell-city-senior-center-will-have-fresh-conversations-on-june-16-at-1110-am/
END:VEVENT
BEGIN:VEVENT
DTSTART;TZID=UTC:20220621T120000
DTEND;TZID=UTC:20220621T123000
DTSTAMP:20260423T070058
CREATED:20220606T054002Z
LAST-MODIFIED:20220606T054014Z
UID:6575-1655812800-1655814600@elderbridge.org
SUMMARY:Spirit Lake Area Senior Center will have Fresh Conversations on June 21 at 12 PM
DESCRIPTION:
URL:https://elderbridge.org/events/spirit-lake-area-senior-center-will-have-fresh-conversations-on-june-21-at-12-pm/
END:VEVENT
BEGIN:VEVENT
DTSTART;TZID=UTC:20220621T123000
DTEND;TZID=UTC:20220621T130000
DTSTAMP:20260423T070058
CREATED:20220606T051712Z
LAST-MODIFIED:20220606T051837Z
UID:6553-1655814600-1655816400@elderbridge.org
SUMMARY:Fresh Conversations will take place at the Memorial Library at 12:30 PM
DESCRIPTION:
URL:https://elderbridge.org/events/fresh-conversations-will-take-place-at-the-memorial-library-at-1230-pm/
END:VEVENT
BEGIN:VEVENT
DTSTART;TZID=UTC:20220623T100000
DTEND;TZID=UTC:20220623T150000
DTSTAMP:20260423T070058
CREATED:20220606T061838Z
LAST-MODIFIED:20220606T061852Z
UID:6590-1655978400-1655996400@elderbridge.org
SUMMARY:A Caregiver Appreciation Event at Boulders Event Center in Denison\, Iowa on June 23 from 10:00 AM - 3:30 PM
DESCRIPTION:
URL:https://elderbridge.org/events/a-caregiver-appreciation-event-at-boulders-event-center-in-denison-iowa-on-june-23-from-1000-am-330-pm/
LOCATION:Boulders Event Center\, 2507 Boulder Drive\, Denison\, IA\, 51442\, United States
ORGANIZER;CN="Emily Winker":MAILTO:ewinker@elderbridge.org
END:VEVENT
BEGIN:VEVENT
DTSTART;TZID=UTC:20220623T100000
DTEND;TZID=UTC:20220623T153000
DTSTAMP:20260423T070058
CREATED:20220503T033837Z
LAST-MODIFIED:20220503T033925Z
UID:6415-1655978400-1655998200@elderbridge.org
SUMMARY:Crawford County Caregiver Appreciation Event at Boulders Event Center in Denison on June 23. 2022\, at 10:00 AM to 3:30 PM
DESCRIPTION:
URL:https://elderbridge.org/events/crawford-county-caregiver-appreciation-event-at-boulders-event-center-in-denison-on-june-23-2022-at-1000-am-to-330-pm/
LOCATION:Boulders Event Center\, 2507 Boulder Drive\, Denison\, IA\, 51442\, United States
ORGANIZER;CN="Emily Winker":MAILTO:ewinker@elderbridge.org
END:VEVENT
BEGIN:VEVENT
DTSTART;TZID=UTC:20220623T120000
DTEND;TZID=UTC:20220623T123000
DTSTAMP:20260423T070058
CREATED:20220606T051311Z
LAST-MODIFIED:20220606T051341Z
UID:6550-1655985600-1655987400@elderbridge.org
SUMMARY:Fresh Conversations will take place at Goldfield's American Legion Building on June 23 at 12 Noon
DESCRIPTION:
URL:https://elderbridge.org/events/fresh-conversations-will-take-place-at-goldfields-american-legion-building-on-june-23-at-12-noon/
END:VEVENT
BEGIN:VEVENT
DTSTART;TZID=UTC:20220624T100000
DTEND;TZID=UTC:20220624T150000
DTSTAMP:20260423T070058
CREATED:20220606T062429Z
LAST-MODIFIED:20220606T062459Z
UID:6595-1656064800-1656082800@elderbridge.org
SUMMARY:A Caregiver Appreciation Event at Audubon Rec Center on June 24 from 10:00 AM to 3:00 PM
DESCRIPTION:
URL:https://elderbridge.org/events/a-caregiver-appreciation-event-on-june-24-from-1000-am-to-300-pm/
LOCATION:Audubon Rec Center\, 703 Southside Ave\, Audubon\, IA\, 50025\, United States
ORGANIZER;CN="Emily Winker":MAILTO:ewinker@elderbridge.org
END:VEVENT
BEGIN:VEVENT
DTSTART;TZID=UTC:20220624T100000
DTEND;TZID=UTC:20220624T153000
DTSTAMP:20260423T070058
CREATED:20220503T032324Z
LAST-MODIFIED:20220503T033115Z
UID:6411-1656064800-1656084600@elderbridge.org
SUMMARY:Audubon County Caregiver Appreciation Event at Audubon Rec Center on Friday June 24\, 2022 at 10:00 AM - 3:30 PM
DESCRIPTION:
URL:https://elderbridge.org/events/audubon-county-caregiver-appreciation-event-at-audubon-rec-center-on-friday-june-24-2022-at-1000-am-330-pm/
LOCATION:Audubon Rec Center\, 703 Southside Ave\, Audubon\, IA\, 50025\, United States
ORGANIZER;CN="Emily Winker":MAILTO:ewinker@elderbridge.org
END:VEVENT
BEGIN:VEVENT
DTSTART;TZID=UTC:20220627T100000
DTEND;TZID=UTC:20220627T103000
DTSTAMP:20260423T070058
CREATED:20220606T050013Z
LAST-MODIFIED:20220606T050037Z
UID:6544-1656324000-1656325800@elderbridge.org
SUMMARY:Pilgrim Place of Mason City will have Fresh Conversations on June 27 at 10AM
DESCRIPTION:
URL:https://elderbridge.org/events/pilgrim-place-of-mason-city-will-have-fresh-conversations-on-june-27-at-10am/
END:VEVENT
BEGIN:VEVENT
DTSTART;TZID=UTC:20220712T111500
DTEND;TZID=UTC:20220712T120000
DTSTAMP:20260423T070058
CREATED:20220630T183912Z
LAST-MODIFIED:20220630T183912Z
UID:6710-1657624500-1657627200@elderbridge.org
SUMMARY:Fresh Conversations!
DESCRIPTION:Are you age 60 + and interested in learning about different nutrition topics in a small group setting?  This may be for you!  Sessions run from 30 – 45 minutes. \nTopic: “Your Mouth is Your Body’s Mirror” \nWhere:  Manly Senior Citizens Center\, 137 E. Main St.\, Manly IA \nPresenter:  Amy Jones \nPhone: (641)-530-9244 \n Hope to see you there!
URL:https://elderbridge.org/events/fresh-conversations-5/
ATTACH;FMTTYPE=image/jpeg:https://elderbridge.org/wp-content/uploads/2022/06/logo.jpg
END:VEVENT
BEGIN:VEVENT
DTSTART;TZID=UTC:20220712T120000
DTEND;TZID=UTC:20220712T124500
DTSTAMP:20260423T070058
CREATED:20220630T190652Z
LAST-MODIFIED:20220630T190652Z
UID:6728-1657627200-1657629900@elderbridge.org
SUMMARY:Fresh Conversations!
DESCRIPTION:If you are age 60 + and interested in learning about different nutrition topics in a small group setting this may be for you!  Sessions run from 30 – 45 minutes. \nTopic: “Your Mouth is Your Body’s Mirror” \nWhere: Lake Park Senior Center\, 903 S. Market St.\, Lake Park\, IA \nPresenter: Calla Sullivan.  Phone: (712)-339-6050 \nHope to see you there – you have nothing to lose (except unhealthy habits 😊) and your healthiest self to gain!
URL:https://elderbridge.org/events/fresh-conversations-11/
ATTACH;FMTTYPE=image/jpeg:https://elderbridge.org/wp-content/uploads/2022/06/unnamed-4.jpg
END:VEVENT
BEGIN:VEVENT
DTSTART;TZID=UTC:20220713T110000
DTEND;TZID=UTC:20220713T114500
DTSTAMP:20260423T070058
CREATED:20220630T180805Z
LAST-MODIFIED:20220630T181149Z
UID:6695-1657710000-1657712700@elderbridge.org
SUMMARY:Fresh Conversations!
DESCRIPTION:Are you age 60 + and interested in learning about different nutrition topics in a small group setting?  This may be for you!  Sessions run from 30 – 45 minutes. \nTopic: “Your Mouth is Your Body’s Mirror” \nWhere:  Charles City Senior Center\, 900 Hulin Ave.\, Charles City\, IA \nPresenter:  Lesley Mehman Milius.  Phone: (641)-228-1453 \nHope to see you there – you have nothing to lose (except unhealthy habits 😊)and your healthiest self to gain!
URL:https://elderbridge.org/events/fresh-conversations/
ATTACH;FMTTYPE=image/jpeg:https://elderbridge.org/wp-content/uploads/2022/06/logo.jpg
END:VEVENT
BEGIN:VEVENT
DTSTART;TZID=UTC:20220719T120000
DTEND;TZID=UTC:20220719T124500
DTSTAMP:20260423T070058
CREATED:20220630T184714Z
LAST-MODIFIED:20220630T184714Z
UID:6712-1658232000-1658234700@elderbridge.org
SUMMARY:Fresh Conversations!
DESCRIPTION:If you are age 60 + and interested in learning about different nutrition topics in a small group setting this may be for you!  Sessions run from 30 – 45 minutes. \n Topic: “Your Mouth is Your Body’s Mirror” \nWhere: Spirit Lake Area Senior Center\, 2101 Zenith\, Spirit Lake  \nPresenter: Calla Sullivan.  Phone: 712-339-6050 \nHope to see you there!
URL:https://elderbridge.org/events/fresh-conversations-6/
ATTACH;FMTTYPE=image/jpeg:https://elderbridge.org/wp-content/uploads/2022/06/unnamed-1.jpg
END:VEVENT
BEGIN:VEVENT
DTSTART;TZID=UTC:20220719T123000
DTEND;TZID=UTC:20220719T131500
DTSTAMP:20260423T070058
CREATED:20220630T181659Z
LAST-MODIFIED:20220630T181659Z
UID:6701-1658233800-1658236500@elderbridge.org
SUMMARY:Fresh Conversations!
DESCRIPTION:Are you age 60 + and interested in learning about different nutrition topics in a small group setting?  This may be for you!  Sessions run from 30 – 45 minutes. \nTopic: “Your Mouth is Your Body’s Mirror” \nWhere:  Memorial Library\, 400 Grand St\, Guthrie Center\, IA \nPresenter:  Krista Downing \n   Phone: (641)-747-2276
URL:https://elderbridge.org/events/fresh-conversations-2/
ATTACH;FMTTYPE=image/jpeg:https://elderbridge.org/wp-content/uploads/2022/06/logo.jpg
END:VEVENT
BEGIN:VEVENT
DTSTART;TZID=UTC:20220720T111500
DTEND;TZID=UTC:20220720T120000
DTSTAMP:20260423T070058
CREATED:20220630T190423Z
LAST-MODIFIED:20220630T190423Z
UID:6725-1658315700-1658318400@elderbridge.org
SUMMARY:Fresh Conversations!
DESCRIPTION:Are you age 60 + and interested in learning about different nutrition topics in a small group setting?  This may be for you!  Sessions run about 30 – 45 minutes. \nWhen and Where:    \nJuly 20\, 11:15 am Northwood Sr. Citizens Center\, 720 Central Ave.\, Northwood  \nTopic: “Your Mouth is Your Body’s Mirror” \nPresenter:  Amy Jones.  Phone: (641)-530-9244 \nHope to see you there – you have nothing to lose (except unhealthy habits 😊)!
URL:https://elderbridge.org/events/fresh-conversations-10/
ATTACH;FMTTYPE=image/jpeg:https://elderbridge.org/wp-content/uploads/2022/06/unnamed-3.jpg
END:VEVENT
BEGIN:VEVENT
DTSTART;TZID=UTC:20220720T113000
DTEND;TZID=UTC:20220720T121500
DTSTAMP:20260423T070058
CREATED:20220630T185737Z
LAST-MODIFIED:20220630T185814Z
UID:6718-1658316600-1658319300@elderbridge.org
SUMMARY:Fresh Conversations!
DESCRIPTION:Are you age 60 + and interested in learning about different nutrition topics in a small group setting?  This may be for you!  Sessions run about 30 – 45 minutes. \nWhen and Where:    \nJuly 20\, 11:30 am.  Rockford Community Center\, 206 W. Main Ave.\, Rockford IA \nTopic: “Your Mouth is Your Body’s Mirror” \nPresenter:  Lesley Mehman Milius.  Phone: (641)-228-1453  \nHope to see you there – you have nothing to lose (except unhealthy habits 😊)!
URL:https://elderbridge.org/events/fresh-conversations-8/
ATTACH;FMTTYPE=image/png:https://elderbridge.org/wp-content/uploads/2022/06/pic.png
END:VEVENT
BEGIN:VEVENT
DTSTART;TZID=UTC:20220720T114500
DTEND;TZID=UTC:20220720T123000
DTSTAMP:20260423T070058
CREATED:20220630T183135Z
LAST-MODIFIED:20220630T183135Z
UID:6704-1658317500-1658320200@elderbridge.org
SUMMARY:Fresh Conversations!
DESCRIPTION:Are you age 60 + and interested in learning about different nutrition topics in a small group setting?  This may be for you!  Sessions run from 30 – 45 minutes. \nTopic: “Your Mouth is Your Body’s Mirror” \nWhere:  Deercreek Apts\, 700 S. 17th St.\, Fort Dodge\, IA \nPresenter:  Holly Van Heel.  Phone:  515-576-2119    \nHope to see you there – you have nothing to lose (except unhealthy habits 😊) and your healthiest self to gain!     
URL:https://elderbridge.org/events/fresh-conversations-3/
ATTACH;FMTTYPE=image/jpeg:https://elderbridge.org/wp-content/uploads/2022/06/logo.jpg
END:VEVENT
BEGIN:VEVENT
DTSTART;TZID=UTC:20220720T120000
DTEND;TZID=UTC:20220720T124500
DTSTAMP:20260423T070058
CREATED:20220630T190114Z
LAST-MODIFIED:20220630T190114Z
UID:6722-1658318400-1658321100@elderbridge.org
SUMMARY:Fresh Conversations!
DESCRIPTION:Are you age 60 + and interested in learning about different nutrition topics in a small group setting?  This may be for you!  Sessions run about 30 – 45 minutes. \nWhen and Where:                                                                                                                                                                                                                    \nJuly 20\, 12:00\, Osage Sr. Center\, 615 State St\, Osage  \nTopic: “Your Mouth is Your Body’s Mirror.” \n Presenter:  Darla Olson.  Phone: (641)-330-0796                                       \nHope to see you there – you have nothing to lose (except unhealthy habits 😊)
URL:https://elderbridge.org/events/fresh-conversations-9/
ATTACH;FMTTYPE=image/jpeg:https://elderbridge.org/wp-content/uploads/2022/06/unnamed-2.jpg
END:VEVENT
BEGIN:VEVENT
DTSTART;TZID=UTC:20220721T111000
DTEND;TZID=UTC:20220721T234000
DTSTAMP:20260423T070058
CREATED:20220630T185144Z
LAST-MODIFIED:20220630T185144Z
UID:6715-1658401800-1658446800@elderbridge.org
SUMMARY:Fresh Conversations!
DESCRIPTION:Are you age 60 + and interested in learning about different nutrition topics in a small group setting?  This may be for you!  Sessions run about 30 minutes.         \nWhen and Where:    \nJuly 21\, 11:10\, Rockwell City Senior Center\, 422 Main St\, Rockwell City \nTopic: “Your Mouth is Your Body’s Mirror”  \nPresenter:  Sharla Kuyper.  Phone: (800)-243-0678        \n    \n   Hope to see you there – you have nothing to lose (except unhealthy habits 😊)! 
URL:https://elderbridge.org/events/fresh-conversations-7/
ATTACH;FMTTYPE=image/png:https://elderbridge.org/wp-content/uploads/2022/06/unnamed.png
END:VEVENT
BEGIN:VEVENT
DTSTART;TZID=UTC:20220809T120000
DTEND;TZID=UTC:20220809T120000
DTSTAMP:20260423T070058
CREATED:20220804T085158Z
LAST-MODIFIED:20220805T061849Z
UID:6832-1660046400-1660046400@elderbridge.org
SUMMARY:Fresh Conversationsat Lake Park Senior Center
DESCRIPTION:
URL:https://elderbridge.org/events/fresh-conversationsat-lake-park-senior-center/
LOCATION:Lake Park Senior Center\, 903 S. Market St.\, Lake Park\, IA
END:VEVENT
BEGIN:VEVENT
DTSTART;TZID=UTC:20220810T110000
DTEND;TZID=UTC:20220810T110000
DTSTAMP:20260423T070058
CREATED:20220804T092843Z
LAST-MODIFIED:20220805T062540Z
UID:6878-1660129200-1660129200@elderbridge.org
SUMMARY:Fresh Conversationsat Charles City Senior Center
DESCRIPTION:
URL:https://elderbridge.org/events/fresh-conversationsat-charles-city-senior-center/
LOCATION:Charles City Senior Center\, 900 Hulin Ave.\, Charles City\, IA
END:VEVENT
BEGIN:VEVENT
DTSTART;TZID=UTC:20220816T120000
DTEND;TZID=UTC:20220816T120000
DTSTAMP:20260423T070058
CREATED:20220804T084245Z
LAST-MODIFIED:20220805T061739Z
UID:6826-1660651200-1660651200@elderbridge.org
SUMMARY:Fresh Conversationsat Spirit Lake Area Senior Center
DESCRIPTION:
URL:https://elderbridge.org/events/fresh-conversationsat-spirit-lake-area-senior-center/
LOCATION:Spirit Lake Area Senior Center\, 2101 Zenith\, Spirit Lake
END:VEVENT
END:VCALENDAR