BEGIN:VCALENDAR
VERSION:2.0
PRODID:-//Elderbridge Agency On Aging - ECPv6.15.20//NONSGML v1.0//EN
CALSCALE:GREGORIAN
METHOD:PUBLISH
X-WR-CALNAME:Elderbridge Agency On Aging
X-ORIGINAL-URL:https://elderbridge.org
X-WR-CALDESC:Events for Elderbridge Agency On Aging
REFRESH-INTERVAL;VALUE=DURATION:PT1H
X-Robots-Tag:noindex
X-PUBLISHED-TTL:PT1H
BEGIN:VTIMEZONE
TZID:UTC
BEGIN:STANDARD
TZOFFSETFROM:+0000
TZOFFSETTO:+0000
TZNAME:UTC
DTSTART:20210101T000000
END:STANDARD
END:VTIMEZONE
BEGIN:VEVENT
DTSTART;TZID=UTC:20220420T113000
DTEND;TZID=UTC:20220420T120000
DTSTAMP:20260422T003726
CREATED:20220401T003914Z
LAST-MODIFIED:20220401T003928Z
UID:6229-1650454200-1650456000@elderbridge.org
SUMMARY:Fresh Conversations at Rockford Community Center at Rockford\, IA on April 20 at 11:30 AM
DESCRIPTION:
URL:https://elderbridge.org/events/fresh-conversations-at-rockford-community-center-at-rockford-ia-on-april-20-at-1130-am/
LOCATION:Fresh Conversations at Rockford Community Center March 16 at 11:30 AM\, 206 West Main Avenue\, Rockford\, IA\, 50468\, United States
END:VEVENT
BEGIN:VEVENT
DTSTART;TZID=UTC:20220420T114500
DTEND;TZID=UTC:20220420T120000
DTSTAMP:20260422T003726
CREATED:20220331T231926Z
LAST-MODIFIED:20220331T231926Z
UID:6194-1650455100-1650456000@elderbridge.org
SUMMARY:Fresh Conversations at Deercreek Apartments in Fort Dodge\, IA on April 20 at 11:45 AM
DESCRIPTION:
URL:https://elderbridge.org/events/fresh-conversations-at-deercreek-apartments-in-fort-dodge-ia-on-april-20-at-1145-am/
LOCATION:Fresh Conversations at Deercreek Apartments in Fort Dodge Iowa\, 700 South 17th Street\, Fort Dodge\, IA\, 50501\, United States
END:VEVENT
BEGIN:VEVENT
DTSTART;TZID=UTC:20220420T120000
DTEND;TZID=UTC:20220420T123000
DTSTAMP:20260422T003726
CREATED:20220401T000041Z
LAST-MODIFIED:20220401T000409Z
UID:6210-1650456000-1650457800@elderbridge.org
SUMMARY:Fresh Conversations at Osage Senior Center in Osage \, IA on April 20 at 12:00 PM
DESCRIPTION:
URL:https://elderbridge.org/events/fresh-conversations-at-osage-senior-center-in-osage-ia-on-april-20-at-1200-pm/
LOCATION:Fresh Conversations at Osage Senior Center\, 615 State Street\, Osage\, Iowa\, 50461
END:VEVENT
BEGIN:VEVENT
DTSTART;TZID=UTC:20220420T133000
DTEND;TZID=UTC:20220420T140000
DTSTAMP:20260422T003726
CREATED:20220401T004918Z
LAST-MODIFIED:20220401T004929Z
UID:6235-1650461400-1650463200@elderbridge.org
SUMMARY:Fresh Conversations at Elderbridge Ageny on Aging in Mason City\, IA on April 20 at 1:30 PM
DESCRIPTION:
URL:https://elderbridge.org/events/fresh-conversations-at-elderbridge-ageny-on-aging-in-mason-city-ia-on-april-20-at-130-pm/
LOCATION:Fresh Conversations at Elderbridge Agency on Aging\, 1190 Briarstone Drive\, Ste. 3\, Mason City\, IA\, 50401
ORGANIZER;CN="Jodi Applegate":MAILTO:japplegate@elderbridge.org
END:VEVENT
BEGIN:VEVENT
DTSTART;TZID=UTC:20220421T111000
DTEND;TZID=UTC:20220421T120000
DTSTAMP:20260422T003726
CREATED:20220331T233037Z
LAST-MODIFIED:20220331T233108Z
UID:6197-1650539400-1650542400@elderbridge.org
SUMMARY:Fresh Conversations at Rockwell City Senior Center at Rockwell City\, IA on April 21 at 11:10 AM
DESCRIPTION:
URL:https://elderbridge.org/events/fresh-conversations-at-rockwell-city-senior-center-at-rockwell-city-ia-on-april-21-at-1110-am/
LOCATION:Rockwell City Fresh Conversations\, 422 Main St.\, Rockwell City\, IA\, 50579\, United States
ORGANIZER;CN="Sharla Kuyper":MAILTO:skuyper@elderbridge.org
END:VEVENT
BEGIN:VEVENT
DTSTART;TZID=UTC:20220421T113000
DTEND;TZID=UTC:20220421T120000
DTSTAMP:20260422T003726
CREATED:20220401T002603Z
LAST-MODIFIED:20220401T002616Z
UID:6221-1650540600-1650542400@elderbridge.org
SUMMARY:Fresh Conversations at Citizens Central in Fort Dodge\, IA on April 21 at 11:30 AM
DESCRIPTION:
URL:https://elderbridge.org/events/fresh-conversations-at-citizens-central-in-fort-dodge-ia-on-april-21-at-1130-am/
LOCATION:Fresh Conversations at Citizens Central in Fort Dodge\, 617 Central Ave\, Fort Dodge\, 50501\, United States
END:VEVENT
BEGIN:VEVENT
DTSTART;TZID=UTC:20220425T100000
DTEND;TZID=UTC:20220425T223000
DTSTAMP:20260422T003726
CREATED:20220331T235451Z
LAST-MODIFIED:20220331T235511Z
UID:6206-1650880800-1650925800@elderbridge.org
SUMMARY:Fresh Conversations at pilgrim Place Apartments in Mason City\, IA on April 25 at 10 AM
DESCRIPTION:
URL:https://elderbridge.org/events/fresh-conversations-at-pilgrim-place-apartments-in-mason-city-ia-on-april-25-at-10-am/
LOCATION:Fresh Conversations at Pilgrim Place Apartments in Mason City\, 741 South Illinois Avenue\, Mason City\, IA\, 50401\, United States
END:VEVENT
BEGIN:VEVENT
DTSTART;TZID=UTC:20220504T080000
DTEND;TZID=UTC:20220504T170000
DTSTAMP:20260422T003726
CREATED:20220504T001659Z
LAST-MODIFIED:20220504T001812Z
UID:6469-1651651200-1651683600@elderbridge.org
SUMMARY:Rockford Community Center Fresh Conversations on May 19\, 2022 at 11:30 AM to 12:15 PM
DESCRIPTION:
URL:https://elderbridge.org/events/rockford-community-center-fresh-conversations-on-may-19-2022-at-1130-am-to-1215-pm/
END:VEVENT
BEGIN:VEVENT
DTSTART;TZID=UTC:20220504T153000
DTEND;TZID=UTC:20220504T163000
DTSTAMP:20260422T003726
CREATED:20220412T173049Z
LAST-MODIFIED:20220412T173110Z
UID:6293-1651678200-1651681800@elderbridge.org
SUMMARY:Family Caregiver Support Group  Wednesday\, May 4th at 3:30 PM to 4:30 PM at Park View Terrace Dining Room\, Estherville\, IA
DESCRIPTION:
URL:https://elderbridge.org/events/family-caregiver-support-group-wednesday-may-4th-at-330-pm-to-430-pm-at-park-view-terrace-dining-room-estherville-ia/
LOCATION:Family Caregiver Support Group Park View Terrace Estherville IA\, 1715 5th Avenue North\, Estherville\, IA\, 51334\, United States
ORGANIZER;CN="Jenn Lappegard":MAILTO:jlappegard@elderbridge.org
END:VEVENT
BEGIN:VEVENT
DTSTART;TZID=UTC:20220510T120000
DTEND;TZID=UTC:20220510T124500
DTSTAMP:20260422T003726
CREATED:20220503T233017Z
LAST-MODIFIED:20220503T233036Z
UID:6449-1652184000-1652186700@elderbridge.org
SUMMARY:Lake Park Senior Center Fresh Conversations on May 10\, 2022 at 12:00 PM to 12:45 PM
DESCRIPTION:
URL:https://elderbridge.org/events/lake-park-senior-center-fresh-conversations-on-may-10-2022-at-1200-pm-to-1245-pm/
LOCATION:Fresh Conversations at Lake Park the Senior Center\, 903 South market Street\, Lake Park\, IA\, 51347\, United States
END:VEVENT
BEGIN:VEVENT
DTSTART;TZID=UTC:20220511T110000
DTEND;TZID=UTC:20220511T120000
DTSTAMP:20260422T003726
CREATED:20220503T224610Z
LAST-MODIFIED:20220503T224610Z
UID:6434-1652266800-1652270400@elderbridge.org
SUMMARY:Charles City Senior Center Fresh Conversations on May 11\, 2022\, at 11:00 AM
DESCRIPTION:
URL:https://elderbridge.org/events/charles-city-senior-center-fresh-conversations-on-may-11-2022-at-1100-am/
LOCATION:Charles City Senior Center\, 900 Hulin Avenue\, Charles City\, 50616\, United States
END:VEVENT
BEGIN:VEVENT
DTSTART;TZID=UTC:20220512T111500
DTEND;TZID=UTC:20220512T120000
DTSTAMP:20260422T003726
CREATED:20220503T233820Z
LAST-MODIFIED:20220503T233834Z
UID:6452-1652354100-1652356800@elderbridge.org
SUMMARY:Manly Senior Citizens Center Fresh Conversations on May 12\, 2022 at 11:15 AM to 12:00 PM
DESCRIPTION:
URL:https://elderbridge.org/events/manly-senior-citizens-center-fresh-conversations-on-may-12-2022-at-1115-am-to-1200-pm/
LOCATION:Fresh Conversations at Manly Senior Citizens Center\, 137 East Main Street\, Manly\, 50456\, United States
END:VEVENT
BEGIN:VEVENT
DTSTART;TZID=UTC:20220517T111500
DTEND;TZID=UTC:20220517T120000
DTSTAMP:20260422T003726
CREATED:20220503T234506Z
LAST-MODIFIED:20220503T234527Z
UID:6456-1652786100-1652788800@elderbridge.org
SUMMARY:Northwood Senior Citizens Center Fresh Conversations on May 17\, 2022 at 11:15 AM to 12:00 PM
DESCRIPTION:
URL:https://elderbridge.org/events/northwood-senior-citizens-center-fresh-conversations-on-may-17-2022-at-1115-am-to-1200-pm/
LOCATION:Fresh Conversations at Northwood Senior Citizens Center\, 720 Central Avenue\, Northwood\, 50459\, United States
END:VEVENT
BEGIN:VEVENT
DTSTART;TZID=UTC:20220517T120000
DTEND;TZID=UTC:20220517T120000
DTSTAMP:20260422T003726
CREATED:20220503T181416Z
LAST-MODIFIED:20220503T181416Z
UID:6431-1652788800-1652788800@elderbridge.org
SUMMARY:Spirit Lake Area Senior Center Fresh Conversations on May 17\, 2022 at 12 PM
DESCRIPTION:
URL:https://elderbridge.org/events/spirit-lake-area-senior-center-fresh-conversations-on-may-17-2022-at-12-pm/
LOCATION:Fresh Conversations at Spirit Lake\, 2101 Zenith\, Spirit Lake\, 51360\, United States
END:VEVENT
BEGIN:VEVENT
DTSTART;TZID=UTC:20220517T123000
DTEND;TZID=UTC:20220517T131500
DTSTAMP:20260422T003726
CREATED:20220503T232231Z
LAST-MODIFIED:20220503T232416Z
UID:6443-1652790600-1652793300@elderbridge.org
SUMMARY:Guthrie Center Memorial Library Fresh Conversations on May 17\, 2022 at 12:30 PM to 1:15 PM
DESCRIPTION:
URL:https://elderbridge.org/events/guthrie-center-memorial-library-fresh-conversations-on-may-17-2022-at-1230-pm-t0-115-pm/
LOCATION:Guthrie Center Memorial Library\, 400 Grand Street\, Guthrie Center\, IA\, 50115\, United States
END:VEVENT
BEGIN:VEVENT
DTSTART;TZID=UTC:20220518T080000
DTEND;TZID=UTC:20220518T124500
DTSTAMP:20260422T003726
CREATED:20220503T235837Z
LAST-MODIFIED:20220503T235837Z
UID:6459-1652860800-1652877900@elderbridge.org
SUMMARY:Osage Senior Center Fresh Conversations on May 18\, 2022 at 12:00 PM to 12:45 PM
DESCRIPTION:
URL:https://elderbridge.org/events/osage-senior-center-fresh-conversations-on-may-18-2022-at-1200-pm-to-1245-pm/
LOCATION:Fresh Conversations at Osage Senior Center\, 615 State Street\, Osage\, Iowa\, 50461
END:VEVENT
BEGIN:VEVENT
DTSTART;TZID=UTC:20220518T114500
DTEND;TZID=UTC:20220518T123000
DTSTAMP:20260422T003726
CREATED:20220503T225807Z
LAST-MODIFIED:20220503T225820Z
UID:6440-1652874300-1652877000@elderbridge.org
SUMMARY:Fort Dodge Deercreek Apartments Fresh Conversations on May 18\, 2022 at 11:45 AM to 12:30 PM
DESCRIPTION:
URL:https://elderbridge.org/events/fort-dodge-deercreek-apartments-fresh-conversations-on-may-18-2022-at-1145-am-to-1230-pm/
LOCATION:Fresh Conversations at Deercreek Apartments in Fort Dodge Iowa\, 700 South 17th Street\, Fort Dodge\, IA\, 50501\, United States
END:VEVENT
BEGIN:VEVENT
DTSTART;TZID=UTC:20220519T090000
DTEND;TZID=UTC:20220519T110000
DTSTAMP:20260422T003726
CREATED:20220503T180237Z
LAST-MODIFIED:20220503T180627Z
UID:6427-1652950800-1652958000@elderbridge.org
SUMMARY:Drive-Through Caregiver Appreciation Event on Thursday\, May 19th\, 2022\, from 9:00 AM to 11:00 AM
DESCRIPTION:
URL:https://elderbridge.org/events/drive-through-caregiver-appreciation-event-on-thursday-may-19th-2022-from-900-am-to-1100-am/
LOCATION:Regency Park Nursing and Rehabilitation\, 100 Ram Drive\, Jefferson\, IA\, 50129\, United States
ORGANIZER;CN="Emily Winker":MAILTO:ewinker@elderbridge.org
END:VEVENT
BEGIN:VEVENT
DTSTART;TZID=UTC:20220519T111000
DTEND;TZID=UTC:20220519T115500
DTSTAMP:20260422T003726
CREATED:20220504T002805Z
LAST-MODIFIED:20220504T002819Z
UID:6472-1652958600-1652961300@elderbridge.org
SUMMARY:Rockwell City Senior Center Fresh Conversations on May 19\, 2022 at 11:10 AM to 11:55 AM
DESCRIPTION:
URL:https://elderbridge.org/events/rockwell-city-senior-center-fresh-conversations-on-may-19-2022-at-1110-am-to-1155-am/
LOCATION:Rockwell City Fresh Conversations\, 422 Main St.\, Rockwell City\, IA\, 50579\, United States
ORGANIZER;CN="Sharla Kuyper":MAILTO:skuyper@elderbridge.org
END:VEVENT
BEGIN:VEVENT
DTSTART;TZID=UTC:20220523T100000
DTEND;TZID=UTC:20220523T111500
DTSTAMP:20260422T003726
CREATED:20220504T000652Z
LAST-MODIFIED:20220504T001141Z
UID:6464-1653300000-1653304500@elderbridge.org
SUMMARY:Mason City Pilgrim Place Fresh Conversations on May 23\, 2022 at 10 AM to 11:15 AM
DESCRIPTION:
URL:https://elderbridge.org/events/mason-city-pilgrim-place-on-may-23-2022-at-10-am-to-1115-am/
LOCATION:Fresh Conversations at Pilgrim Place Apartments in Mason City\, 741 South Illinois Avenue\, Mason City\, IA\, 50401\, United States
END:VEVENT
BEGIN:VEVENT
DTSTART;TZID=UTC:20220525T113000
DTEND;TZID=UTC:20220525T124500
DTSTAMP:20260422T003726
CREATED:20220503T225054Z
LAST-MODIFIED:20220503T225321Z
UID:6437-1653478200-1653482700@elderbridge.org
SUMMARY:Fort Dodge Citizens Central Fresh Conversation on May 25\, 2022 at 11:30 AM
DESCRIPTION:
URL:https://elderbridge.org/events/fort-dodge-citizens-central-fresh-conversation-on-may-25-2022-at-1130-am/
LOCATION:Fresh Conversations at Citizens Central in Fort Dodge\, 617 Central Ave\, Fort Dodge\, 50501\, United States
END:VEVENT
BEGIN:VEVENT
DTSTART;TZID=UTC:20220606T080000
DTEND;TZID=UTC:20220606T170000
DTSTAMP:20260422T003726
CREATED:20220606T052600Z
LAST-MODIFIED:20220606T052645Z
UID:6562-1654502400-1654534800@elderbridge.org
SUMMARY:Northwood Senior Citizens Center will have Fresh Conversations June 21 at 11:15 AM
DESCRIPTION:
URL:https://elderbridge.org/events/northwood-senior-citizens-center-will-have-fresh-conversations-june-21-at-1115-am/
END:VEVENT
BEGIN:VEVENT
DTSTART;TZID=UTC:20220607T111500
DTEND;TZID=UTC:20220607T121500
DTSTAMP:20260422T003726
CREATED:20220606T052329Z
LAST-MODIFIED:20220606T052342Z
UID:6559-1654600500-1654604100@elderbridge.org
SUMMARY:Manly Senior Center will have Fresh Conversations June 7 at 11:15 AM
DESCRIPTION:
URL:https://elderbridge.org/events/manly-senior-center-will-have-fresh-conversations-june-7-at-1115-am/
END:VEVENT
BEGIN:VEVENT
DTSTART;TZID=UTC:20220607T170000
DTEND;TZID=UTC:20220607T200000
DTSTAMP:20260422T003726
CREATED:20220526T161801Z
LAST-MODIFIED:20220606T060702Z
UID:6506-1654621200-1654632000@elderbridge.org
SUMMARY:Ready? Set\, Retire! ZOOM Presentation on Tuesday\, June 7\, 2022 at 5PM to 8PM
DESCRIPTION:Angie is inviting you to a Zoom meeting for Ready? Set\, Retire! \nWhen: Jun 7\, 2022\,  5:00 PM Central Time (the US and Canada) \n  \nRegister in advance for this meeting: \nhttps://us02web.zoom.us/meeting/register/tZcufuCqpz4tGt22oIYZIG7krCeM2mE3kWZW \nAfter registering\, you will receive a confirmation email containing information about joining the meeting. \n 
URL:https://elderbridge.org/events/ready-set-retire-zoom-presentation-june-7-2022-at-5pm-to-8pm/
LOCATION:ZOOM
ORGANIZER;CN="Angie Martens":MAILTO:amartens@elderbridge.org
END:VEVENT
BEGIN:VEVENT
DTSTART;TZID=UTC:20220608T110000
DTEND;TZID=UTC:20220608T113000
DTSTAMP:20260422T003726
CREATED:20220606T045754Z
LAST-MODIFIED:20220606T045754Z
UID:6541-1654686000-1654687800@elderbridge.org
SUMMARY:Charles City Senior Center has Fresh Conversations on June 8 at 11 AM
DESCRIPTION:
URL:https://elderbridge.org/events/charles-city-senior-center-has-fresh-conversations-on-june-8-at-11-am/
END:VEVENT
BEGIN:VEVENT
DTSTART;TZID=UTC:20220608T153000
DTEND;TZID=UTC:20220608T163000
DTSTAMP:20260422T003726
CREATED:20220606T045132Z
LAST-MODIFIED:20220606T045153Z
UID:6538-1654702200-1654705800@elderbridge.org
SUMMARY:Family Caregiver Support Group Wednesday\, June 8 from 3:30 to 4:30 PM at Park View Terrace in Estherville\, Iowa
DESCRIPTION:
URL:https://elderbridge.org/events/family-caregiver-support-group-wednesday-june-8-from-330-to-430-pm-at-park-view-terrace-in-estherville-iowa/
ORGANIZER;CN="Jenn Lappegard":MAILTO:jlappegard@elderbridge.org
END:VEVENT
BEGIN:VEVENT
DTSTART;TZID=UTC:20220614T123000
DTEND;TZID=UTC:20220614T130000
DTSTAMP:20260422T003726
CREATED:20220606T052045Z
LAST-MODIFIED:20220606T052059Z
UID:6556-1655209800-1655211600@elderbridge.org
SUMMARY:Lake Park Senior Center will have Fresh Conversations on June 14 at 12 PM
DESCRIPTION:
URL:https://elderbridge.org/events/lake-park-senior-center-will-have-fresh-conversations-on-june-14-at-12-pm/
END:VEVENT
BEGIN:VEVENT
DTSTART;TZID=UTC:20220614T170000
DTEND;TZID=UTC:20220614T200000
DTSTAMP:20260422T003726
CREATED:20220606T055057Z
LAST-MODIFIED:20220606T060459Z
UID:6581-1655226000-1655236800@elderbridge.org
SUMMARY:Ready? Set\, Retire! on June 14 at 5PM  Via ZOOM
DESCRIPTION:Angie is inviting you to a Zoom meeting. \nWhen: Jun 14\, 2022\,  5:00 PM Central Time (the US and Canada) \n  \nRegister in advance for this meeting: \nhttps://us02web.zoom.us/meeting/register/tZArc–pqzIoHNeX-acBRPMMqRnChv-DEvVB \n  \nAfter registering\, you will receive a confirmation email containing information about joining the meeting. \n 
URL:https://elderbridge.org/events/ready-set-retire-on-june-14-at-5pm-via-zoom/
END:VEVENT
BEGIN:VEVENT
DTSTART;TZID=UTC:20220614T170000
DTEND;TZID=UTC:20220614T200000
DTSTAMP:20260422T003726
CREATED:20220526T164033Z
LAST-MODIFIED:20220526T164033Z
UID:6510-1655226000-1655236800@elderbridge.org
SUMMARY:Ready? Set\, Retire! Zoom Presentation on Tuesday\, June14\, 2022 from 5pm to 8pm
DESCRIPTION:
URL:https://elderbridge.org/events/ready-set-retire-zoom-presentation-on-tuesday-june14-2022-from-5pm-to-8pm/
LOCATION:ZOOM
ORGANIZER;CN="Angie Martens":MAILTO:amartens@elderbridge.org
END:VEVENT
BEGIN:VEVENT
DTSTART;TZID=UTC:20220615T113000
DTEND;TZID=UTC:20220615T120000
DTSTAMP:20260422T003726
CREATED:20220606T053429Z
LAST-MODIFIED:20220606T053445Z
UID:6568-1655292600-1655294400@elderbridge.org
SUMMARY:Rockford Community Center will have Fresh Conversations on June 15 at 11:30 AM
DESCRIPTION:
URL:https://elderbridge.org/events/rockford-community-center-will-have-fresh-conversations-on-june-15-at-1130-am/
END:VEVENT
END:VCALENDAR