BEGIN:VCALENDAR
VERSION:2.0
PRODID:-//Elderbridge Agency On Aging - ECPv6.15.20//NONSGML v1.0//EN
CALSCALE:GREGORIAN
METHOD:PUBLISH
X-WR-CALNAME:Elderbridge Agency On Aging
X-ORIGINAL-URL:https://elderbridge.org
X-WR-CALDESC:Events for Elderbridge Agency On Aging
REFRESH-INTERVAL;VALUE=DURATION:PT1H
X-Robots-Tag:noindex
X-PUBLISHED-TTL:PT1H
BEGIN:VTIMEZONE
TZID:UTC
BEGIN:STANDARD
TZOFFSETFROM:+0000
TZOFFSETTO:+0000
TZNAME:UTC
DTSTART:20230101T000000
END:STANDARD
END:VTIMEZONE
BEGIN:VEVENT
DTSTART;TZID=UTC:20240820T121500
DTEND;TZID=UTC:20240820T124500
DTSTAMP:20260421T225143
CREATED:20240715T231528Z
LAST-MODIFIED:20240715T232540Z
UID:10377-1724156100-1724157900@elderbridge.org
SUMMARY:Fresh Conversations at Northwood Senior Center on Tuesday August 20 at 12:15 PM
DESCRIPTION:
URL:https://elderbridge.org/events/fresh-conversations-at-northwood-senior-center-on-tuesday-august-20-at-1215-pm/
END:VEVENT
BEGIN:VEVENT
DTSTART;TZID=UTC:20240821T113000
DTEND;TZID=UTC:20240821T120000
DTSTAMP:20260421T225143
CREATED:20240715T231113Z
LAST-MODIFIED:20240724T215501Z
UID:10371-1724239800-1724241600@elderbridge.org
SUMMARY:Fresh Conversations at the Eagle Grove Senior Center in Fort Dodge on Thursday August 21 at 11:30 AM
DESCRIPTION:
URL:https://elderbridge.org/events/fresh-conversations-at-the-eagle-grover-senior-center-on-thursday-august-15-at-1130-am/
END:VEVENT
BEGIN:VEVENT
DTSTART;TZID=UTC:20240821T114500
DTEND;TZID=UTC:20240821T121500
DTSTAMP:20260421T225143
CREATED:20240715T225829Z
LAST-MODIFIED:20240715T232227Z
UID:10368-1724240700-1724242500@elderbridge.org
SUMMARY:Fresh Conversations at Deercreek Apartments in Fort Dodge on Wednesday August 21 at 11:45 AM
DESCRIPTION:
URL:https://elderbridge.org/events/fresh-conversations-at-deercreek-apartments-in-fort-dodge-on-wednesday-august-21-at-1145-am/
END:VEVENT
BEGIN:VEVENT
DTSTART;TZID=UTC:20240821T150000
DTEND;TZID=UTC:20240821T160000
DTSTAMP:20260421T225143
CREATED:20230204T005903Z
LAST-MODIFIED:20230204T005903Z
UID:8221-1724252400-1724256000@elderbridge.org
SUMMARY:Webster County Caregiver Support Group 3rd Wednesday of Every Month
DESCRIPTION:
URL:https://elderbridge.org/events/webster-county-caregiver-support-group-3rd-wednesday-of-every-month/2024-08-21/
END:VEVENT
BEGIN:VEVENT
DTSTART;TZID=UTC:20240827T123000
DTEND;TZID=UTC:20240827T130000
DTSTAMP:20260421T225143
CREATED:20240715T231739Z
LAST-MODIFIED:20240715T231748Z
UID:10380-1724761800-1724763600@elderbridge.org
SUMMARY:Fresh Conversations at the Lakes Area Senior Center in Spirit Lake on August 27 at 12:30 PM
DESCRIPTION:
URL:https://elderbridge.org/events/fresh-conversations-at-the-lakes-area-senior-center-in-spirit-lake-on-august-27-at-1230-pm/
END:VEVENT
BEGIN:VEVENT
DTSTART;TZID=UTC:20240827T143000
DTEND;TZID=UTC:20240827T163000
DTSTAMP:20260421T225143
CREATED:20240826T105110Z
LAST-MODIFIED:20240828T105632Z
UID:10484-1724769000-1724776200@elderbridge.org
SUMMARY:Elderbridge Service Specialist will be at Prairie View Apartments on August 27 from 2:30 PM to 4:30 PM
DESCRIPTION:
URL:https://elderbridge.org/events/elderbridge-service-specialist-will-be-at-prairie-view-apartments-on-august-27-from-230-pm-to-430-pm/
END:VEVENT
BEGIN:VEVENT
DTSTART;TZID=UTC:20240910T123000
DTEND;TZID=UTC:20240910T133000
DTSTAMP:20260421T225143
CREATED:20240926T212412Z
LAST-MODIFIED:20240926T212412Z
UID:10544-1725971400-1725975000@elderbridge.org
SUMMARY:Fresh Conversations at Manly Senior Center on September 10 at 12:30 PM
DESCRIPTION:
URL:https://elderbridge.org/events/fresh-conversations-at-manly-senior-center-on-september-10-at-1230-pm/
END:VEVENT
BEGIN:VEVENT
DTSTART;TZID=UTC:20240911T110000
DTEND;TZID=UTC:20240911T233000
DTSTAMP:20260421T225143
CREATED:20240926T211204Z
LAST-MODIFIED:20240926T211240Z
UID:10533-1726052400-1726097400@elderbridge.org
SUMMARY:Fresh Conversations at the Charles City Senior Center September 11 at 11:00 AM
DESCRIPTION:
URL:https://elderbridge.org/events/fresh-conversations-at-the-charles-city-senior-center-september-11-at-1100am/
END:VEVENT
BEGIN:VEVENT
DTSTART;TZID=UTC:20240917T121500
DTEND;TZID=UTC:20240917T124500
DTSTAMP:20260421T225143
CREATED:20240926T212644Z
LAST-MODIFIED:20240926T212644Z
UID:10548-1726575300-1726577100@elderbridge.org
SUMMARY:Fresh Conversations at Northwood Senior Center on September 17 at 12:15 PM
DESCRIPTION:
URL:https://elderbridge.org/events/fresh-conversations-at-northwood-senior-center-on-september-17-at-1215-pm/
END:VEVENT
BEGIN:VEVENT
DTSTART;TZID=UTC:20240918T113000
DTEND;TZID=UTC:20240918T120000
DTSTAMP:20260421T225143
CREATED:20240926T213920Z
LAST-MODIFIED:20240926T213920Z
UID:10556-1726659000-1726660800@elderbridge.org
SUMMARY:Fresh Conversations at Eagle Grove Senior Center on September 18 at 11:30 AM
DESCRIPTION:
URL:https://elderbridge.org/events/fresh-conversations-at-eagle-grove-senior-center-on-september-18-at-1130-am/
END:VEVENT
BEGIN:VEVENT
DTSTART;TZID=UTC:20240918T114500
DTEND;TZID=UTC:20240918T121500
DTSTAMP:20260421T225143
CREATED:20240926T212124Z
LAST-MODIFIED:20240926T212124Z
UID:10541-1726659900-1726661700@elderbridge.org
SUMMARY:Fresh Conversations at Deercreek Apartments on September 18 at 11:45 AM
DESCRIPTION:
URL:https://elderbridge.org/events/fresh-conversations-at-deercreek-apartments-on-september-18-at-1145-am/
END:VEVENT
BEGIN:VEVENT
DTSTART;TZID=UTC:20240918T150000
DTEND;TZID=UTC:20240918T160000
DTSTAMP:20260421T225143
CREATED:20230204T005903Z
LAST-MODIFIED:20230204T005903Z
UID:8222-1726671600-1726675200@elderbridge.org
SUMMARY:Webster County Caregiver Support Group 3rd Wednesday of Every Month
DESCRIPTION:
URL:https://elderbridge.org/events/webster-county-caregiver-support-group-3rd-wednesday-of-every-month/2024-09-18/
END:VEVENT
BEGIN:VEVENT
DTSTART;TZID=UTC:20240919T100000
DTEND;TZID=UTC:20240919T110000
DTSTAMP:20260421T225143
CREATED:20230203T011921Z
LAST-MODIFIED:20231130T172138Z
UID:9187-1726740000-1726743600@elderbridge.org
SUMMARY:Virtual Caregiver Support Group 3rd Thursday of Every Month
DESCRIPTION:
URL:https://elderbridge.org/events/virtual-caregiver-support-group-3rd-thursday-of-every-month/2024-09-19/
END:VEVENT
BEGIN:VEVENT
DTSTART;TZID=UTC:20240924T123000
DTEND;TZID=UTC:20240924T130000
DTSTAMP:20260421T225143
CREATED:20240926T212826Z
LAST-MODIFIED:20240926T212955Z
UID:10551-1727181000-1727182800@elderbridge.org
SUMMARY:Fresh Conversations at Lakes Area Center on September 24 at 12:30 PM
DESCRIPTION:
URL:https://elderbridge.org/events/10551/
END:VEVENT
BEGIN:VEVENT
DTSTART;TZID=UTC:20241008T123000
DTEND;TZID=UTC:20241008T130000
DTSTAMP:20260421T225143
CREATED:20240929T040346Z
LAST-MODIFIED:20240929T040356Z
UID:10569-1728390600-1728392400@elderbridge.org
SUMMARY:Fresh Conversations at Manly Senior Center on October 8 at 12:30 PM
DESCRIPTION:
URL:https://elderbridge.org/events/fresh-conversations-at-manly-senior-center-on-october-8-at-1230-pm/
END:VEVENT
BEGIN:VEVENT
DTSTART;TZID=UTC:20241009T110000
DTEND;TZID=UTC:20241009T113000
DTSTAMP:20260421T225143
CREATED:20240929T035415Z
LAST-MODIFIED:20240929T035430Z
UID:10559-1728471600-1728473400@elderbridge.org
SUMMARY:Fresh Conversations at the Charles City Senior Center on October 9\, 2024 at 11:00 AM
DESCRIPTION:
URL:https://elderbridge.org/events/fresh-conversations-at-the-charles-city-senior-center-on-october-9-2024-at-1100-am/
END:VEVENT
BEGIN:VEVENT
DTSTART;TZID=UTC:20241015T121500
DTEND;TZID=UTC:20241015T124500
DTSTAMP:20260421T225143
CREATED:20240929T040844Z
LAST-MODIFIED:20240929T040844Z
UID:10572-1728994500-1728996300@elderbridge.org
SUMMARY:Fresh Conversations at Northwood Senior Center on October 15 at 12:15 AM
DESCRIPTION:
URL:https://elderbridge.org/events/fresh-conversations-at-northwood-senior-center-on-october-15-at-1215-am/
END:VEVENT
BEGIN:VEVENT
DTSTART;TZID=UTC:20241016T113000
DTEND;TZID=UTC:20241016T120000
DTSTAMP:20260421T225143
CREATED:20240929T040028Z
LAST-MODIFIED:20240929T040043Z
UID:10566-1729078200-1729080000@elderbridge.org
SUMMARY:Fresh COnversations at Eagle Grove Senior Center on October 16 at 11:30 AM to
DESCRIPTION:
URL:https://elderbridge.org/events/fresh-conversations-at-eagle-grove-senior-center-on-october-16-at-1130-am-to/
END:VEVENT
BEGIN:VEVENT
DTSTART;TZID=UTC:20241016T114500
DTEND;TZID=UTC:20241016T121500
DTSTAMP:20260421T225143
CREATED:20240929T035738Z
LAST-MODIFIED:20240929T035738Z
UID:10562-1729079100-1729080900@elderbridge.org
SUMMARY:Fresh Conversations at Deercreek Apartments on October 16 at 11:45 AM
DESCRIPTION:
URL:https://elderbridge.org/events/fresh-conversations-at-deercreek-apartments-on-october-16-at-1145-am/
END:VEVENT
BEGIN:VEVENT
DTSTART;TZID=UTC:20241016T150000
DTEND;TZID=UTC:20241016T160000
DTSTAMP:20260421T225143
CREATED:20230204T005903Z
LAST-MODIFIED:20230204T005903Z
UID:8223-1729090800-1729094400@elderbridge.org
SUMMARY:Webster County Caregiver Support Group 3rd Wednesday of Every Month
DESCRIPTION:
URL:https://elderbridge.org/events/webster-county-caregiver-support-group-3rd-wednesday-of-every-month/2024-10-16/
END:VEVENT
BEGIN:VEVENT
DTSTART;TZID=UTC:20241017T100000
DTEND;TZID=UTC:20241017T110000
DTSTAMP:20260421T225143
CREATED:20230203T011921Z
LAST-MODIFIED:20231130T172138Z
UID:9188-1729159200-1729162800@elderbridge.org
SUMMARY:Virtual Caregiver Support Group 3rd Thursday of Every Month
DESCRIPTION:
URL:https://elderbridge.org/events/virtual-caregiver-support-group-3rd-thursday-of-every-month/2024-10-17/
END:VEVENT
BEGIN:VEVENT
DTSTART;TZID=UTC:20241024T093000
DTEND;TZID=UTC:20241024T113000
DTSTAMP:20260421T225143
CREATED:20241015T213051Z
LAST-MODIFIED:20241015T213343Z
UID:10595-1729762200-1729769400@elderbridge.org
SUMMARY:Elderbridge Staff will be at Forest City Senior Center on October 24\, 2024 at 9:30 AM to 11:30 AM to Assist Medicare Eligible Low-Income Individuals Identify Benefit Programs
DESCRIPTION:
URL:https://elderbridge.org/events/elderbridge-staff-will-be-at-forest-city-senior-center-on-october-24/
END:VEVENT
BEGIN:VEVENT
DTSTART;TZID=UTC:20241029T123000
DTEND;TZID=UTC:20241029T130000
DTSTAMP:20260421T225143
CREATED:20240929T041118Z
LAST-MODIFIED:20240929T041131Z
UID:10575-1730205000-1730206800@elderbridge.org
SUMMARY:Fresh Conversations at Lakes Area Senior Center on October 29 at 12:30 PM
DESCRIPTION:
URL:https://elderbridge.org/events/fresh-conversations-at-lakes-area-senior-center-on-october-29-at-1230-pm/
END:VEVENT
BEGIN:VEVENT
DTSTART;TZID=UTC:20241113T110000
DTEND;TZID=UTC:20241113T120000
DTSTAMP:20260421T225143
CREATED:20241101T204206Z
LAST-MODIFIED:20241101T204218Z
UID:10653-1731495600-1731499200@elderbridge.org
SUMMARY:Fresh Conversations in Charles City at the Senior Center November 13 at 11:00 AM
DESCRIPTION:
URL:https://elderbridge.org/events/fresh-conversations-in-charles-city-at-the-senior-center-november-13-at-1100-am/
END:VEVENT
BEGIN:VEVENT
DTSTART;TZID=UTC:20241113T113000
DTEND;TZID=UTC:20241113T120000
DTSTAMP:20260421T225143
CREATED:20241101T211540Z
LAST-MODIFIED:20241101T211616Z
UID:10659-1731497400-1731499200@elderbridge.org
SUMMARY:Fresh Conversations at Eagle Grove Senior Center on Wednesday\, November 13 at 11:30 AM
DESCRIPTION:
URL:https://elderbridge.org/events/fresh-conversations-at-eagle-grove-senior-center-on-wednesday-november-13-at-1130-am/
END:VEVENT
BEGIN:VEVENT
DTSTART;TZID=UTC:20241114T100000
DTEND;TZID=UTC:20241114T140000
DTSTAMP:20260421T225143
CREATED:20241025T005022Z
LAST-MODIFIED:20241025T005116Z
UID:10636-1731578400-1731592800@elderbridge.org
SUMMARY:Fort Dodge Caregiver Appreciation Event November 14\, 2024 at 10 AM to 2:00 PM at the Laramar Ballroom
DESCRIPTION:
URL:https://elderbridge.org/events/fort-dodge-caregiver-appreciation-event-november-14-2024-at-10-am-to-200-pm-at-the-laramar-ballroom/
END:VEVENT
BEGIN:VEVENT
DTSTART;TZID=UTC:20241120T090000
DTEND;TZID=UTC:20241120T153000
DTSTAMP:20260421T225143
CREATED:20240807T014052Z
LAST-MODIFIED:20240807T014052Z
UID:10440-1732093200-1732116600@elderbridge.org
SUMMARY:Save the Date Caregiver Conference on November 20\, 2024 at the Clay County Regional Events Center
DESCRIPTION:
URL:https://elderbridge.org/events/save-the-date-caregiver-conference-on-november-20-2024-at-the-clay-county-regional-events-center/
LOCATION:Clay County Regional Events Center\, 800 W. 18th Street\, Spencer\, IA\, 51333\, United States
END:VEVENT
BEGIN:VEVENT
DTSTART;TZID=UTC:20241120T114500
DTEND;TZID=UTC:20241120T123000
DTSTAMP:20260421T225143
CREATED:20241101T204659Z
LAST-MODIFIED:20241101T204712Z
UID:10656-1732103100-1732105800@elderbridge.org
SUMMARY:Fresh Conversations at Deercreek Apartments in Fort Dodge on Wednesday\, November 20 at 11:45 AM
DESCRIPTION:
URL:https://elderbridge.org/events/fresh-conversations-at-deercreek-apartments-in-fort-dodge-on-wednesday-november-20-at-1145-am/
END:VEVENT
BEGIN:VEVENT
DTSTART;TZID=UTC:20241120T150000
DTEND;TZID=UTC:20241120T160000
DTSTAMP:20260421T225143
CREATED:20230204T005903Z
LAST-MODIFIED:20230204T005903Z
UID:8224-1732114800-1732118400@elderbridge.org
SUMMARY:Webster County Caregiver Support Group 3rd Wednesday of Every Month
DESCRIPTION:
URL:https://elderbridge.org/events/webster-county-caregiver-support-group-3rd-wednesday-of-every-month/2024-11-20/
END:VEVENT
BEGIN:VEVENT
DTSTART;TZID=UTC:20241121T100000
DTEND;TZID=UTC:20241121T110000
DTSTAMP:20260421T225143
CREATED:20230203T011921Z
LAST-MODIFIED:20231130T172142Z
UID:9189-1732183200-1732186800@elderbridge.org
SUMMARY:Virtual Caregiver Support Group 3rd Thursday of Every Month
DESCRIPTION:
URL:https://elderbridge.org/events/virtual-caregiver-support-group-3rd-thursday-of-every-month/2024-11-21/
END:VEVENT
END:VCALENDAR