BEGIN:VCALENDAR
VERSION:2.0
PRODID:-//Elderbridge Agency On Aging - ECPv6.15.20//NONSGML v1.0//EN
CALSCALE:GREGORIAN
METHOD:PUBLISH
X-WR-CALNAME:Elderbridge Agency On Aging
X-ORIGINAL-URL:https://elderbridge.org
X-WR-CALDESC:Events for Elderbridge Agency On Aging
REFRESH-INTERVAL;VALUE=DURATION:PT1H
X-Robots-Tag:noindex
X-PUBLISHED-TTL:PT1H
BEGIN:VTIMEZONE
TZID:UTC
BEGIN:STANDARD
TZOFFSETFROM:+0000
TZOFFSETTO:+0000
TZNAME:UTC
DTSTART:20200101T000000
END:STANDARD
END:VTIMEZONE
BEGIN:VTIMEZONE
TZID:America/Chicago
BEGIN:DAYLIGHT
TZOFFSETFROM:-0600
TZOFFSETTO:-0500
TZNAME:CDT
DTSTART:20200308T080000
END:DAYLIGHT
BEGIN:STANDARD
TZOFFSETFROM:-0500
TZOFFSETTO:-0600
TZNAME:CST
DTSTART:20201101T070000
END:STANDARD
BEGIN:DAYLIGHT
TZOFFSETFROM:-0600
TZOFFSETTO:-0500
TZNAME:CDT
DTSTART:20210314T080000
END:DAYLIGHT
BEGIN:STANDARD
TZOFFSETFROM:-0500
TZOFFSETTO:-0600
TZNAME:CST
DTSTART:20211107T070000
END:STANDARD
BEGIN:DAYLIGHT
TZOFFSETFROM:-0600
TZOFFSETTO:-0500
TZNAME:CDT
DTSTART:20220313T080000
END:DAYLIGHT
BEGIN:STANDARD
TZOFFSETFROM:-0500
TZOFFSETTO:-0600
TZNAME:CST
DTSTART:20221106T070000
END:STANDARD
END:VTIMEZONE
BEGIN:VEVENT
DTSTART;TZID=UTC:20211026T100000
DTEND;TZID=UTC:20211026T110000
DTSTAMP:20260422T021541
CREATED:20211014T010857Z
LAST-MODIFIED:20220223T054751Z
UID:2855-1635242400-1635246000@elderbridge.org
SUMMARY:Dementia Friends Iowa October 26th  at 10AM ZOOM
DESCRIPTION:
URL:https://elderbridge.org/events/dementia-friends-iowa-october-26th-at-10am-zoom/
ORGANIZER;CN="Emily Winker":MAILTO:ewinker@elderbridge.org
END:VEVENT
BEGIN:VEVENT
DTSTART;TZID=America/Chicago:20211207T150000
DTEND;TZID=America/Chicago:20211207T160000
DTSTAMP:20260422T021541
CREATED:20211216T213737Z
LAST-MODIFIED:20220223T045141Z
UID:4446-1638889200-1638892800@elderbridge.org
SUMMARY:Coon Rapids Caregiver Support Group
DESCRIPTION:
URL:https://elderbridge.org/events/coon-rapids-caregiver-support-group/2021-12-07/
ORGANIZER;CN="Emily Winker":MAILTO:ewinker@elderbridge.org
END:VEVENT
BEGIN:VEVENT
DTSTART;TZID=UTC:20211216T150000
DTEND;TZID=UTC:20211216T160000
DTSTAMP:20260422T021541
CREATED:20211202T062402Z
LAST-MODIFIED:20220223T044958Z
UID:3114-1639666800-1639670400@elderbridge.org
SUMMARY:Virtual Caregiver Support Group
DESCRIPTION:
URL:https://elderbridge.org/events/recurring-event/2021-12-16/
ATTACH;FMTTYPE=image/png:https://elderbridge.org/wp-content/uploads/2021/11/VirtualCaregiverSupportGroup.png
END:VEVENT
BEGIN:VEVENT
DTSTART;TZID=UTC:20211216T153000
DTEND;TZID=UTC:20211216T163000
DTSTAMP:20260422T021541
CREATED:20211215T223736Z
LAST-MODIFIED:20220804T091035Z
UID:4428-1639668600-1639672200@elderbridge.org
SUMMARY:Webster County Caregiver Support Group at Fort Dodge Library on the 3rd Thursday of Each Month
DESCRIPTION:
URL:https://elderbridge.org/events/webster-county-caregiver-support-group/2021-12-16/
LOCATION:Fort Dodge Public Library\, 424 Central Avenue\, Fort Dodge\, 50501\, United States
END:VEVENT
BEGIN:VEVENT
DTSTART;TZID=UTC:20211221T105000
DTEND;TZID=UTC:20211221T232000
DTSTAMP:20260422T021541
CREATED:20211215T211859Z
LAST-MODIFIED:20220223T054551Z
UID:4396-1640083800-1640128800@elderbridge.org
SUMMARY:Nutrition Conversations
DESCRIPTION:
URL:https://elderbridge.org/events/nutrition-conversations/
LOCATION:Eagle Grove Senior Center\, 310 West Broadway\, Eagle Grove\, Iowa\, 50533\, United States
ORGANIZER;CN="Sharla Kuyper":MAILTO:skuyper@elderbridge.org
END:VEVENT
BEGIN:VEVENT
DTSTART;TZID=UTC:20220104T090000
DTEND;TZID=UTC:20220104T100000
DTSTAMP:20260422T021541
CREATED:20220114T022019Z
LAST-MODIFIED:20220419T024812Z
UID:4860-1641286800-1641290400@elderbridge.org
SUMMARY:Medicare Conversations with Thomasina at Sunset Apartments on the 1st Tuesday of Every Month from 9:00am to 10:30am
DESCRIPTION:
URL:https://elderbridge.org/events/medicare-conversations-with-thomasins-at-sunset-apartments-on-the-1st-tuesday-of-every-month-from-900am-to-1030am/2022-01-04/
LOCATION:Sunset Apartments 118 E 21st St Spencer\, IA 51301\, 118 E 21st St\, Spencer\,\, IA\, 51301\, United States
ORGANIZER;CN="Thomasina Hegg":MAILTO:thegg@elderbridge.org
END:VEVENT
BEGIN:VEVENT
DTSTART;TZID=UTC:20220104T104500
DTEND;TZID=UTC:20220104T120000
DTSTAMP:20260422T021541
CREATED:20220114T022805Z
LAST-MODIFIED:20220223T054455Z
UID:4862-1641293100-1641297600@elderbridge.org
SUMMARY:Medicare Conversations with Thomasina the 1st Tuesday of every month from 10:45am to 12:00pm at the Spencer Manor Community Room
DESCRIPTION:
URL:https://elderbridge.org/events/medicare-conversations-with-thomasina-the-1st-tuesday-of-every-month-from-1045am-to-1200pm-at-the-spencer-manor-community-room/
LOCATION:Spencer Manor\, 503 E 19th St\, Spencer\, IA\, 51301\, United States
ORGANIZER;CN="Thomasina Hegg":MAILTO:thegg@elderbridge.org
END:VEVENT
BEGIN:VEVENT
DTSTART;TZID=UTC:20220107T110000
DTEND;TZID=UTC:20220107T114500
DTSTAMP:20260422T021541
CREATED:20220105T005605Z
LAST-MODIFIED:20220223T054415Z
UID:4562-1641553200-1641555900@elderbridge.org
SUMMARY:Fresh Conversations at the Charles City Senior Center January 7 at 11am
DESCRIPTION:
URL:https://elderbridge.org/events/fresh-conversations-presented-by-elderbridge-agency-on-aging-at-the-charles-city-senior-center-january-7-at-11am/
LOCATION:900 Hulin Ave Charles City\, Iowa\, 900 Hulin Avenue\, Charles City\, IA\, 50616\, United States
END:VEVENT
BEGIN:VEVENT
DTSTART;TZID=UTC:20220112T111500
DTEND;TZID=UTC:20220112T123000
DTSTAMP:20260422T021541
CREATED:20220105T011156Z
LAST-MODIFIED:20220223T054349Z
UID:4569-1641986100-1641990600@elderbridge.org
SUMMARY:Fresh Conversation s at Manly Senior Citizens Center January 12 at 11:15am
DESCRIPTION:
URL:https://elderbridge.org/events/fresh-conversation-s-at-manly-senior-citizens-center/
LOCATION:Fresh Conversations at Manly Senior Citizens Center\, 137 East Main Street\, Manly\, 50456\, United States
END:VEVENT
BEGIN:VEVENT
DTSTART;TZID=UTC:20220118T111500
DTEND;TZID=UTC:20220118T120000
DTSTAMP:20260422T021541
CREATED:20220105T021250Z
LAST-MODIFIED:20220223T054254Z
UID:4584-1642504500-1642507200@elderbridge.org
SUMMARY:Fresh Conversations at Northwood Senior Citizens Center on January 18 at 11:15am
DESCRIPTION:
URL:https://elderbridge.org/events/fresh-conversations-at-northwood-senior-citizens-center-on-january-18-at-1115-am/
LOCATION:Fresh Conversations at Northwood Senior Citizens Center\, 720 Central Avenue\, Northwood\, 50459\, United States
END:VEVENT
BEGIN:VEVENT
DTSTART;TZID=UTC:20220118T170000
DTEND;TZID=UTC:20220118T200000
DTSTAMP:20260422T021541
CREATED:20220105T035248Z
LAST-MODIFIED:20220223T054223Z
UID:4646-1642525200-1642536000@elderbridge.org
SUMMARY:Ready? Set\, Retire! January 18 and January 25 at 5pm to 8pm via ZOOM
DESCRIPTION:
URL:https://elderbridge.org/events/ready-set-retire-january-18-and-january-25-at-5pm-to-8pm-via-zoom/
LOCATION:ZOOM
ORGANIZER;CN="Thomasina Hegg":MAILTO:thegg@elderbridge.org
END:VEVENT
BEGIN:VEVENT
DTSTART;TZID=UTC:20220119T100000
DTEND;TZID=UTC:20220119T110000
DTSTAMP:20260422T021541
CREATED:20220106T214243Z
LAST-MODIFIED:20220223T054149Z
UID:4710-1642586400-1642590000@elderbridge.org
SUMMARY:Dementia Friends Iowa with Emily Winker on January 19th at 10AM Via ZOOM
DESCRIPTION:
URL:https://elderbridge.org/events/demtia-friends-iowa-with-emily-winker-on-january-19th-at-10am-via-zoom/
ORGANIZER;CN="Emily Winker":MAILTO:ewinker@elderbridge.org
END:VEVENT
BEGIN:VEVENT
DTSTART;TZID=UTC:20220119T113000
DTEND;TZID=UTC:20220119T121500
DTSTAMP:20260422T021541
CREATED:20220105T022548Z
LAST-MODIFIED:20220223T054055Z
UID:4593-1642591800-1642594500@elderbridge.org
SUMMARY:Fresh Conversations at Rockford Community Center on January 19 at 11:30am
DESCRIPTION:
URL:https://elderbridge.org/events/fresh-conversations-at-rockford-community-center-on-january-19-at-1130am/
LOCATION:Fresh Conversations at Rockford Community Center March 16 at 11:30 AM\, 206 West Main Avenue\, Rockford\, IA\, 50468\, United States
END:VEVENT
BEGIN:VEVENT
DTSTART;TZID=UTC:20220119T114500
DTEND;TZID=UTC:20220119T123000
DTSTAMP:20260422T021541
CREATED:20220105T032614Z
LAST-MODIFIED:20220223T053957Z
UID:4630-1642592700-1642595400@elderbridge.org
SUMMARY:Fresh Conversations at Deercreek Apartments in Fort Dodge on January 19 at 11:45am
DESCRIPTION:
URL:https://elderbridge.org/events/fresh-conversations-at-deercreek-apartments-in-fort-dodge-on-january-19-at-1145am/
LOCATION:Fresh Conversations at Deercreek Apartments in Fort Dodge Iowa\, 700 South 17th Street\, Fort Dodge\, IA\, 50501\, United States
END:VEVENT
BEGIN:VEVENT
DTSTART;TZID=UTC:20220119T120000
DTEND;TZID=UTC:20220119T124500
DTSTAMP:20260422T021541
CREATED:20220105T021826Z
LAST-MODIFIED:20220223T053920Z
UID:4588-1642593600-1642596300@elderbridge.org
SUMMARY:Fresh Conversations at Osage Senior Center on January 19 at 12pm
DESCRIPTION:
URL:https://elderbridge.org/events/fresh-conversations-at-osage-senior-center-january-19-at-12pm/
LOCATION:Fresh Conversations at Osage Senior Center\, 615 State Street\, Osage\, Iowa\, 50461
END:VEVENT
BEGIN:VEVENT
DTSTART;TZID=UTC:20220119T133000
DTEND;TZID=UTC:20220119T143000
DTSTAMP:20260422T021541
CREATED:20220105T004732Z
LAST-MODIFIED:20220223T053853Z
UID:4558-1642599000-1642602600@elderbridge.org
SUMMARY:Fresh Conversations at Elderbridge Agency on Aging in Mason City\, IA on January 19 at 1:30 PM
DESCRIPTION:
URL:https://elderbridge.org/events/fresh-conversations-at-elderbridge-agency-on-aging-mason-city-ia-january-19-at-130pm/
LOCATION:Fresh Conversations at Elderbridge Agency on Aging\, 1190 Briarstone Drive\, Ste. 3\, Mason City\, IA\, 50401
ORGANIZER;CN="Jodi Applegate":MAILTO:japplegate@elderbridge.org
END:VEVENT
BEGIN:VEVENT
DTSTART;TZID=UTC:20220124T100000
DTEND;TZID=UTC:20220124T104500
DTSTAMP:20260422T021541
CREATED:20220105T034314Z
LAST-MODIFIED:20220223T053711Z
UID:4639-1643018400-1643021100@elderbridge.org
SUMMARY:Fresh Conversations at Pilgrim Place Apartments in Mason City on January 24 at 10:00am
DESCRIPTION:
URL:https://elderbridge.org/events/fresh-conversations-at-pilgrim-place-apartments-in-mason-city-on-january-24-at-1000am/
LOCATION:Fresh Conversations at Pilgrim Place Apartments in Mason City\, 741 South Illinois Avenue\, Mason City\, IA\, 50401\, United States
END:VEVENT
BEGIN:VEVENT
DTSTART;TZID=UTC:20220125T170000
DTEND;TZID=UTC:20220125T200000
DTSTAMP:20260422T021541
CREATED:20220105T035846Z
LAST-MODIFIED:20220223T053646Z
UID:4650-1643130000-1643140800@elderbridge.org
SUMMARY:Ready? Set\, Retire! January 18 and January 25 at 5pm to 8pm via ZOOM
DESCRIPTION:
URL:https://elderbridge.org/events/ready-set-retire-january-18-and-january-25-at-5pm-to-8pm-via-zoom-2/
LOCATION:ZOOM
ORGANIZER;CN="Thomasina Hegg":MAILTO:thegg@elderbridge.org
END:VEVENT
BEGIN:VEVENT
DTSTART;TZID=UTC:20220126T080000
DTEND;TZID=UTC:20220126T170000
DTSTAMP:20260422T021541
CREATED:20220126T005820Z
LAST-MODIFIED:20220223T053611Z
UID:5059-1643184000-1643216400@elderbridge.org
SUMMARY:Fresh Conversations at Pilgrim Place Apartments\, Mason City\, IA. on Monday\, February 28 at 10 AM
DESCRIPTION:
URL:https://elderbridge.org/events/fresh-conversations-at-pilgrim-place-apartments-mason-city-ia-on-monday-february-28-at-10-am/
LOCATION:Fresh Conversations at Pilgrim Place Apartments in Mason City\, 741 South Illinois Avenue\, Mason City\, IA\, 50401\, United States
END:VEVENT
BEGIN:VEVENT
DTSTART;TZID=UTC:20220201T130000
DTEND;TZID=UTC:20220201T140000
DTSTAMP:20260422T021541
CREATED:20220105T001854Z
LAST-MODIFIED:20220223T052511Z
UID:4500-1643720400-1643724000@elderbridge.org
SUMMARY:Seated Tai Chi for Arthritis ZOOM with Amber Snyder
DESCRIPTION:
URL:https://elderbridge.org/events/seated-tai-chi-for-arthritis/2022-02-01/
LOCATION:ZOOM
ORGANIZER;CN="Amber Snyder":MAILTO:asnyder@elderbridge.org
END:VEVENT
BEGIN:VEVENT
DTSTART;TZID=UTC:20220209T110000
DTEND;TZID=UTC:20220209T114500
DTSTAMP:20260422T021541
CREATED:20220202T010045Z
LAST-MODIFIED:20220223T053448Z
UID:5082-1644404400-1644407100@elderbridge.org
SUMMARY:Fresh Conversations at Charles City Senior Center on February 9 at 11:00 AM
DESCRIPTION:
URL:https://elderbridge.org/events/fresh-conversations-at-charles-city-senior-center-on-february-9-at-1100-am/
LOCATION:Fresh Conversations at\, 900 Hulin Avenue\, Charles City\, IA\, 50616\, United States
END:VEVENT
BEGIN:VEVENT
DTSTART;TZID=UTC:20220209T110000
DTEND;TZID=UTC:20220209T120000
DTSTAMP:20260422T021541
CREATED:20220125T162246Z
LAST-MODIFIED:20220223T053405Z
UID:5045-1644404400-1644408000@elderbridge.org
SUMMARY:Nutrition Conversations at Charles City Senior Center in Charles City\, IA\, on February 9\, at 11:00 AM
DESCRIPTION:
URL:https://elderbridge.org/events/nutrition-conversations-at-charles-city-senior-center-in-charles-city-ia-on-february-9-at-1100-am/
LOCATION:900 Hulin Ave Charles City\, Iowa\, 900 Hulin Avenue\, Charles City\, IA\, 50616\, United States
END:VEVENT
BEGIN:VEVENT
DTSTART;TZID=UTC:20220210T111500
DTEND;TZID=UTC:20220210T120000
DTSTAMP:20260422T021541
CREATED:20220202T010411Z
LAST-MODIFIED:20220223T053339Z
UID:5086-1644491700-1644494400@elderbridge.org
SUMMARY:Fresh Conversations at Manly Senior Center on February 10 at 11:15 AM
DESCRIPTION:
URL:https://elderbridge.org/events/fresh-conversations-at-manly-senior-center-on-february-10-at-1115-am/
LOCATION:Fresh Conversations at Manly Senior Citizens Center\, 137 East Main Street\, Manly\, 50456\, United States
END:VEVENT
BEGIN:VEVENT
DTSTART;TZID=UTC:20220215T120000
DTEND;TZID=UTC:20220215T124500
DTSTAMP:20260422T021541
CREATED:20220205T022349Z
LAST-MODIFIED:20220223T053237Z
UID:5137-1644926400-1644929100@elderbridge.org
SUMMARY:Fresh Conversations at Lake Park Senior Center on February 15 at 12:00 PM
DESCRIPTION:
URL:https://elderbridge.org/events/fresh-conversations-at-lake-park-senior-center-on-february-15-at-1200-pm/
LOCATION:Fresh Conversations at Lake Park the Senior Center\, 903 South market Street\, Lake Park\, IA\, 51347\, United States
END:VEVENT
BEGIN:VEVENT
DTSTART;TZID=UTC:20220215T120000
DTEND;TZID=UTC:20220215T170000
DTSTAMP:20260422T021541
CREATED:20220126T003719Z
LAST-MODIFIED:20220223T052556Z
UID:5052-1644926400-1644944400@elderbridge.org
SUMMARY:Fresh Conversations at Northwood Senior Citizens Center on Tuesday\, February 15 at 11:15 AM
DESCRIPTION:
URL:https://elderbridge.org/events/fresh-conversations-at-northwood-senior-citizens-center-on-tuesday-february-15-at-1115-am/
LOCATION:Fresh Conversations at Northwood Senior Citizens Center\, 720 Central Avenue\, Northwood\, 50459\, United States
END:VEVENT
BEGIN:VEVENT
DTSTART;TZID=UTC:20220216T113000
DTEND;TZID=UTC:20220216T123000
DTSTAMP:20260422T021541
CREATED:20220126T010144Z
LAST-MODIFIED:20220223T052445Z
UID:5063-1645011000-1645014600@elderbridge.org
SUMMARY:Fresh Conversations at Rockford Community Center\, Rockford\, IA on Wednesday\, February 16 at 11:30 AM
DESCRIPTION:
URL:https://elderbridge.org/events/fresh-conversations-at-rockford-community-center-rockford-ia-on-wednesday-february-16-at-1130-am/
LOCATION:Fresh Conversations at Rockford Community Center March 16 at 11:30 AM\, 206 West Main Avenue\, Rockford\, IA\, 50468\, United States
END:VEVENT
BEGIN:VEVENT
DTSTART;TZID=UTC:20220216T120000
DTEND;TZID=UTC:20220216T190000
DTSTAMP:20260422T021541
CREATED:20220126T005157Z
LAST-MODIFIED:20220223T052434Z
UID:5056-1645012800-1645038000@elderbridge.org
SUMMARY:Fresh Conversations at Osage Senior Center on Wednesday\, February 16 at 12:00 PM
DESCRIPTION:
URL:https://elderbridge.org/events/fresh-conversations-at-osage-senior-center-on-wednesday-february-16-at-1200-pm/
LOCATION:Fresh Conversations at Osage Senior Center\, 615 State Street\, Osage\, Iowa\, 50461
END:VEVENT
BEGIN:VEVENT
DTSTART;TZID=UTC:20220216T133000
DTEND;TZID=UTC:20220216T143000
DTSTAMP:20260422T021541
CREATED:20220126T010939Z
LAST-MODIFIED:20220223T052327Z
UID:5066-1645018200-1645021800@elderbridge.org
SUMMARY:Fresh Conversations at Elderbridge Agency on Aging on Wednesday\, February 16 at 1:30 PM
DESCRIPTION:
URL:https://elderbridge.org/events/fresh-conversations-at-elderbridge-agency-on-aging-on-wednesday-february-16-at-130-pm/
LOCATION:Fresh Conversations at Elderbridge Agency on Aging\, 1190 Briarstone Drive\, Ste. 3\, Mason City\, IA\, 50401
ORGANIZER;CN="Jodi Applegate":MAILTO:japplegate@elderbridge.org
END:VEVENT
BEGIN:VEVENT
DTSTART;TZID=UTC:20220217T114500
DTEND;TZID=UTC:20220217T120000
DTSTAMP:20260422T021541
CREATED:20220202T004947Z
LAST-MODIFIED:20220223T052228Z
UID:5076-1645098300-1645099200@elderbridge.org
SUMMARY:Fresh Conversations at Deercreek Apartments\, 700 South 17th Street\, Fort Dodge\, IA on February 17 at 11:45 AM
DESCRIPTION:
URL:https://elderbridge.org/events/fresh-conversations-at-deercreek-apartments-700-south-17th-street-fort-dodge-ia/
LOCATION:Fresh Conversations at Deercreek Apartments in Fort Dodge Iowa\, 700 South 17th Street\, Fort Dodge\, IA\, 50501\, United States
END:VEVENT
BEGIN:VEVENT
DTSTART;TZID=UTC:20220222T120000
DTEND;TZID=UTC:20220222T124500
DTSTAMP:20260422T021541
CREATED:20220205T023106Z
LAST-MODIFIED:20220223T052133Z
UID:5143-1645531200-1645533900@elderbridge.org
SUMMARY:Fresh Conversations at Spirit Lake Area Senior Center on February 22 at 12:00 PM
DESCRIPTION:
URL:https://elderbridge.org/events/fresh-conversations-at-spirit-lake-area-senior-center-on-february-22-at-1200-pm/
LOCATION:Fresh Conversations at Spirit Lake\, 2101 Zenith\, Spirit Lake\, 51360\, United States
END:VEVENT
END:VCALENDAR