BEGIN:VCALENDAR
VERSION:2.0
PRODID:-//Elderbridge Agency On Aging - ECPv6.15.20//NONSGML v1.0//EN
CALSCALE:GREGORIAN
METHOD:PUBLISH
X-WR-CALNAME:Elderbridge Agency On Aging
X-ORIGINAL-URL:https://elderbridge.org
X-WR-CALDESC:Events for Elderbridge Agency On Aging
REFRESH-INTERVAL;VALUE=DURATION:PT1H
X-Robots-Tag:noindex
X-PUBLISHED-TTL:PT1H
BEGIN:VTIMEZONE
TZID:UTC
BEGIN:STANDARD
TZOFFSETFROM:+0000
TZOFFSETTO:+0000
TZNAME:UTC
DTSTART:20210101T000000
END:STANDARD
END:VTIMEZONE
BEGIN:VTIMEZONE
TZID:America/Chicago
BEGIN:DAYLIGHT
TZOFFSETFROM:-0600
TZOFFSETTO:-0500
TZNAME:CDT
DTSTART:20210314T080000
END:DAYLIGHT
BEGIN:STANDARD
TZOFFSETFROM:-0500
TZOFFSETTO:-0600
TZNAME:CST
DTSTART:20211107T070000
END:STANDARD
BEGIN:DAYLIGHT
TZOFFSETFROM:-0600
TZOFFSETTO:-0500
TZNAME:CDT
DTSTART:20220313T080000
END:DAYLIGHT
BEGIN:STANDARD
TZOFFSETFROM:-0500
TZOFFSETTO:-0600
TZNAME:CST
DTSTART:20221106T070000
END:STANDARD
BEGIN:DAYLIGHT
TZOFFSETFROM:-0600
TZOFFSETTO:-0500
TZNAME:CDT
DTSTART:20230312T080000
END:DAYLIGHT
BEGIN:STANDARD
TZOFFSETFROM:-0500
TZOFFSETTO:-0600
TZNAME:CST
DTSTART:20231105T070000
END:STANDARD
END:VTIMEZONE
BEGIN:VEVENT
DTSTART;TZID=UTC:20220720T114500
DTEND;TZID=UTC:20220720T123000
DTSTAMP:20260422T220147
CREATED:20220630T183135Z
LAST-MODIFIED:20220630T183135Z
UID:6704-1658317500-1658320200@elderbridge.org
SUMMARY:Fresh Conversations!
DESCRIPTION:Are you age 60 + and interested in learning about different nutrition topics in a small group setting?  This may be for you!  Sessions run from 30 – 45 minutes. \nTopic: “Your Mouth is Your Body’s Mirror” \nWhere:  Deercreek Apts\, 700 S. 17th St.\, Fort Dodge\, IA \nPresenter:  Holly Van Heel.  Phone:  515-576-2119    \nHope to see you there – you have nothing to lose (except unhealthy habits 😊) and your healthiest self to gain!     
URL:https://elderbridge.org/events/fresh-conversations-3/
ATTACH;FMTTYPE=image/jpeg:https://elderbridge.org/wp-content/uploads/2022/06/logo.jpg
END:VEVENT
BEGIN:VEVENT
DTSTART;TZID=UTC:20220720T120000
DTEND;TZID=UTC:20220720T124500
DTSTAMP:20260422T220147
CREATED:20220630T190114Z
LAST-MODIFIED:20220630T190114Z
UID:6722-1658318400-1658321100@elderbridge.org
SUMMARY:Fresh Conversations!
DESCRIPTION:Are you age 60 + and interested in learning about different nutrition topics in a small group setting?  This may be for you!  Sessions run about 30 – 45 minutes. \nWhen and Where:                                                                                                                                                                                                                    \nJuly 20\, 12:00\, Osage Sr. Center\, 615 State St\, Osage  \nTopic: “Your Mouth is Your Body’s Mirror.” \n Presenter:  Darla Olson.  Phone: (641)-330-0796                                       \nHope to see you there – you have nothing to lose (except unhealthy habits 😊)
URL:https://elderbridge.org/events/fresh-conversations-9/
ATTACH;FMTTYPE=image/jpeg:https://elderbridge.org/wp-content/uploads/2022/06/unnamed-2.jpg
END:VEVENT
BEGIN:VEVENT
DTSTART;TZID=UTC:20220721T111000
DTEND;TZID=UTC:20220721T234000
DTSTAMP:20260422T220147
CREATED:20220630T185144Z
LAST-MODIFIED:20220630T185144Z
UID:6715-1658401800-1658446800@elderbridge.org
SUMMARY:Fresh Conversations!
DESCRIPTION:Are you age 60 + and interested in learning about different nutrition topics in a small group setting?  This may be for you!  Sessions run about 30 minutes.         \nWhen and Where:    \nJuly 21\, 11:10\, Rockwell City Senior Center\, 422 Main St\, Rockwell City \nTopic: “Your Mouth is Your Body’s Mirror”  \nPresenter:  Sharla Kuyper.  Phone: (800)-243-0678        \n    \n   Hope to see you there – you have nothing to lose (except unhealthy habits 😊)! 
URL:https://elderbridge.org/events/fresh-conversations-7/
ATTACH;FMTTYPE=image/png:https://elderbridge.org/wp-content/uploads/2022/06/unnamed.png
END:VEVENT
BEGIN:VEVENT
DTSTART;TZID=UTC:20220809T120000
DTEND;TZID=UTC:20220809T120000
DTSTAMP:20260422T220147
CREATED:20220804T085158Z
LAST-MODIFIED:20220805T061849Z
UID:6832-1660046400-1660046400@elderbridge.org
SUMMARY:Fresh Conversationsat Lake Park Senior Center
DESCRIPTION:
URL:https://elderbridge.org/events/fresh-conversationsat-lake-park-senior-center/
LOCATION:Lake Park Senior Center\, 903 S. Market St.\, Lake Park\, IA
END:VEVENT
BEGIN:VEVENT
DTSTART;TZID=UTC:20220810T110000
DTEND;TZID=UTC:20220810T110000
DTSTAMP:20260422T220147
CREATED:20220804T092843Z
LAST-MODIFIED:20220805T062540Z
UID:6878-1660129200-1660129200@elderbridge.org
SUMMARY:Fresh Conversationsat Charles City Senior Center
DESCRIPTION:
URL:https://elderbridge.org/events/fresh-conversationsat-charles-city-senior-center/
LOCATION:Charles City Senior Center\, 900 Hulin Ave.\, Charles City\, IA
END:VEVENT
BEGIN:VEVENT
DTSTART;TZID=UTC:20220816T120000
DTEND;TZID=UTC:20220816T120000
DTSTAMP:20260422T220147
CREATED:20220804T084245Z
LAST-MODIFIED:20220805T061739Z
UID:6826-1660651200-1660651200@elderbridge.org
SUMMARY:Fresh Conversationsat Spirit Lake Area Senior Center
DESCRIPTION:
URL:https://elderbridge.org/events/fresh-conversationsat-spirit-lake-area-senior-center/
LOCATION:Spirit Lake Area Senior Center\, 2101 Zenith\, Spirit Lake
END:VEVENT
BEGIN:VEVENT
DTSTART;TZID=UTC:20220816T123000
DTEND;TZID=UTC:20220816T123000
DTSTAMP:20260422T220147
CREATED:20220804T090444Z
LAST-MODIFIED:20220805T062014Z
UID:6843-1660653000-1660653000@elderbridge.org
SUMMARY:Fresh Conversationsat Memorial Library
DESCRIPTION:
URL:https://elderbridge.org/events/fresh-conversationsat-memorial-library/
LOCATION:Memorial Library\, 400 Grand St\, Guthrie Center\, IA
END:VEVENT
BEGIN:VEVENT
DTSTART;TZID=UTC:20220817T113000
DTEND;TZID=UTC:20220817T113000
DTSTAMP:20260422T220147
CREATED:20220804T092535Z
LAST-MODIFIED:20220805T062421Z
UID:6873-1660735800-1660735800@elderbridge.org
SUMMARY:Fresh Conversationsat Rockford Community Center
DESCRIPTION:
URL:https://elderbridge.org/events/fresh-conversationsat-rockford-community-center/
LOCATION:Rockford Community Center\, 206 W. Main Ave.\, Rockford IA
END:VEVENT
BEGIN:VEVENT
DTSTART;TZID=UTC:20220817T114500
DTEND;TZID=UTC:20220817T114500
DTSTAMP:20260422T220147
CREATED:20220804T092327Z
LAST-MODIFIED:20220805T062332Z
UID:6869-1660736700-1660736700@elderbridge.org
SUMMARY:Fresh Conversationsat Deercreek Apartments
DESCRIPTION:
URL:https://elderbridge.org/events/fresh-conversationsat-deercreek-apartments/
LOCATION:Deercreek Apts\, 700 S. 17th St.\, Fort Dodge\, IA
END:VEVENT
BEGIN:VEVENT
DTSTART;TZID=UTC:20220817T120000
DTEND;TZID=UTC:20220817T120000
DTSTAMP:20260422T220147
CREATED:20220804T092133Z
LAST-MODIFIED:20220805T062229Z
UID:6865-1660737600-1660737600@elderbridge.org
SUMMARY:Fresh Conversationsat Osage Senior Center
DESCRIPTION:
URL:https://elderbridge.org/events/fresh-conversationsat-osage-senior-center/
LOCATION:Osage Sr. Center\, 615 State St\, Osage
END:VEVENT
BEGIN:VEVENT
DTSTART;TZID=UTC:20220818T111000
DTEND;TZID=UTC:20220818T111000
DTSTAMP:20260422T220147
CREATED:20220804T085637Z
LAST-MODIFIED:20220805T063756Z
UID:6838-1660821000-1660821000@elderbridge.org
SUMMARY:Fresh Conversationsat Rockwell City Senior Center
DESCRIPTION:
URL:https://elderbridge.org/events/fresh-conversationsat-rockwell-city-senior-center/
LOCATION:Rockwell City Senior Center\, 422 Main St\, Rockwell City
ORGANIZER;CN="Sharla Kuyper":MAILTO:skuyper@elderbridge.org
END:VEVENT
BEGIN:VEVENT
DTSTART;TZID=UTC:20220818T170000
DTEND;TZID=UTC:20220818T193000
DTSTAMP:20260422T220147
CREATED:20220223T005241Z
LAST-MODIFIED:20220607T034751Z
UID:5436-1660842000-1660851000@elderbridge.org
SUMMARY:Elderbridge Annual Fundraiser - Aging in Place
DESCRIPTION:For  assistance with purchasing tickets please contact:\n Amber Snyder \nEmail: asnyder@elderbridge.org \nPhone: 800-243-0678
URL:https://elderbridge.org/events/elderbridge-agency-on-aging-annual-fundraiser-aging-in-place-live-auction-august-18-2022-at-500-pm-600-pm-social-hour-and-600-pm-730-pm-live-auction/
LOCATION:Aging in Place Live Auction\, 218 West 6th Street\, Carroll\, 51401\, United States
ORGANIZER;CN="Amber Snyder":MAILTO:asnyder@elderbridge.org
END:VEVENT
BEGIN:VEVENT
DTSTART;TZID=UTC:20220825T120000
DTEND;TZID=UTC:20220825T120000
DTSTAMP:20260422T220147
CREATED:20220804T091922Z
LAST-MODIFIED:20220805T062148Z
UID:6861-1661428800-1661428800@elderbridge.org
SUMMARY:Fresh Conversationsat American Legion Building
DESCRIPTION:
URL:https://elderbridge.org/events/fresh-conversationsat-american-legion-building/
LOCATION:American Legion Building\, 509 N. Main St\, Goldfield\, IA
ORGANIZER;CN="Sharla Kuyper":MAILTO:skuyper@elderbridge.org
END:VEVENT
BEGIN:VEVENT
DTSTART;TZID=UTC:20220826T090000
DTEND;TZID=UTC:20220826T100000
DTSTAMP:20260422T220147
CREATED:20220823T034000Z
LAST-MODIFIED:20220823T034213Z
UID:7680-1661504400-1661508000@elderbridge.org
SUMMARY:Medicare Conversations at Shalom 2 Tower Community Room
DESCRIPTION:
URL:https://elderbridge.org/events/medicare-conversations-at-shalom-2-tower-community-room/2022-08-26/
END:VEVENT
BEGIN:VEVENT
DTSTART;TZID=UTC:20221001T104500
DTEND;TZID=UTC:20221001T120000
DTSTAMP:20260422T220147
CREATED:20220105T041104Z
LAST-MODIFIED:20220223T045400Z
UID:4805-1664621100-1664625600@elderbridge.org
SUMMARY:Medicare Conversations 1st Tuesday of every month from 10:45am to 12:00am at Spencer Manor Community Room
DESCRIPTION:
URL:https://elderbridge.org/events/medicare-conversations-1st-tuesday-of-every-month-from-1045am-to-1200am-at-spencer-manor-community-room-2022-10-01/
LOCATION:Medicare Conversations\, 503 East 19th Street\, Spencer\, 51301\, United States
ORGANIZER;CN="Thomasina Hegg":MAILTO:thegg@elderbridge.org
END:VEVENT
BEGIN:VEVENT
DTSTART;TZID=America/Chicago:20221004T150000
DTEND;TZID=America/Chicago:20221004T160000
DTSTAMP:20260422T220147
CREATED:20211216T213737Z
LAST-MODIFIED:20220223T045336Z
UID:4457-1664895600-1664899200@elderbridge.org
SUMMARY:Coon Rapids Caregiver Support Group
DESCRIPTION:
URL:https://elderbridge.org/events/coon-rapids-caregiver-support-group-2022-10-04/
ORGANIZER;CN="Emily Winker":MAILTO:ewinker@elderbridge.org
END:VEVENT
BEGIN:VEVENT
DTSTART;TZID=UTC:20221011T111500
DTEND;TZID=UTC:20221011T111500
DTSTAMP:20260422T220147
CREATED:20221011T084443Z
LAST-MODIFIED:20221012T235942Z
UID:7786-1665486900-1665486900@elderbridge.org
SUMMARY:Fresh Conversations Manly
DESCRIPTION:Are you age 60 + and interested in learning about different nutrition topics in a small group setting? Then Fresh Conversations may be for you! Sessions run about 30 minutes.\nWhen and Where:   \nOct. 11th at 11:15 a.m.\nManly Senior Citizens Center at 137 E. Main St.\, Manly\nTopic:   “Breaking News: Eggs are Good for You” \nPresenter:  Amy Jones (641) 530-9244\nHope to see you there!
URL:https://elderbridge.org/events/manly/
LOCATION:Manly Senior Citizens Center at 137 E. Main St.\, Manly
END:VEVENT
BEGIN:VEVENT
DTSTART;TZID=UTC:20221012T110000
DTEND;TZID=UTC:20221012T110000
DTSTAMP:20260422T220147
CREATED:20221011T090337Z
LAST-MODIFIED:20221013T000051Z
UID:7802-1665572400-1665572400@elderbridge.org
SUMMARY:Fresh Conversations Charles City
DESCRIPTION:Are you age 60 + and interested in learning about different nutrition topics in a small group setting? Then Fresh Conversations may be for you! Sessions run about 30 minutes.\nWhen and Where:   \nOct. 12th at 11:00\nCharles City Senior Center\, 900 Hulin Ave.\, Charles City\nTopic:   “Breaking News: Eggs are Good for You” \nPresenter: Lesley Mehman Milius (641)-228-1453\nHope to see you there!
URL:https://elderbridge.org/events/charles-city/
LOCATION:Charles City Senior Center\, 900 Hulin Ave.\, Charles City
END:VEVENT
BEGIN:VEVENT
DTSTART;TZID=UTC:20221018T110000
DTEND;TZID=UTC:20221018T110000
DTSTAMP:20260422T220147
CREATED:20221011T084101Z
LAST-MODIFIED:20221013T000301Z
UID:7782-1666090800-1666090800@elderbridge.org
SUMMARY:Fresh Conversations Mason City
DESCRIPTION:Are you age 60 + and interested in learning about different nutrition topics in a small group setting? Then Fresh Conversations may be for you! Sessions run about 30 minutes.\nWhen and Where:   \nOct. 18 at 11:00 a.m. \nThe Blue Heron\, 1401 N Federal\, Mason City\nTopic:“Breaking News: Eggs are Good for You”\nPresenter: Jody Applegate Phone: (800)-243-0678\nHope to see you there!
URL:https://elderbridge.org/events/mason-city/
LOCATION:The Blue Heron\, 1401 N Federal\, Mason City
END:VEVENT
BEGIN:VEVENT
DTSTART;TZID=UTC:20221018T123000
DTEND;TZID=UTC:20221018T123000
DTSTAMP:20260422T220147
CREATED:20221011T084943Z
LAST-MODIFIED:20221013T000351Z
UID:7792-1666096200-1666096200@elderbridge.org
SUMMARY:Fresh Conversations Guthrie Center
DESCRIPTION:Are you age 60 + and interested in learning about different nutrition topics in a small group setting? Then Fresh Conversations may be for you! Sessions run about 30 minutes.\nWhen and Where:   \nOct. 18th at 12:30 pm\nMemorial Library\, 400 Grand St\, Guthrie Center\nTopic:   “Breaking News: Eggs are Good for You” \nPresenter: Krista Downing (641) 747-2276\nHope to see you there!
URL:https://elderbridge.org/events/guthrie-center/
LOCATION:Memorial Library\, 400 Grand St\, Guthrie Center
END:VEVENT
BEGIN:VEVENT
DTSTART;TZID=UTC:20221019T111500
DTEND;TZID=UTC:20221019T111500
DTSTAMP:20260422T220147
CREATED:20221011T083525Z
LAST-MODIFIED:20221013T000457Z
UID:7776-1666178100-1666178100@elderbridge.org
SUMMARY:Fresh Conversations Northwood
DESCRIPTION:Are you age 60 + and interested in learning about different nutrition topics in a small group setting? Then Fresh Conversations may be for you! Sessions run about 30 minutes.\n\nWhen and Where:   \nOct. 19th at 11:15 a.m. in Northwood\nNorthwood Sr. Citizens Center\, 720 Central Ave. \nTopic:“Breaking News: Eggs are Good for You”\nPresenter: Amy Jones (641) 530-9244\nHope to see you there!
URL:https://elderbridge.org/events/northwood/
LOCATION:Northwood Sr. Citizens Center\, 720 Central Ave.
END:VEVENT
BEGIN:VEVENT
DTSTART;TZID=UTC:20221019T113000
DTEND;TZID=UTC:20221019T113000
DTSTAMP:20260422T220147
CREATED:20221011T082126Z
LAST-MODIFIED:20221013T000553Z
UID:7771-1666179000-1666179000@elderbridge.org
SUMMARY:Fresh Conversations Rockford
DESCRIPTION:Are you age 60 + and interested in learning about different nutrition topics in a small group setting?  Then Fresh Conversations may be for you!  Sessions run about 30 minutes.\nWhen and Where:\nOct. 19th at 11:30 a.m.\nRockford Community Center\, 206 W. Main Ave.\, Rockford\nTopic:   “Breaking News: Eggs are Good for You” \nPresenter:  Lesley Mehman Milius    (641) 228-1453\n  \nHope to see you there!
URL:https://elderbridge.org/events/rockford/
LOCATION:Rockford Community Center\, 206 W. Main Ave.\, Rockford
END:VEVENT
BEGIN:VEVENT
DTSTART;TZID=UTC:20221019T114500
DTEND;TZID=UTC:20221019T114500
DTSTAMP:20260422T220147
CREATED:20221011T085313Z
LAST-MODIFIED:20221013T000744Z
UID:7797-1666179900-1666179900@elderbridge.org
SUMMARY:Fresh Conversations Fort Dodge - Deercreek
DESCRIPTION:Are you age 60 + and interested in learning about different nutrition topics in a small group setting? Then Fresh Conversations may be for you! Sessions run about 30 minutes.\nWhen and Where:   \nOct. 19th at 11:45 a.m.\nDeercreek Apts\, 700 S. 17th St.\, Fort Dodge\, IA\nTopic:   “Breaking News: Eggs are Good for You” \nPresenter: Holly Van Heel (515) 576-2119 \nHope to see you there!
URL:https://elderbridge.org/events/deercreek/
LOCATION:Deercreek Apts\, 700 S. 17th St.\, Fort Dodge\, IA
END:VEVENT
BEGIN:VEVENT
DTSTART;TZID=UTC:20221019T120000
DTEND;TZID=UTC:20221019T120000
DTSTAMP:20260422T220147
CREATED:20221011T083015Z
LAST-MODIFIED:20221013T001105Z
UID:7774-1666180800-1666180800@elderbridge.org
SUMMARY:Fresh Conversations Osage
DESCRIPTION:Are you age 60 + and interested in learning about different nutrition topics in a small group setting?  Then Fresh Conversations may be for you!  Sessions run about 30 minutes.\nWhen and Where:   \nOct. 19th at 12 pm\nOsage Sr. Center\, 615 State St\, Osage \nTopic:   “Breaking News: Eggs are Good for You” \nPresenter:    Darla Olson    (641) 330-0796\nHope to see you there!
URL:https://elderbridge.org/events/osage/
LOCATION:Osage Sr. Center\, 615 State St\, Osage
END:VEVENT
BEGIN:VEVENT
DTSTART;TZID=UTC:20221020T111000
DTEND;TZID=UTC:20221020T111000
DTSTAMP:20260422T220147
CREATED:20221011T080906Z
LAST-MODIFIED:20221013T000849Z
UID:7760-1666264200-1666264200@elderbridge.org
SUMMARY:Fresh Conversations Rockwell City
DESCRIPTION:  \n \nAre you age 60 + and interested in learning about different nutrition topics in a small group setting?  Then Fresh Conversations may be for you!  Sessions run about 30 minutes.\nWhen and Where:\nOct. 20\, 11:10 a.m. at the Rockwell City Senior Center\, 422 Main St\, Rockwell City\nTopic: “Breaking News: Eggs are Good for You”\nPresenter: Amber Snyder (800) 243-0678\nHope to see you there!
URL:https://elderbridge.org/events/rockwell-city/
LOCATION:Rockwell City Senior Center\, 422 Main St\, Rockwell City
END:VEVENT
BEGIN:VEVENT
DTSTART;TZID=UTC:20221020T150000
DTEND;TZID=UTC:20221020T160000
DTSTAMP:20260422T220147
CREATED:20211202T062402Z
LAST-MODIFIED:20220223T045252Z
UID:3265-1666278000-1666281600@elderbridge.org
SUMMARY:Virtual Caregiver Support Group
DESCRIPTION:
URL:https://elderbridge.org/events/recurring-event-2022-10-20/
ATTACH;FMTTYPE=image/png:https://elderbridge.org/wp-content/uploads/2021/11/VirtualCaregiverSupportGroup.png
END:VEVENT
BEGIN:VEVENT
DTSTART;TZID=UTC:20221020T153000
DTEND;TZID=UTC:20221020T163000
DTSTAMP:20260422T220147
CREATED:20211215T223736Z
LAST-MODIFIED:20220223T045222Z
UID:4441-1666279800-1666283400@elderbridge.org
SUMMARY:Webster County Caregiver Support Group at Fort Dodge Library on the 3rd Thursday of Each Month
DESCRIPTION:
URL:https://elderbridge.org/events/webster-county-caregiver-support-group-2022-10-20/
LOCATION:Fort Dodge Public Library\, 424 Central Avenue\, Fort Dodge\, 50501\, United States
ORGANIZER;CN="Amanda Billingsley":MAILTO:abillingsley@elderbridge.org
END:VEVENT
BEGIN:VEVENT
DTSTART;TZID=UTC:20221101T090000
DTEND;TZID=UTC:20221101T103000
DTSTAMP:20260422T220147
CREATED:20220114T015810Z
LAST-MODIFIED:20220223T045159Z
UID:4902-1667293200-1667298600@elderbridge.org
SUMMARY:Medicare Conversations with Thomasina 1st Tuesday of Every Month from 9:00am to 10:30am at Sunset Apartments
DESCRIPTION:
URL:https://elderbridge.org/events/medicare-conversations-with-thomasina-1st-tuesday-of-every-month-900am-to-1030am-2022-11-01/
LOCATION:Sunset Apartments 118 E 21st St Spencer\, IA 51301\, 118 E 21st St\, Spencer\,\, IA\, 51301\, United States
ORGANIZER;CN="Thomasina Hegg":MAILTO:thegg@elderbridge.org
END:VEVENT
BEGIN:VEVENT
DTSTART;TZID=America/Chicago:20221206T150000
DTEND;TZID=America/Chicago:20221206T160000
DTSTAMP:20260422T220147
CREATED:20211216T213737Z
LAST-MODIFIED:20220223T044709Z
UID:4459-1670338800-1670342400@elderbridge.org
SUMMARY:Coon Rapids Caregiver Support Group
DESCRIPTION:
URL:https://elderbridge.org/events/coon-rapids-caregiver-support-group-2022-12-06/
ORGANIZER;CN="Emily Winker":MAILTO:ewinker@elderbridge.org
END:VEVENT
BEGIN:VEVENT
DTSTART;TZID=UTC:20221213T111500
DTEND;TZID=UTC:20221213T111500
DTSTAMP:20260422T220147
CREATED:20221207T130029Z
LAST-MODIFIED:20221210T054351Z
UID:7947-1670930100-1670930100@elderbridge.org
SUMMARY:Fresh Conversations Blue Heron
DESCRIPTION:Are you age 60 + and interested in learning about different nutrition topics in a small group setting? Then Fresh Conversations may be for you! Sessions run about 30 minutes.\nWhen and Where:\nDec. 13th at 11:15 a.m.\nThe Blue Heron\, 1401 N. Federal\, Mason City\nTopic: “Staying Whole in a Processed World”\nPresenter: Gina C. 1-800-243-0678\nHope to see you there!
URL:https://elderbridge.org/events/fresh-conversations-blue-heron/
ATTACH;FMTTYPE=image/webp:https://elderbridge.org/wp-content/uploads/2022/12/Fresh-Conversations-Blue-Heron-1.webp
END:VEVENT
END:VCALENDAR