BEGIN:VCALENDAR
VERSION:2.0
PRODID:-//Elderbridge Agency On Aging - ECPv6.15.20//NONSGML v1.0//EN
CALSCALE:GREGORIAN
METHOD:PUBLISH
X-WR-CALNAME:Elderbridge Agency On Aging
X-ORIGINAL-URL:https://elderbridge.org
X-WR-CALDESC:Events for Elderbridge Agency On Aging
REFRESH-INTERVAL;VALUE=DURATION:PT1H
X-Robots-Tag:noindex
X-PUBLISHED-TTL:PT1H
BEGIN:VTIMEZONE
TZID:UTC
BEGIN:STANDARD
TZOFFSETFROM:+0000
TZOFFSETTO:+0000
TZNAME:UTC
DTSTART:20240101T000000
END:STANDARD
END:VTIMEZONE
BEGIN:VEVENT
DTSTART;TZID=UTC:20250318T121500
DTEND;TZID=UTC:20250318T124500
DTSTAMP:20260421T213354
CREATED:20250227T015754Z
LAST-MODIFIED:20250227T015808Z
UID:11025-1742300100-1742301900@elderbridge.org
SUMMARY:Fresh Conversations at Northwood Senior Center on Tuesday\, March 18 at 12:15 PM
DESCRIPTION:
URL:https://elderbridge.org/events/fresh-conversations-at-northwood-senior-center-on-tuesday-march-18-at-1215-pm/
END:VEVENT
BEGIN:VEVENT
DTSTART;TZID=UTC:20250319T121500
DTEND;TZID=UTC:20250319T124500
DTSTAMP:20260421T213354
CREATED:20250227T020505Z
LAST-MODIFIED:20250227T020530Z
UID:11032-1742386500-1742388300@elderbridge.org
SUMMARY:Fresh Conversations at the Webster City Senior Center on Wednesday\, March 19 at 12:15 PM
DESCRIPTION:
URL:https://elderbridge.org/events/fresh-conversations-at-the-webster-city-senior-center-on-wednesday-march-19-at-1215-pm/
END:VEVENT
BEGIN:VEVENT
DTSTART;TZID=UTC:20250319T150000
DTEND;TZID=UTC:20250319T160000
DTSTAMP:20260421T213354
CREATED:20230204T005903Z
LAST-MODIFIED:20230204T005903Z
UID:8339-1742396400-1742400000@elderbridge.org
SUMMARY:Webster County Caregiver Support Group 3rd Wednesday of Every Month
DESCRIPTION:
URL:https://elderbridge.org/events/webster-county-caregiver-support-group-3rd-wednesday-of-every-month/2025-03-19/
END:VEVENT
BEGIN:VEVENT
DTSTART;TZID=UTC:20250320T100000
DTEND;TZID=UTC:20250320T110000
DTSTAMP:20260421T213354
CREATED:20230203T011921Z
LAST-MODIFIED:20231130T172143Z
UID:8340-1742464800-1742468400@elderbridge.org
SUMMARY:Virtual Caregiver Support Group 3rd Thursday of Every Month
DESCRIPTION:
URL:https://elderbridge.org/events/virtual-caregiver-support-group-3rd-thursday-of-every-month/2025-03-20/
END:VEVENT
BEGIN:VEVENT
DTSTART;TZID=UTC:20250325T123000
DTEND;TZID=UTC:20250325T130000
DTSTAMP:20260421T213354
CREATED:20250227T015941Z
LAST-MODIFIED:20250227T021151Z
UID:11028-1742905800-1742907600@elderbridge.org
SUMMARY:Fresh Conversations at the Lakes Area Senior Center on Tuesday\, March 25 at 12:30 PM
DESCRIPTION:
URL:https://elderbridge.org/events/fresh-conversations-at-the-lakes-area-senior-center-on-tuesday-march-25-at-1230-pm/
END:VEVENT
BEGIN:VEVENT
DTSTART;TZID=UTC:20250326T114500
DTEND;TZID=UTC:20250326T121500
DTSTAMP:20260421T213354
CREATED:20250227T015103Z
LAST-MODIFIED:20250227T015115Z
UID:11019-1742989500-1742991300@elderbridge.org
SUMMARY:Fresh Conversations at Deercreek Apartments on Wednesday\, March 26 at 11:45 AM
DESCRIPTION:
URL:https://elderbridge.org/events/fresh-conversations-at-deercreek-apartments-on-wednesday-march-26-at-1145-am/
END:VEVENT
BEGIN:VEVENT
DTSTART;TZID=UTC:20250408T123000
DTEND;TZID=UTC:20250408T130000
DTSTAMP:20260421T213354
CREATED:20250408T010603Z
LAST-MODIFIED:20250408T010603Z
UID:11138-1744115400-1744117200@elderbridge.org
SUMMARY:Fresh Conversations at Manly Senior Center on April 8 at 12:30 PM
DESCRIPTION:
URL:https://elderbridge.org/events/fresh-conversations-at-manly-senior-center-on-april-8-at-1230-pm/
END:VEVENT
BEGIN:VEVENT
DTSTART;TZID=UTC:20250409T103000
DTEND;TZID=UTC:20250409T233000
DTSTAMP:20260421T213354
CREATED:20250219T232630Z
LAST-MODIFIED:20250220T005238Z
UID:10923-1744194600-1744241400@elderbridge.org
SUMMARY:Virtual Caregiver Support Group on the 2nd Wednesday of each Month from 10:30 to 11:30 AM - ZOOM Invites Sent Via Email
DESCRIPTION:
URL:https://elderbridge.org/events/virtual-caregiver-support-group-o-the-2nd-wednesday-of-each-month-from-1030-to-1130-am-zoom-invites-sent-via-email/2025-04-09/
END:VEVENT
BEGIN:VEVENT
DTSTART;TZID=UTC:20250409T110000
DTEND;TZID=UTC:20250409T120000
DTSTAMP:20260421T213354
CREATED:20250408T004801Z
LAST-MODIFIED:20250408T010252Z
UID:11130-1744196400-1744200000@elderbridge.org
SUMMARY:Fresh Conversations in Charles City at the Senior Center on Wednesday April 9 at 11:00 AM
DESCRIPTION:
URL:https://elderbridge.org/events/fresh-conversations-in-charles-city-at-the-senior-center-on-wednesday-april-9-at-1100-am/
END:VEVENT
BEGIN:VEVENT
DTSTART;TZID=UTC:20250415T121500
DTEND;TZID=UTC:20250415T124500
DTSTAMP:20260421T213354
CREATED:20250408T010819Z
LAST-MODIFIED:20250408T010915Z
UID:11141-1744719300-1744721100@elderbridge.org
SUMMARY:Fresh Conversations at the Northwood Senior Center on April 15 at 12:15 PM
DESCRIPTION:
URL:https://elderbridge.org/events/fresh-conversations-at-the-northwood-senior-center-on-april-15-at-1215-pm/
END:VEVENT
BEGIN:VEVENT
DTSTART;TZID=UTC:20250416T114500
DTEND;TZID=UTC:20250416T121500
DTSTAMP:20260421T213354
CREATED:20250408T005615Z
LAST-MODIFIED:20250408T005651Z
UID:11135-1744803900-1744805700@elderbridge.org
SUMMARY:Fresh Conversations at Deercreek Apartments in Fort Dodge on April 16 at 11:45 AM
DESCRIPTION:
URL:https://elderbridge.org/events/fresh-conversations-at-deercreek-apartments-in-fort-dodge-on-april-16-at-1145-am/
END:VEVENT
BEGIN:VEVENT
DTSTART;TZID=UTC:20250416T121500
DTEND;TZID=UTC:20250416T124500
DTSTAMP:20260421T213354
CREATED:20250408T011554Z
LAST-MODIFIED:20250408T011554Z
UID:11147-1744805700-1744807500@elderbridge.org
SUMMARY:Fresh Conversations at the Webster City Senior Center on April 16 at 12:15 PM
DESCRIPTION:
URL:https://elderbridge.org/events/fresh-conversations-at-the-webster-city-senior-center-on-april-16-at-1215-pm/
END:VEVENT
BEGIN:VEVENT
DTSTART;TZID=UTC:20250416T150000
DTEND;TZID=UTC:20250416T160000
DTSTAMP:20260421T213354
CREATED:20230204T005903Z
LAST-MODIFIED:20230204T005903Z
UID:8391-1744815600-1744819200@elderbridge.org
SUMMARY:Webster County Caregiver Support Group 3rd Wednesday of Every Month
DESCRIPTION:
URL:https://elderbridge.org/events/webster-county-caregiver-support-group-3rd-wednesday-of-every-month/2025-04-16/
END:VEVENT
BEGIN:VEVENT
DTSTART;TZID=UTC:20250417T100000
DTEND;TZID=UTC:20250417T110000
DTSTAMP:20260421T213354
CREATED:20230203T011921Z
LAST-MODIFIED:20231130T172143Z
UID:8392-1744884000-1744887600@elderbridge.org
SUMMARY:Virtual Caregiver Support Group 3rd Thursday of Every Month
DESCRIPTION:
URL:https://elderbridge.org/events/virtual-caregiver-support-group-3rd-thursday-of-every-month/2025-04-17/
END:VEVENT
BEGIN:VEVENT
DTSTART;TZID=UTC:20250429T123000
DTEND;TZID=UTC:20250429T130000
DTSTAMP:20260421T213354
CREATED:20250408T011156Z
LAST-MODIFIED:20250408T011756Z
UID:11144-1745929800-1745931600@elderbridge.org
SUMMARY:Fresh Conversations at the Lakes Area Senior Center in Lake Park on April 29 at 12:30 PM
DESCRIPTION:
URL:https://elderbridge.org/events/fresh-conversations-at-the-lakes-area-senior-center-in-lake-park-on-april-9-at-1230-pm/
END:VEVENT
BEGIN:VEVENT
DTSTART;TZID=UTC:20250430T093000
DTEND;TZID=UTC:20250430T153000
DTSTAMP:20260421T213354
CREATED:20250307T233136Z
LAST-MODIFIED:20250307T233149Z
UID:11058-1746005400-1746027000@elderbridge.org
SUMMARY:Caregiver Appreciation Event Wednesday\, April 30\, 2025\, from 9:30 AM to 3:30 PM at the Knights of Columbus Hall - Columbia Club
DESCRIPTION:
URL:https://elderbridge.org/events/caregiver-appreciation-event-wednesday-april-30-2025-from-930-am-to-330-pm-at-the-knights-of-columbus-hall-columbia-club/
END:VEVENT
BEGIN:VEVENT
DTSTART;TZID=UTC:20250513T123000
DTEND;TZID=UTC:20250513T130000
DTSTAMP:20260421T213354
CREATED:20250429T001209Z
LAST-MODIFIED:20250429T001230Z
UID:11199-1747139400-1747141200@elderbridge.org
SUMMARY:Fresh Conversations at the Manly Senior Center on May 13 at 12:30 PM
DESCRIPTION:
URL:https://elderbridge.org/events/fresh-conversations-at-the-manly-senior-center-on-may-13-at-1230-pm/
END:VEVENT
BEGIN:VEVENT
DTSTART;TZID=UTC:20250514T103000
DTEND;TZID=UTC:20250514T233000
DTSTAMP:20260421T213354
CREATED:20250219T232630Z
LAST-MODIFIED:20250220T005239Z
UID:10924-1747218600-1747265400@elderbridge.org
SUMMARY:Virtual Caregiver Support Group on the 2nd Wednesday of each Month from 10:30 to 11:30 AM - ZOOM Invites Sent Via Email
DESCRIPTION:
URL:https://elderbridge.org/events/virtual-caregiver-support-group-o-the-2nd-wednesday-of-each-month-from-1030-to-1130-am-zoom-invites-sent-via-email/2025-05-14/
END:VEVENT
BEGIN:VEVENT
DTSTART;TZID=UTC:20250514T110000
DTEND;TZID=UTC:20250514T113000
DTSTAMP:20260421T213354
CREATED:20250428T234505Z
LAST-MODIFIED:20250428T234522Z
UID:11193-1747220400-1747222200@elderbridge.org
SUMMARY:Fresh Conversations at the Charles City Senior Center on May 14 at 11:00 AM
DESCRIPTION:
URL:https://elderbridge.org/events/fresh-conversations-at-the-charles-city-senior-center-on-may-14-at-1100-am/
END:VEVENT
BEGIN:VEVENT
DTSTART;TZID=UTC:20250515T100000
DTEND;TZID=UTC:20250515T110000
DTSTAMP:20260421T213354
CREATED:20230203T011921Z
LAST-MODIFIED:20231130T172143Z
UID:8456-1747303200-1747306800@elderbridge.org
SUMMARY:Virtual Caregiver Support Group 3rd Thursday of Every Month
DESCRIPTION:
URL:https://elderbridge.org/events/virtual-caregiver-support-group-3rd-thursday-of-every-month/2025-05-15/
END:VEVENT
BEGIN:VEVENT
DTSTART;TZID=UTC:20250520T121500
DTEND;TZID=UTC:20250520T124500
DTSTAMP:20260421T213354
CREATED:20250429T002151Z
LAST-MODIFIED:20250429T002202Z
UID:11202-1747743300-1747745100@elderbridge.org
SUMMARY:Fresh Conversations at the Northwood Senior Center on May 20 at 12:15 PM
DESCRIPTION:
URL:https://elderbridge.org/events/fresh-conversations-at-the-northwood-senior-center-on-may-20-at-1215-pm/
END:VEVENT
BEGIN:VEVENT
DTSTART;TZID=UTC:20250521T114500
DTEND;TZID=UTC:20250521T121500
DTSTAMP:20260421T213354
CREATED:20250428T234808Z
LAST-MODIFIED:20250428T234818Z
UID:11196-1747827900-1747829700@elderbridge.org
SUMMARY:Fresh Conversations in Fort Dodge at Deercreek Apartments on May 21 at 11:45 AM
DESCRIPTION:
URL:https://elderbridge.org/events/fresh-conversations-in-fort-dodge-at-deercreek-apartments-on-may-21-at-1145-am/
END:VEVENT
BEGIN:VEVENT
DTSTART;TZID=UTC:20250521T121500
DTEND;TZID=UTC:20250521T124500
DTSTAMP:20260421T213354
CREATED:20250429T002836Z
LAST-MODIFIED:20250429T002927Z
UID:11212-1747829700-1747831500@elderbridge.org
SUMMARY:Fresh Conversations at the Webster City Senior Center on May 21 at 12:15 PM
DESCRIPTION:
URL:https://elderbridge.org/events/fresh-conversations-at-the-webster-city-senior-center-on-may-21-at-1215-pm/
END:VEVENT
BEGIN:VEVENT
DTSTART;TZID=UTC:20250521T150000
DTEND;TZID=UTC:20250521T160000
DTSTAMP:20260421T213354
CREATED:20230204T005903Z
LAST-MODIFIED:20230204T005903Z
UID:8475-1747839600-1747843200@elderbridge.org
SUMMARY:Webster County Caregiver Support Group 3rd Wednesday of Every Month
DESCRIPTION:
URL:https://elderbridge.org/events/webster-county-caregiver-support-group-3rd-wednesday-of-every-month/2025-05-21/
END:VEVENT
BEGIN:VEVENT
DTSTART;TZID=UTC:20250527T123000
DTEND;TZID=UTC:20250527T130000
DTSTAMP:20260421T213354
CREATED:20250429T002616Z
LAST-MODIFIED:20250429T002640Z
UID:11209-1748349000-1748350800@elderbridge.org
SUMMARY:Fresh Conversations at the Lakes Area Senior Center in Spirit Lake on May 27 at 12:30 PM
DESCRIPTION:
URL:https://elderbridge.org/events/fresh-conversations-at-the-lakes-area-senior-center-in-spirit-lake-on-may-27-at-1230-pm/
END:VEVENT
BEGIN:VEVENT
DTSTART;TZID=UTC:20250528T084500
DTEND;TZID=UTC:20250528T094500
DTSTAMP:20260421T213354
CREATED:20250513T221136Z
LAST-MODIFIED:20250513T221339Z
UID:11257-1748421900-1748425500@elderbridge.org
SUMMARY:Public Hearing Agenda at Elderbridge Agency on Aging for Direct Services Waiver Request on Wednesday May 28\, 2025\, at 714 19th Ave. East St. 1\, Spencer\, IA 51301 or Virtually Via ZOOM
DESCRIPTION:Date: Wednesday May 28\, 2025 \nTime: 8:45 am \nLocation: Elderbridge Agency on Aging \n714 19th Ave. East St. 1 \nSpencer\, IA 51301 \nOr \nJoin Meeting Virtually \nJoin Zoom Meeting \nhttps://us02web.zoom.us/j/81880965589?pwd=WYDbl6LY3XsCbnk3sQDc9KZIKbSDfP.1 \nMeeting ID: 818 8096 5589 \nPasscode: 684344 \nAgenda \n-Welcome/Introductions \n-Explanation of direct services to be requested through the waiver \n-Public Input to those services requested to be directly provided by Elderbridge \n 
URL:https://elderbridge.org/events/public-hearing-agenda-elderbridge-agency-on-aging-direct-services-waiver-request/
END:VEVENT
BEGIN:VEVENT
DTSTART;TZID=UTC:20250604T110000
DTEND;TZID=UTC:20250604T120000
DTSTAMP:20260421T213354
CREATED:20250528T020327Z
LAST-MODIFIED:20250528T020339Z
UID:11274-1749034800-1749038400@elderbridge.org
SUMMARY:Fresh Conversations at Charles City on June 4 at 11:00AM
DESCRIPTION:
URL:https://elderbridge.org/events/fresh-conversations-at-charles-city-on-june-4-at-1100am/
END:VEVENT
BEGIN:VEVENT
DTSTART;TZID=UTC:20250610T123000
DTEND;TZID=UTC:20250610T130000
DTSTAMP:20260421T213354
CREATED:20250528T020911Z
LAST-MODIFIED:20250528T021010Z
UID:11280-1749558600-1749560400@elderbridge.org
SUMMARY:Fresh Conversations in Manly on June 10 at 12:30 Pm
DESCRIPTION:
URL:https://elderbridge.org/events/fresh-conversations-in-manly-on-june-10-at-1230-pm/
END:VEVENT
BEGIN:VEVENT
DTSTART;TZID=UTC:20250611T090000
DTEND;TZID=UTC:20250611T151500
DTSTAMP:20260421T213354
CREATED:20250528T180604Z
LAST-MODIFIED:20250528T180616Z
UID:11292-1749632400-1749654900@elderbridge.org
SUMMARY:Elder Rights Conference at the Carrollton Inn and Event Center on Wednesday\, June 11\, 2025 from 9:00 AM and 3:15 PM
DESCRIPTION:
URL:https://elderbridge.org/events/elder-rights-conference-at-the-carrollton-inn-and-event-center-on-wednesday-june-11-2025-from-900-am-and-315-pm/
END:VEVENT
BEGIN:VEVENT
DTSTART;TZID=UTC:20250611T103000
DTEND;TZID=UTC:20250611T233000
DTSTAMP:20260421T213354
CREATED:20250219T232630Z
LAST-MODIFIED:20250220T005239Z
UID:10925-1749637800-1749684600@elderbridge.org
SUMMARY:Virtual Caregiver Support Group on the 2nd Wednesday of each Month from 10:30 to 11:30 AM - ZOOM Invites Sent Via Email
DESCRIPTION:
URL:https://elderbridge.org/events/virtual-caregiver-support-group-o-the-2nd-wednesday-of-each-month-from-1030-to-1130-am-zoom-invites-sent-via-email/2025-06-11/
END:VEVENT
END:VCALENDAR