BEGIN:VCALENDAR
VERSION:2.0
PRODID:-//Elderbridge Agency On Aging - ECPv6.15.20//NONSGML v1.0//EN
CALSCALE:GREGORIAN
METHOD:PUBLISH
X-WR-CALNAME:Elderbridge Agency On Aging
X-ORIGINAL-URL:https://elderbridge.org
X-WR-CALDESC:Events for Elderbridge Agency On Aging
REFRESH-INTERVAL;VALUE=DURATION:PT1H
X-Robots-Tag:noindex
X-PUBLISHED-TTL:PT1H
BEGIN:VTIMEZONE
TZID:UTC
BEGIN:STANDARD
TZOFFSETFROM:+0000
TZOFFSETTO:+0000
TZNAME:UTC
DTSTART:20230101T000000
END:STANDARD
END:VTIMEZONE
BEGIN:VEVENT
DTSTART;TZID=UTC:20240220T121500
DTEND;TZID=UTC:20240220T124500
DTSTAMP:20260422T221240
CREATED:20240113T025325Z
LAST-MODIFIED:20240113T025332Z
UID:9585-1708431300-1708433100@elderbridge.org
SUMMARY:Fresh Conversations at Northwood Senior Center on February 20 at 12:15 PM
DESCRIPTION:
URL:https://elderbridge.org/events/fresh-conversations-at-northwood-senior-center-on-february-20-at-1215-pm/
END:VEVENT
BEGIN:VEVENT
DTSTART;TZID=UTC:20240221T113000
DTEND;TZID=UTC:20240221T120000
DTSTAMP:20260422T221240
CREATED:20240113T030418Z
LAST-MODIFIED:20240113T030434Z
UID:9605-1708515000-1708516800@elderbridge.org
SUMMARY:Fresh Conversations at Rockford Community Center on February 21 at 11:30 AM
DESCRIPTION:
URL:https://elderbridge.org/events/fresh-conversations-at-rockford-community-center-on-february-21-at-1130-am/
END:VEVENT
BEGIN:VEVENT
DTSTART;TZID=UTC:20240221T114500
DTEND;TZID=UTC:20240221T121500
DTSTAMP:20260422T221240
CREATED:20240112T204141Z
LAST-MODIFIED:20240112T204226Z
UID:9562-1708515900-1708517700@elderbridge.org
SUMMARY:Fresh Conversations at Deercreek Apartments in Fort Dodge on February 21 at 11:45 AM
DESCRIPTION:
URL:https://elderbridge.org/events/fresh-conversations-at-deercreek-apartments-in-fort-dodge-on-february-21-at-1145-am/
END:VEVENT
BEGIN:VEVENT
DTSTART;TZID=UTC:20240222T110000
DTEND;TZID=UTC:20240222T233000
DTSTAMP:20260422T221240
CREATED:20240113T030852Z
LAST-MODIFIED:20240113T030907Z
UID:9611-1708599600-1708644600@elderbridge.org
SUMMARY:Fresh Conversations at Athens Woods Estates on February 22 at 11:00 AM
DESCRIPTION:
URL:https://elderbridge.org/events/fresh-conversations-at-athens-woods-estates-on-february-22-at-1100-am/
END:VEVENT
BEGIN:VEVENT
DTSTART;TZID=UTC:20240225T080000
DTEND;TZID=UTC:20240303T200000
DTSTAMP:20260422T221240
CREATED:20231006T021611Z
LAST-MODIFIED:20231006T021626Z
UID:8931-1708848000-1709496000@elderbridge.org
SUMMARY:"Slam Dunk" Against Hunger Elderbridge Annual Fundraiser
DESCRIPTION:
URL:https://elderbridge.org/events/slam-dunk-against-hunger-elderbridge-annual-fundraiser/
ORGANIZER;CN="Laura Allen":MAILTO:lallen@elderbridge.org
END:VEVENT
BEGIN:VEVENT
DTSTART;TZID=UTC:20240227T003000
DTEND;TZID=UTC:20240227T130000
DTSTAMP:20260422T221240
CREATED:20240113T030644Z
LAST-MODIFIED:20240113T030652Z
UID:9608-1708993800-1709038800@elderbridge.org
SUMMARY:Fresh Conversations at Lakes Area Senior Center on February 27 at 12:30 PM
DESCRIPTION:
URL:https://elderbridge.org/events/fresh-conversations-at-lakes-area-senior-center-on-february-27-at-1230-pm/
END:VEVENT
BEGIN:VEVENT
DTSTART;TZID=UTC:20240227T093000
DTEND;TZID=UTC:20240227T223000
DTSTAMP:20260422T221240
CREATED:20240118T010739Z
LAST-MODIFIED:20240118T010753Z
UID:9617-1709026200-1709073000@elderbridge.org
SUMMARY:Caregiver Support Group at Trinity Lutheran Church in Mason City on the Fourth Tuesday of every Month from 9:30 AM to 10:30 AM
DESCRIPTION:
URL:https://elderbridge.org/events/caregiver-support-group-at-trinity-lutheran-church-in-mason-city-on-the-fourth-tuesday-of-every-month-from-930-am-to-1030-am/
END:VEVENT
BEGIN:VEVENT
DTSTART;TZID=UTC:20240301T113000
DTEND;TZID=UTC:20240301T120000
DTSTAMP:20260422T221240
CREATED:20240224T015839Z
LAST-MODIFIED:20240224T015853Z
UID:9744-1709292600-1709294400@elderbridge.org
SUMMARY:Sibley Senior Center Words of Wisdom March 1 at 11:30 AM
DESCRIPTION:
URL:https://elderbridge.org/events/sibley-senior-center-words-of-wisdom-march-1-at-1130-am/
END:VEVENT
BEGIN:VEVENT
DTSTART;TZID=UTC:20240307T120000
DTEND;TZID=UTC:20240307T123000
DTSTAMP:20260422T221240
CREATED:20240224T020056Z
LAST-MODIFIED:20240224T020105Z
UID:9747-1709812800-1709814600@elderbridge.org
SUMMARY:Lake Park Senior Center Words of Wisdom March 7 at 12:00 PM
DESCRIPTION:
URL:https://elderbridge.org/events/lake-park-senior-center-words-of-wisdom-march-7-at-1200-pm/
END:VEVENT
BEGIN:VEVENT
DTSTART;TZID=UTC:20240312T123000
DTEND;TZID=UTC:20240312T130000
DTSTAMP:20260422T221240
CREATED:20240224T014713Z
LAST-MODIFIED:20240224T014725Z
UID:9728-1710246600-1710248400@elderbridge.org
SUMMARY:Manly Senior Center Fresh Conversations March 12 at 12:30 PM
DESCRIPTION:
URL:https://elderbridge.org/events/manly-senior-center-fresh-conversations-march-12-at-1230-pm/
END:VEVENT
BEGIN:VEVENT
DTSTART;TZID=UTC:20240313T110000
DTEND;TZID=UTC:20240313T113000
DTSTAMP:20260422T221240
CREATED:20240224T014136Z
LAST-MODIFIED:20240224T014148Z
UID:9719-1710327600-1710329400@elderbridge.org
SUMMARY:Charles City Fresh Conversations March 13 at 11 AM
DESCRIPTION:
URL:https://elderbridge.org/events/charles-city-fresh-conversations-march-13-at-11-am/
END:VEVENT
BEGIN:VEVENT
DTSTART;TZID=UTC:20240314T120000
DTEND;TZID=UTC:20240314T123000
DTSTAMP:20260422T221240
CREATED:20240224T015630Z
LAST-MODIFIED:20240224T015640Z
UID:9741-1710417600-1710419400@elderbridge.org
SUMMARY:Storm Lake Senior Center Words of Wisdom March 14 at 12:00 PM
DESCRIPTION:
URL:https://elderbridge.org/events/storm-lake-senior-center-words-of-wisdom-march-14-at-1200-pm/
END:VEVENT
BEGIN:VEVENT
DTSTART;TZID=UTC:20240319T121500
DTEND;TZID=UTC:20240319T130000
DTSTAMP:20260422T221240
CREATED:20240224T014902Z
LAST-MODIFIED:20240224T014902Z
UID:9731-1710850500-1710853200@elderbridge.org
SUMMARY:Northwood Fresh Conversations March 19 at 12:15 PM
DESCRIPTION:
URL:https://elderbridge.org/events/northwood-fresh-conversations-march-19-at-1215-pm/
END:VEVENT
BEGIN:VEVENT
DTSTART;TZID=UTC:20240320T114500
DTEND;TZID=UTC:20240320T121500
DTSTAMP:20260422T221240
CREATED:20240224T014346Z
LAST-MODIFIED:20240224T014357Z
UID:9722-1710935100-1710936900@elderbridge.org
SUMMARY:Deercreek of Fort Dodge Fresh Conversations March 20 at 11:45 AM
DESCRIPTION:
URL:https://elderbridge.org/events/deercreek-of-fort-dodge-fresh-conversations-march-20-at-1145-am/
END:VEVENT
BEGIN:VEVENT
DTSTART;TZID=UTC:20240321T113000
DTEND;TZID=UTC:20240321T120000
DTSTAMP:20260422T221240
CREATED:20240224T014517Z
LAST-MODIFIED:20240224T014527Z
UID:9725-1711020600-1711022400@elderbridge.org
SUMMARY:Eagle Grove Fresh Conversations March 21 at 11:30 AM
DESCRIPTION:
URL:https://elderbridge.org/events/eagle-grove-fresh-conversations-march-21-at-1130-am/
END:VEVENT
BEGIN:VEVENT
DTSTART;TZID=UTC:20240321T140000
DTEND;TZID=UTC:20240321T143000
DTSTAMP:20260422T221240
CREATED:20240313T224418Z
LAST-MODIFIED:20240313T230354Z
UID:9783-1711029600-1711031400@elderbridge.org
SUMMARY:Words on Wellness on March 21st at 2 PM on ZOOM  -  Join Zoom Meeting https://us02web.zoom.us/j/87993355300  Meeting ID: 879 9335 5300
DESCRIPTION:
URL:https://elderbridge.org/events/words-on-wellness-on-march-21st-at-2-pm-on-zoom-join-zoom-meeting-https-us02web-zoom-us-j-87993355300-meeting-id-879-9335-5300/
END:VEVENT
BEGIN:VEVENT
DTSTART;TZID=UTC:20240326T123000
DTEND;TZID=UTC:20240326T130000
DTSTAMP:20260422T221240
CREATED:20240224T015145Z
LAST-MODIFIED:20240224T015154Z
UID:9734-1711456200-1711458000@elderbridge.org
SUMMARY:Spirit Lake Fresh Conversations March 26th at 12:30 PM
DESCRIPTION:
URL:https://elderbridge.org/events/spirit-lake-fresh-conversations-march-26th-at-1230-pm/
END:VEVENT
BEGIN:VEVENT
DTSTART;TZID=UTC:20240328T110000
DTEND;TZID=UTC:20240328T113000
DTSTAMP:20260422T221240
CREATED:20240224T015402Z
LAST-MODIFIED:20240224T015410Z
UID:9738-1711623600-1711625400@elderbridge.org
SUMMARY:Athens Woods Estate in Stratford Fresh Conversations March 28 at 11:00 AM
DESCRIPTION:
URL:https://elderbridge.org/events/athens-woods-estate-in-stratford-fresh-conversations-march-28-at-1100-am/
END:VEVENT
BEGIN:VEVENT
DTSTART;TZID=UTC:20240409T123000
DTEND;TZID=UTC:20240409T130000
DTSTAMP:20260422T221240
CREATED:20240321T001639Z
LAST-MODIFIED:20240321T001639Z
UID:9854-1712665800-1712667600@elderbridge.org
SUMMARY:Fresh Conversations at the Manly Senior Center on April 9 at 12:30 PM
DESCRIPTION:
URL:https://elderbridge.org/events/fresh-conversations-at-the-manly-senior-center-on-april-9-at-1230-pm/
END:VEVENT
BEGIN:VEVENT
DTSTART;TZID=UTC:20240410T110000
DTEND;TZID=UTC:20240410T113000
DTSTAMP:20260422T221240
CREATED:20240321T000402Z
LAST-MODIFIED:20240321T000402Z
UID:9845-1712746800-1712748600@elderbridge.org
SUMMARY:Fresh Conversations at Charles City Senior Center on April 10 at 11 AM
DESCRIPTION:
URL:https://elderbridge.org/events/fresh-conversations-at-charles-city-senior-center-on-april-10-at-11-am/
END:VEVENT
BEGIN:VEVENT
DTSTART;TZID=UTC:20240416T114500
DTEND;TZID=UTC:20240416T121500
DTSTAMP:20260422T221240
CREATED:20240321T001106Z
LAST-MODIFIED:20240321T001119Z
UID:9848-1713267900-1713269700@elderbridge.org
SUMMARY:Fresh Conversations at Deercreek in Fort Dodge on April 16 at 11:45 AM
DESCRIPTION:
URL:https://elderbridge.org/events/fresh-conversations-at-deercreek-in-fort-dodge-on-april-16-at-1145-am/
END:VEVENT
BEGIN:VEVENT
DTSTART;TZID=UTC:20240416T121500
DTEND;TZID=UTC:20240416T124500
DTSTAMP:20260422T221240
CREATED:20240321T002000Z
LAST-MODIFIED:20240321T002000Z
UID:9857-1713269700-1713271500@elderbridge.org
SUMMARY:Fresh Conversations at the Northwood Senior Center on April 16 at 12:15 PM
DESCRIPTION:
URL:https://elderbridge.org/events/fresh-conversations-at-the-northwood-senior-center-on-april-16-at-1215-pm/
END:VEVENT
BEGIN:VEVENT
DTSTART;TZID=UTC:20240417T080000
DTEND;TZID=UTC:20240417T170000
DTSTAMP:20260422T221240
CREATED:20240417T162144Z
LAST-MODIFIED:20240417T162228Z
UID:9943-1713340800-1713373200@elderbridge.org
SUMMARY:Fresh Conversations  Charles City Senior Center at 11:00 AM on May 8
DESCRIPTION:
URL:https://elderbridge.org/events/fresh-conversations-charles-city-senior-center-at-1100-am-on-may-8/
END:VEVENT
BEGIN:VEVENT
DTSTART;TZID=UTC:20240418T113000
DTEND;TZID=UTC:20240418T120000
DTSTAMP:20260422T221240
CREATED:20240321T001420Z
LAST-MODIFIED:20240321T001420Z
UID:9851-1713439800-1713441600@elderbridge.org
SUMMARY:Fresh Conversation at Eagle Grove Senior Center on April 18 at 11:30 AM
DESCRIPTION:
URL:https://elderbridge.org/events/fresh-conversation-at-eagle-grove-senior-center-on-april-18-at-1130-am/
END:VEVENT
BEGIN:VEVENT
DTSTART;TZID=UTC:20240425T110000
DTEND;TZID=UTC:20240425T113000
DTSTAMP:20260422T221240
CREATED:20240321T002619Z
LAST-MODIFIED:20240321T002629Z
UID:9863-1714042800-1714044600@elderbridge.org
SUMMARY:Fresh Conversations at Athens Woods Estates in Stratford on April 25 at 11 AM
DESCRIPTION:
URL:https://elderbridge.org/events/fresh-conversations-at-athens-woods-estates-in-stratford-on-april-25-at-11-am/
END:VEVENT
BEGIN:VEVENT
DTSTART;TZID=UTC:20240430T123000
DTEND;TZID=UTC:20240430T130000
DTSTAMP:20260422T221240
CREATED:20240321T002250Z
LAST-MODIFIED:20240321T002301Z
UID:9860-1714480200-1714482000@elderbridge.org
SUMMARY:Fresh Conversations at the Lake Senior Center in Spirit Lake on April 30 at 12:30 PM
DESCRIPTION:
URL:https://elderbridge.org/events/fresh-conversations-at-the-lake-senior-center-in-spirit-lake-on-april-30-at-1230-pm/
END:VEVENT
BEGIN:VEVENT
DTSTART;TZID=UTC:20240508T110000
DTEND;TZID=UTC:20240508T233000
DTSTAMP:20260422T221240
CREATED:20240426T233604Z
LAST-MODIFIED:20240426T233604Z
UID:9990-1715166000-1715211000@elderbridge.org
SUMMARY:Fresh Conversations at Charles City Senior Center on May 8 at 11:00 AM
DESCRIPTION:
URL:https://elderbridge.org/events/fresh-conversations-at-charles-city-senior-center-on-may-8-at-1100-am/
END:VEVENT
BEGIN:VEVENT
DTSTART;TZID=UTC:20240514T123000
DTEND;TZID=UTC:20240514T130000
DTSTAMP:20260422T221240
CREATED:20240427T000009Z
LAST-MODIFIED:20240427T000423Z
UID:9996-1715689800-1715691600@elderbridge.org
SUMMARY:Fresh Conversations at Manly Senior Citizens Center on May 14 at 12:30 PM
DESCRIPTION:
URL:https://elderbridge.org/events/fresh-conversations-at-manly-senior-citizens-center-on-may-14-at-1230-pm/
END:VEVENT
BEGIN:VEVENT
DTSTART;TZID=UTC:20240515T113000
DTEND;TZID=UTC:20240515T120000
DTSTAMP:20260422T221240
CREATED:20240426T234105Z
LAST-MODIFIED:20240426T234502Z
UID:9993-1715772600-1715774400@elderbridge.org
SUMMARY:Fresh Conversations at Eagle Grove Senior Center on May 16 at 11:30 AM
DESCRIPTION:
URL:https://elderbridge.org/events/fresh-conversations-at-eagle-grove-senior-center-on-may-16-at-1130-am/
END:VEVENT
BEGIN:VEVENT
DTSTART;TZID=UTC:20240515T114500
DTEND;TZID=UTC:20240515T121500
DTSTAMP:20260422T221240
CREATED:20240418T124444Z
LAST-MODIFIED:20240418T124444Z
UID:9949-1715773500-1715775300@elderbridge.org
SUMMARY:Fresh Conversations in Fort Dodge at Deercreek Apartments on May 15 at 11:45 AM
DESCRIPTION:
URL:https://elderbridge.org/events/fresh-conversations-in-fort-dodge-at-deercreek-apartments-on-may-15-at-1145-am/
END:VEVENT
END:VCALENDAR