BEGIN:VCALENDAR
VERSION:2.0
PRODID:-//Elderbridge Agency On Aging - ECPv6.15.20//NONSGML v1.0//EN
CALSCALE:GREGORIAN
METHOD:PUBLISH
X-WR-CALNAME:Elderbridge Agency On Aging
X-ORIGINAL-URL:https://elderbridge.org
X-WR-CALDESC:Events for Elderbridge Agency On Aging
REFRESH-INTERVAL;VALUE=DURATION:PT1H
X-Robots-Tag:noindex
X-PUBLISHED-TTL:PT1H
BEGIN:VTIMEZONE
TZID:UTC
BEGIN:STANDARD
TZOFFSETFROM:+0000
TZOFFSETTO:+0000
TZNAME:UTC
DTSTART:20220101T000000
END:STANDARD
END:VTIMEZONE
BEGIN:VEVENT
DTSTART;TZID=UTC:20231017T121500
DTEND;TZID=UTC:20231017T124500
DTSTAMP:20260422T223712
CREATED:20231003T230446Z
LAST-MODIFIED:20231015T231112Z
UID:9011-1697544900-1697546700@elderbridge.org
SUMMARY:Fresh Conversations at Northwood
DESCRIPTION:
URL:https://elderbridge.org/events/fresh-conversations-at-northwood/
END:VEVENT
BEGIN:VEVENT
DTSTART;TZID=UTC:20231013T120000
DTEND;TZID=UTC:20231013T123000
DTSTAMP:20260422T223712
CREATED:20231003T232437Z
LAST-MODIFIED:20231015T232456Z
UID:9022-1697198400-1697200200@elderbridge.org
SUMMARY:Fresh Conversations at Osage
DESCRIPTION:
URL:https://elderbridge.org/events/fresh-conversations-at-osage-2/
END:VEVENT
BEGIN:VEVENT
DTSTART;TZID=UTC:20231012T111500
DTEND;TZID=UTC:20231012T234500
DTSTAMP:20260422T223712
CREATED:20231003T225754Z
LAST-MODIFIED:20231015T230001Z
UID:9006-1697109300-1697154300@elderbridge.org
SUMMARY:Fresh Conversations in Jefferson at Greenewood Community Center
DESCRIPTION:
URL:https://elderbridge.org/events/9006/
END:VEVENT
BEGIN:VEVENT
DTSTART;TZID=UTC:20231011T114500
DTEND;TZID=UTC:20231011T121500
DTSTAMP:20260422T223712
CREATED:20231003T225340Z
LAST-MODIFIED:20231015T225406Z
UID:9000-1697024700-1697026500@elderbridge.org
SUMMARY:Fresh Conversations in Fort Dodge at Deercreek
DESCRIPTION:
URL:https://elderbridge.org/events/fresh-conversations-in-fort-dodge-at-deercreek/
END:VEVENT
BEGIN:VEVENT
DTSTART;TZID=UTC:20231011T110000
DTEND;TZID=UTC:20231011T150000
DTSTAMP:20260422T223712
CREATED:20231004T031543Z
LAST-MODIFIED:20231004T031543Z
UID:8894-1697022000-1697036400@elderbridge.org
SUMMARY:Elderbridge Agency on Aging\, Clay County Public Health\, Avera Medical Group Spencer Vaccine Clinic
DESCRIPTION:
URL:https://elderbridge.org/events/elderbridge-agency-on-aging-clay-county-public-health-avera-medical-group-spencer-vaccine-clinic/
LOCATION:Occasions – 1st Avenue East Spencer\, Iowa 51301
ATTACH;FMTTYPE=image/png:https://elderbridge.org/wp-content/uploads/2023/10/ADVC-FlyerTemplate-OlderAdults1-Edited-1022023-2.png_1696344981.png
END:VEVENT
BEGIN:VEVENT
DTSTART;TZID=UTC:20231011T110000
DTEND;TZID=UTC:20231011T113000
DTSTAMP:20260422T223712
CREATED:20231003T225036Z
LAST-MODIFIED:20231015T225149Z
UID:8997-1697022000-1697023800@elderbridge.org
SUMMARY:Fresh Conversations in Charles City
DESCRIPTION:
URL:https://elderbridge.org/events/fresh-conversations-in-charles-city/
END:VEVENT
BEGIN:VEVENT
DTSTART;TZID=UTC:20231010T123000
DTEND;TZID=UTC:20231010T130000
DTSTAMP:20260422T223712
CREATED:20231003T232104Z
LAST-MODIFIED:20231015T232121Z
UID:9019-1696941000-1696942800@elderbridge.org
SUMMARY:Fresh Conversations at Manly
DESCRIPTION:
URL:https://elderbridge.org/events/fresh-conversations-at-manly/
END:VEVENT
BEGIN:VEVENT
DTSTART;TZID=UTC:20231010T093000
DTEND;TZID=UTC:20231010T233000
DTSTAMP:20260422T223712
CREATED:20231005T182327Z
LAST-MODIFIED:20231005T182327Z
UID:8913-1696930200-1696980600@elderbridge.org
SUMMARY:Elderbridge Agency on Aging and Cerro Gordo Public Health Vaccine Clinic at Thornton Town Hall\, Thornton\, IA on October 10\, 2023
DESCRIPTION:  \nFlu Vaccine 6 months and older -$40 \nHigh Dose Flu Vaccine 65 & Older -$78 \nUpdated COVID-19 boosters\, if available. \nWe accept most major insurance. Please bring your insurance card with you. \n 
URL:https://elderbridge.org/events/elderbridge-agency-on-aging-and-cerro-gordo-public-health-vaccine-clinic-at-thornton-town-hall-thornton-ia-on-october-10-2023/
END:VEVENT
BEGIN:VEVENT
DTSTART;TZID=UTC:20230928T110000
DTEND;TZID=UTC:20230928T113000
DTSTAMP:20260422T223712
CREATED:20230831T010727Z
LAST-MODIFIED:20230831T010739Z
UID:8827-1695898800-1695900600@elderbridge.org
SUMMARY:Fresh Conversations at Athens Woods Estates in Stratford on Thursday September 28 at 11:00 AM
DESCRIPTION:
URL:https://elderbridge.org/events/fresh-conversations-at-athens-woods-estates-in-stratford-on-thursday-september-28-at-1100-am/
END:VEVENT
BEGIN:VEVENT
DTSTART;TZID=UTC:20230926T123000
DTEND;TZID=UTC:20230926T130000
DTSTAMP:20260422T223712
CREATED:20230831T005858Z
LAST-MODIFIED:20230831T005937Z
UID:8824-1695731400-1695733200@elderbridge.org
SUMMARY:Fresh Conversations at Lakes Area Senior Center in Spirit Lake on Tuesday September 26 at 12:30 PM
DESCRIPTION:
URL:https://elderbridge.org/events/fresh-conversations-at-lakes-area-senior-center-in-spirit-lake-on-tuesday-september-26-at-1230-pm/
END:VEVENT
BEGIN:VEVENT
DTSTART;TZID=UTC:20230921T113000
DTEND;TZID=UTC:20230921T120000
DTSTAMP:20260422T223712
CREATED:20230831T001034Z
LAST-MODIFIED:20230831T001103Z
UID:8803-1695295800-1695297600@elderbridge.org
SUMMARY:Fresh Conversations at Eagle Grove Thursday September 21 at 11:30 AM
DESCRIPTION:
URL:https://elderbridge.org/events/fresh-conversations-at-eagle-grove-thursday-september-21-at-1130am/
END:VEVENT
BEGIN:VEVENT
DTSTART;TZID=UTC:20230920T113000
DTEND;TZID=UTC:20230920T120000
DTSTAMP:20260422T223712
CREATED:20230831T005434Z
LAST-MODIFIED:20230831T005447Z
UID:8821-1695209400-1695211200@elderbridge.org
SUMMARY:Fresh Conversations at Rockford Community Center on Wednesday September 20 at 11:30 AM
DESCRIPTION:
URL:https://elderbridge.org/events/fresh-conversations-at-rockford-community-center-on-wednesday-september-20-at-1130-am/
END:VEVENT
BEGIN:VEVENT
DTSTART;TZID=UTC:20230919T121500
DTEND;TZID=UTC:20230919T124500
DTSTAMP:20260422T223712
CREATED:20230831T002317Z
LAST-MODIFIED:20230831T002317Z
UID:8815-1695125700-1695127500@elderbridge.org
SUMMARY:Fresh Conversations at Northwood Senior Center on Tuesday September 19 at 12:15 PM
DESCRIPTION:
URL:https://elderbridge.org/events/fresh-conversations-at-northwood-senior-center-on-tuesday-september-19-at-1215-pm/
END:VEVENT
BEGIN:VEVENT
DTSTART;TZID=UTC:20230915T120000
DTEND;TZID=UTC:20230915T123000
DTSTAMP:20260422T223712
CREATED:20230831T003345Z
LAST-MODIFIED:20230831T003357Z
UID:8818-1694779200-1694781000@elderbridge.org
SUMMARY:Fresh Conversations at Osage Senior Center on September 15 at 12 Noon
DESCRIPTION:
URL:https://elderbridge.org/events/fresh-conversations-at-osage-senior-center-on-september-15-at-12-noon/
END:VEVENT
BEGIN:VEVENT
DTSTART;TZID=UTC:20230914T114500
DTEND;TZID=UTC:20230914T121500
DTSTAMP:20260422T223712
CREATED:20230831T001603Z
LAST-MODIFIED:20230831T001603Z
UID:8809-1694691900-1694693700@elderbridge.org
SUMMARY:Fresh Conversations at Greenewood Community Center in Jefferson on Wednesday September 14 at 11:45 AM
DESCRIPTION:
URL:https://elderbridge.org/events/fresh-conversations-at-greenewood-community-center-in-jefferson-on-wednesday-september-14-at-1145-am/
END:VEVENT
BEGIN:VEVENT
DTSTART;TZID=UTC:20230913T110000
DTEND;TZID=UTC:20230913T120000
DTSTAMP:20260422T223712
CREATED:20230830T232521Z
LAST-MODIFIED:20230831T001243Z
UID:8800-1694602800-1694606400@elderbridge.org
SUMMARY:Fresh Conversations Charles City on Wednesday September 13 at 11:00 AM
DESCRIPTION:
URL:https://elderbridge.org/events/fresh-conversations-charles-city-september-13-at-1100-am/
END:VEVENT
BEGIN:VEVENT
DTSTART;TZID=UTC:20230912T123000
DTEND;TZID=UTC:20230912T130000
DTSTAMP:20260422T223712
CREATED:20230831T001847Z
LAST-MODIFIED:20230831T001911Z
UID:8812-1694521800-1694523600@elderbridge.org
SUMMARY:Fresh Conversations at Manly Senior Center on Tuesday September 12 at 12:30 PM
DESCRIPTION:
URL:https://elderbridge.org/events/fresh-conversations-at-manly-senior-center-on-tuesday-september-12-at-1230-pm/
END:VEVENT
BEGIN:VEVENT
DTSTART;TZID=UTC:20230824T110000
DTEND;TZID=UTC:20230824T113000
DTSTAMP:20260422T223712
CREATED:20230818T014851Z
LAST-MODIFIED:20230818T015558Z
UID:8749-1692874800-1692876600@elderbridge.org
SUMMARY:Stratford Fresh Conversations August 24\, 2023 at 11:00 AM
DESCRIPTION:
URL:https://elderbridge.org/events/stratford-fresh-conversations-august-24-2023-at-1100-am/
END:VEVENT
BEGIN:VEVENT
DTSTART;TZID=UTC:20230818T120000
DTEND;TZID=UTC:20230818T123000
DTSTAMP:20260422T223712
CREATED:20230818T015847Z
LAST-MODIFIED:20230818T020350Z
UID:8753-1692360000-1692361800@elderbridge.org
SUMMARY:Osage Fresh Conversations August 18 at Noon
DESCRIPTION:
URL:https://elderbridge.org/events/osage-fresh-conversations-august-19-at-noon/
END:VEVENT
BEGIN:VEVENT
DTSTART;TZID=UTC:20230817T113000
DTEND;TZID=UTC:20230817T120000
DTSTAMP:20260422T223712
CREATED:20230818T023326Z
LAST-MODIFIED:20230818T023341Z
UID:8764-1692271800-1692273600@elderbridge.org
SUMMARY:Eagle Grove Fresh Conversations August 17 at 11:30 PM
DESCRIPTION:
URL:https://elderbridge.org/events/eagle-grove-fresh-conversations-august-17-at-1130-pm/
END:VEVENT
BEGIN:VEVENT
DTSTART;TZID=UTC:20230816T231500
DTEND;TZID=UTC:20230816T234500
DTSTAMP:20260422T223712
CREATED:20230818T023628Z
LAST-MODIFIED:20230818T023628Z
UID:8767-1692227700-1692229500@elderbridge.org
SUMMARY:Fort Dodge Fresh Conversations August 16 at 11:15 AM
DESCRIPTION:
URL:https://elderbridge.org/events/fort-dodge-fresh-conversations-august-16-at-1115-am/
END:VEVENT
BEGIN:VEVENT
DTSTART;TZID=UTC:20230816T121500
DTEND;TZID=UTC:20230816T124500
DTSTAMP:20260422T223712
CREATED:20230818T020641Z
LAST-MODIFIED:20230818T020641Z
UID:8758-1692188100-1692189900@elderbridge.org
SUMMARY:Northwood Fresh Conversations August 16 at 12:15 PM
DESCRIPTION:
URL:https://elderbridge.org/events/northwood-fresh-conversations-august-16-at-1215-pm/
END:VEVENT
BEGIN:VEVENT
DTSTART;TZID=UTC:20230816T113000
DTEND;TZID=UTC:20230816T120000
DTSTAMP:20260422T223712
CREATED:20230818T015107Z
LAST-MODIFIED:20230818T015345Z
UID:8751-1692185400-1692187200@elderbridge.org
SUMMARY:Rockford Fresh Conversations August 16 at 11:30 AM
DESCRIPTION:
URL:https://elderbridge.org/events/rockford-fresh-conversations-august-16-at-1130-am/
END:VEVENT
BEGIN:VEVENT
DTSTART;TZID=UTC:20230810T123000
DTEND;TZID=UTC:20230810T130000
DTSTAMP:20260422T223712
CREATED:20230818T021556Z
LAST-MODIFIED:20230818T021608Z
UID:8760-1691670600-1691672400@elderbridge.org
SUMMARY:Manly Fresh Conversations August 10 at 12:30 PM
DESCRIPTION:
URL:https://elderbridge.org/events/manly-fresh-conversations-august-10-at-1230-pm/
END:VEVENT
BEGIN:VEVENT
DTSTART;TZID=UTC:20230810T111500
DTEND;TZID=UTC:20230810T114500
DTSTAMP:20260422T223712
CREATED:20230818T022945Z
LAST-MODIFIED:20230818T022957Z
UID:8762-1691666100-1691667900@elderbridge.org
SUMMARY:Jefferson Fresh Conversations August 10 at 11:15 AM
DESCRIPTION:
URL:https://elderbridge.org/events/jefferson-fresh-conversations-august-10-at-1115-am/
END:VEVENT
BEGIN:VEVENT
DTSTART;TZID=UTC:20230809T110000
DTEND;TZID=UTC:20230809T233000
DTSTAMP:20260422T223712
CREATED:20230818T024025Z
LAST-MODIFIED:20230818T024038Z
UID:8769-1691578800-1691623800@elderbridge.org
SUMMARY:Charles City Fresh Conversations August 9 at 11:00 AM
DESCRIPTION:
URL:https://elderbridge.org/events/charles-city-fresh-conversations-august-9-at-1100-am/
END:VEVENT
BEGIN:VEVENT
DTSTART;TZID=UTC:20230622T110000
DTEND;TZID=UTC:20230622T120000
DTSTAMP:20260422T223712
CREATED:20230530T235848Z
LAST-MODIFIED:20230530T235848Z
UID:8486-1687431600-1687435200@elderbridge.org
SUMMARY:Fresh Conversations at Athens Woods Estates in Stratford\, IA on June 22 at 11:00 AM
DESCRIPTION:
URL:https://elderbridge.org/events/fresh-conversations-at-athens-woods-estates-in-stratford-ia-on-june-22-at-1100-am/
LOCATION:Athens Woods Estates\, 1250 Highway 175\, Stratford\, IA\, 50249\, United States
END:VEVENT
BEGIN:VEVENT
DTSTART;TZID=UTC:20230621T114500
DTEND;TZID=UTC:20230621T121500
DTSTAMP:20260422T223712
CREATED:20230530T234615Z
LAST-MODIFIED:20230530T234615Z
UID:8482-1687347900-1687349700@elderbridge.org
SUMMARY:Fresh Conversations at Deercreek Apartments in Fort Dodge June 21\, 2023 at 11:45
DESCRIPTION:
URL:https://elderbridge.org/events/fresh-conversations-at-deercreek-apartments-in-fort-dodge-june-21-2023-at-1145/
LOCATION:Deercreek Apts\, 700 S. 17th St.\, Fort Dodge\, IA
END:VEVENT
BEGIN:VEVENT
DTSTART;TZID=UTC:20230621T114500
DTEND;TZID=UTC:20230621T121500
DTSTAMP:20260422T223712
CREATED:20230518T191113Z
LAST-MODIFIED:20230518T191113Z
UID:8463-1687347900-1687349700@elderbridge.org
SUMMARY:Deercreek of Fort Dodge will have Fresh Conversations on Wednesday\, June 21 at 11:45 AM
DESCRIPTION: 
URL:https://elderbridge.org/events/deercreek-of-fort-dodge-will-have-fresh-conversations-on-wednesday-june-21-at-1145-am/
END:VEVENT
BEGIN:VEVENT
DTSTART;TZID=UTC:20230621T113000
DTEND;TZID=UTC:20230621T123000
DTSTAMP:20260422T223712
CREATED:20230531T002345Z
LAST-MODIFIED:20230531T002345Z
UID:8500-1687347000-1687350600@elderbridge.org
SUMMARY:Fresh Conversations at Rockford Community Center on June 21 at 11:30 AM
DESCRIPTION:
URL:https://elderbridge.org/events/fresh-conversations-at-rockford-community-center-on-june-21-at-1130-am/
LOCATION:Rockford Community Center\, 206 W. Main Ave.\, Rockford IA
END:VEVENT
END:VCALENDAR