BEGIN:VCALENDAR
VERSION:2.0
PRODID:-//Elderbridge Agency On Aging - ECPv6.15.20//NONSGML v1.0//EN
CALSCALE:GREGORIAN
METHOD:PUBLISH
X-WR-CALNAME:Elderbridge Agency On Aging
X-ORIGINAL-URL:https://elderbridge.org
X-WR-CALDESC:Events for Elderbridge Agency On Aging
REFRESH-INTERVAL;VALUE=DURATION:PT1H
X-Robots-Tag:noindex
X-PUBLISHED-TTL:PT1H
BEGIN:VTIMEZONE
TZID:UTC
BEGIN:STANDARD
TZOFFSETFROM:+0000
TZOFFSETTO:+0000
TZNAME:UTC
DTSTART:20240101T000000
END:STANDARD
END:VTIMEZONE
BEGIN:VEVENT
DTSTART;TZID=UTC:20250527T123000
DTEND;TZID=UTC:20250527T130000
DTSTAMP:20260421T232606
CREATED:20250429T002616Z
LAST-MODIFIED:20250429T002640Z
UID:11209-1748349000-1748350800@elderbridge.org
SUMMARY:Fresh Conversations at the Lakes Area Senior Center in Spirit Lake on May 27 at 12:30 PM
DESCRIPTION:
URL:https://elderbridge.org/events/fresh-conversations-at-the-lakes-area-senior-center-in-spirit-lake-on-may-27-at-1230-pm/
END:VEVENT
BEGIN:VEVENT
DTSTART;TZID=UTC:20250528T084500
DTEND;TZID=UTC:20250528T094500
DTSTAMP:20260421T232606
CREATED:20250513T221136Z
LAST-MODIFIED:20250513T221339Z
UID:11257-1748421900-1748425500@elderbridge.org
SUMMARY:Public Hearing Agenda at Elderbridge Agency on Aging for Direct Services Waiver Request on Wednesday May 28\, 2025\, at 714 19th Ave. East St. 1\, Spencer\, IA 51301 or Virtually Via ZOOM
DESCRIPTION:Date: Wednesday May 28\, 2025 \nTime: 8:45 am \nLocation: Elderbridge Agency on Aging \n714 19th Ave. East St. 1 \nSpencer\, IA 51301 \nOr \nJoin Meeting Virtually \nJoin Zoom Meeting \nhttps://us02web.zoom.us/j/81880965589?pwd=WYDbl6LY3XsCbnk3sQDc9KZIKbSDfP.1 \nMeeting ID: 818 8096 5589 \nPasscode: 684344 \nAgenda \n-Welcome/Introductions \n-Explanation of direct services to be requested through the waiver \n-Public Input to those services requested to be directly provided by Elderbridge \n 
URL:https://elderbridge.org/events/public-hearing-agenda-elderbridge-agency-on-aging-direct-services-waiver-request/
END:VEVENT
BEGIN:VEVENT
DTSTART;TZID=UTC:20250604T110000
DTEND;TZID=UTC:20250604T120000
DTSTAMP:20260421T232606
CREATED:20250528T020327Z
LAST-MODIFIED:20250528T020339Z
UID:11274-1749034800-1749038400@elderbridge.org
SUMMARY:Fresh Conversations at Charles City on June 4 at 11:00AM
DESCRIPTION:
URL:https://elderbridge.org/events/fresh-conversations-at-charles-city-on-june-4-at-1100am/
END:VEVENT
BEGIN:VEVENT
DTSTART;TZID=UTC:20250610T123000
DTEND;TZID=UTC:20250610T130000
DTSTAMP:20260421T232606
CREATED:20250528T020911Z
LAST-MODIFIED:20250528T021010Z
UID:11280-1749558600-1749560400@elderbridge.org
SUMMARY:Fresh Conversations in Manly on June 10 at 12:30 Pm
DESCRIPTION:
URL:https://elderbridge.org/events/fresh-conversations-in-manly-on-june-10-at-1230-pm/
END:VEVENT
BEGIN:VEVENT
DTSTART;TZID=UTC:20250611T090000
DTEND;TZID=UTC:20250611T151500
DTSTAMP:20260421T232606
CREATED:20250528T180604Z
LAST-MODIFIED:20250528T180616Z
UID:11292-1749632400-1749654900@elderbridge.org
SUMMARY:Elder Rights Conference at the Carrollton Inn and Event Center on Wednesday\, June 11\, 2025 from 9:00 AM and 3:15 PM
DESCRIPTION:
URL:https://elderbridge.org/events/elder-rights-conference-at-the-carrollton-inn-and-event-center-on-wednesday-june-11-2025-from-900-am-and-315-pm/
END:VEVENT
BEGIN:VEVENT
DTSTART;TZID=UTC:20250611T103000
DTEND;TZID=UTC:20250611T233000
DTSTAMP:20260421T232606
CREATED:20250219T232630Z
LAST-MODIFIED:20250220T005239Z
UID:10925-1749637800-1749684600@elderbridge.org
SUMMARY:Virtual Caregiver Support Group on the 2nd Wednesday of each Month from 10:30 to 11:30 AM - ZOOM Invites Sent Via Email
DESCRIPTION:
URL:https://elderbridge.org/events/virtual-caregiver-support-group-o-the-2nd-wednesday-of-each-month-from-1030-to-1130-am-zoom-invites-sent-via-email/2025-06-11/
END:VEVENT
BEGIN:VEVENT
DTSTART;TZID=UTC:20250617T121500
DTEND;TZID=UTC:20250617T124500
DTSTAMP:20260421T232606
CREATED:20250528T021223Z
LAST-MODIFIED:20250528T021223Z
UID:11283-1750162500-1750164300@elderbridge.org
SUMMARY:Fresh Conversations in Northwood on June 17 at 12:15 PM
DESCRIPTION:
URL:https://elderbridge.org/events/fresh-conversations-in-northwood-on-june-17-at-1215-pm/
END:VEVENT
BEGIN:VEVENT
DTSTART;TZID=UTC:20250618T114500
DTEND;TZID=UTC:20250618T121500
DTSTAMP:20260421T232606
CREATED:20250528T020633Z
LAST-MODIFIED:20250528T020644Z
UID:11277-1750247100-1750248900@elderbridge.org
SUMMARY:Fresh Conversations in Fort Dodge on June 18 at 11:45 AM
DESCRIPTION:
URL:https://elderbridge.org/events/fresh-conversations-in-fort-dodge-on-june-18-at-1145-am/
END:VEVENT
BEGIN:VEVENT
DTSTART;TZID=UTC:20250618T150000
DTEND;TZID=UTC:20250618T160000
DTSTAMP:20260421T232606
CREATED:20230204T005903Z
LAST-MODIFIED:20230204T005903Z
UID:8678-1750258800-1750262400@elderbridge.org
SUMMARY:Webster County Caregiver Support Group 3rd Wednesday of Every Month
DESCRIPTION:
URL:https://elderbridge.org/events/webster-county-caregiver-support-group-3rd-wednesday-of-every-month/2025-06-18/
END:VEVENT
BEGIN:VEVENT
DTSTART;TZID=UTC:20250619T100000
DTEND;TZID=UTC:20250619T110000
DTSTAMP:20260421T232606
CREATED:20230203T011921Z
LAST-MODIFIED:20231130T172144Z
UID:8676-1750327200-1750330800@elderbridge.org
SUMMARY:Virtual Caregiver Support Group 3rd Thursday of Every Month
DESCRIPTION:
URL:https://elderbridge.org/events/virtual-caregiver-support-group-3rd-thursday-of-every-month/2025-06-19/
END:VEVENT
BEGIN:VEVENT
DTSTART;TZID=UTC:20250624T123000
DTEND;TZID=UTC:20250624T130000
DTSTAMP:20260421T232606
CREATED:20250528T021528Z
LAST-MODIFIED:20250528T021528Z
UID:11286-1750768200-1750770000@elderbridge.org
SUMMARY:Fresh Conversations in Spirit Lake on June 24 at 12:30 PM
DESCRIPTION:
URL:https://elderbridge.org/events/fresh-conversations-in-spirit-lake-on-june-24-at-1230-pm/
END:VEVENT
BEGIN:VEVENT
DTSTART;TZID=UTC:20250625T121500
DTEND;TZID=UTC:20250625T124500
DTSTAMP:20260421T232606
CREATED:20250528T021800Z
LAST-MODIFIED:20250528T021812Z
UID:11289-1750853700-1750855500@elderbridge.org
SUMMARY:Fresh Conversations in Webster City on June 25 at 12:15 PM
DESCRIPTION:
URL:https://elderbridge.org/events/fresh-conversations-in-webster-city-on-june-25-at-1215-pm/
END:VEVENT
BEGIN:VEVENT
DTSTART;TZID=UTC:20250708T123000
DTEND;TZID=UTC:20250708T130000
DTSTAMP:20260421T232606
CREATED:20250701T183345Z
LAST-MODIFIED:20250701T183345Z
UID:11331-1751977800-1751979600@elderbridge.org
SUMMARY:Fresh Conversations at the Manly Senior Center on Tuesday\, July 8 at 12:30 PM
DESCRIPTION:
URL:https://elderbridge.org/events/fresh-conversations-at-the-manly-senior-center-on-tuesday-july-8-at-1230-pm/
END:VEVENT
BEGIN:VEVENT
DTSTART;TZID=UTC:20250709T103000
DTEND;TZID=UTC:20250709T233000
DTSTAMP:20260421T232606
CREATED:20250219T232630Z
LAST-MODIFIED:20250220T005239Z
UID:10926-1752057000-1752103800@elderbridge.org
SUMMARY:Virtual Caregiver Support Group on the 2nd Wednesday of each Month from 10:30 to 11:30 AM - ZOOM Invites Sent Via Email
DESCRIPTION:
URL:https://elderbridge.org/events/virtual-caregiver-support-group-o-the-2nd-wednesday-of-each-month-from-1030-to-1130-am-zoom-invites-sent-via-email/2025-07-09/
END:VEVENT
BEGIN:VEVENT
DTSTART;TZID=UTC:20250709T110000
DTEND;TZID=UTC:20250709T113000
DTSTAMP:20260421T232606
CREATED:20250628T005421Z
LAST-MODIFIED:20250628T005421Z
UID:11323-1752058800-1752060600@elderbridge.org
SUMMARY:Fresh Conversations in Charles City Wednesday July 9 at 11:00 AM
DESCRIPTION:
URL:https://elderbridge.org/events/fresh-conversations-in-charles-city-wednesday-july-9-at-1100-am/
END:VEVENT
BEGIN:VEVENT
DTSTART;TZID=UTC:20250715T121500
DTEND;TZID=UTC:20250715T124500
DTSTAMP:20260421T232606
CREATED:20250701T185131Z
LAST-MODIFIED:20250701T185145Z
UID:11334-1752581700-1752583500@elderbridge.org
SUMMARY:Fresh Conversations at the Northwood Senior Center on Tuesday\, July 15 at 12:15 PM
DESCRIPTION:
URL:https://elderbridge.org/events/fresh-conversations-at-the-northwood-senior-center-on-tuesday-july-15-at-1215-pm/
END:VEVENT
BEGIN:VEVENT
DTSTART;TZID=UTC:20250716T114500
DTEND;TZID=UTC:20250716T121500
DTSTAMP:20260421T232606
CREATED:20250628T005721Z
LAST-MODIFIED:20250628T005721Z
UID:11326-1752666300-1752668100@elderbridge.org
SUMMARY:Fresh Conversation on Wednesday\, July 16 at 11:45\, in Fort Dodge at the Deercreek Apartments
DESCRIPTION:
URL:https://elderbridge.org/events/fresh-conversation-on-wednesday-july-16-at-1145-in-fort-dodge-at-the-deercreek-apartments/
END:VEVENT
BEGIN:VEVENT
DTSTART;TZID=UTC:20250716T120000
DTEND;TZID=UTC:20250716T123000
DTSTAMP:20260421T232606
CREATED:20250701T185322Z
LAST-MODIFIED:20250701T185542Z
UID:11337-1752667200-1752669000@elderbridge.org
SUMMARY:Fresh Conversations at the Webster City Senior Center on Wednesday\, July 16 at 12:00 PM
DESCRIPTION:
URL:https://elderbridge.org/events/11337/
END:VEVENT
BEGIN:VEVENT
DTSTART;TZID=UTC:20250716T150000
DTEND;TZID=UTC:20250716T160000
DTSTAMP:20260421T232606
CREATED:20230204T005903Z
LAST-MODIFIED:20230204T005903Z
UID:8702-1752678000-1752681600@elderbridge.org
SUMMARY:Webster County Caregiver Support Group 3rd Wednesday of Every Month
DESCRIPTION:
URL:https://elderbridge.org/events/webster-county-caregiver-support-group-3rd-wednesday-of-every-month/2025-07-16/
END:VEVENT
BEGIN:VEVENT
DTSTART;TZID=UTC:20250717T100000
DTEND;TZID=UTC:20250717T110000
DTSTAMP:20260421T232606
CREATED:20230203T011921Z
LAST-MODIFIED:20231130T172144Z
UID:8705-1752746400-1752750000@elderbridge.org
SUMMARY:Virtual Caregiver Support Group 3rd Thursday of Every Month
DESCRIPTION:
URL:https://elderbridge.org/events/virtual-caregiver-support-group-3rd-thursday-of-every-month/2025-07-17/
END:VEVENT
BEGIN:VEVENT
DTSTART;TZID=UTC:20250813T103000
DTEND;TZID=UTC:20250813T233000
DTSTAMP:20260421T232606
CREATED:20250219T232630Z
LAST-MODIFIED:20250220T005239Z
UID:10927-1755081000-1755127800@elderbridge.org
SUMMARY:Virtual Caregiver Support Group on the 2nd Wednesday of each Month from 10:30 to 11:30 AM - ZOOM Invites Sent Via Email
DESCRIPTION:
URL:https://elderbridge.org/events/virtual-caregiver-support-group-o-the-2nd-wednesday-of-each-month-from-1030-to-1130-am-zoom-invites-sent-via-email/2025-08-13/
END:VEVENT
BEGIN:VEVENT
DTSTART;TZID=UTC:20250820T150000
DTEND;TZID=UTC:20250820T160000
DTSTAMP:20260421T232606
CREATED:20230204T005903Z
LAST-MODIFIED:20230204T005903Z
UID:8772-1755702000-1755705600@elderbridge.org
SUMMARY:Webster County Caregiver Support Group 3rd Wednesday of Every Month
DESCRIPTION:
URL:https://elderbridge.org/events/webster-county-caregiver-support-group-3rd-wednesday-of-every-month/2025-08-20/
END:VEVENT
BEGIN:VEVENT
DTSTART;TZID=UTC:20250821T100000
DTEND;TZID=UTC:20250821T110000
DTSTAMP:20260421T232606
CREATED:20230203T011921Z
LAST-MODIFIED:20231130T172144Z
UID:8774-1755770400-1755774000@elderbridge.org
SUMMARY:Virtual Caregiver Support Group 3rd Thursday of Every Month
DESCRIPTION:
URL:https://elderbridge.org/events/virtual-caregiver-support-group-3rd-thursday-of-every-month/2025-08-21/
END:VEVENT
BEGIN:VEVENT
DTSTART;TZID=UTC:20250910T103000
DTEND;TZID=UTC:20250910T233000
DTSTAMP:20260421T232606
CREATED:20250219T232630Z
LAST-MODIFIED:20250220T005240Z
UID:10928-1757500200-1757547000@elderbridge.org
SUMMARY:Virtual Caregiver Support Group on the 2nd Wednesday of each Month from 10:30 to 11:30 AM - ZOOM Invites Sent Via Email
DESCRIPTION:
URL:https://elderbridge.org/events/virtual-caregiver-support-group-o-the-2nd-wednesday-of-each-month-from-1030-to-1130-am-zoom-invites-sent-via-email/2025-09-10/
END:VEVENT
BEGIN:VEVENT
DTSTART;TZID=UTC:20250917T150000
DTEND;TZID=UTC:20250917T160000
DTSTAMP:20260421T232606
CREATED:20230204T005903Z
LAST-MODIFIED:20230204T005903Z
UID:8877-1758121200-1758124800@elderbridge.org
SUMMARY:Webster County Caregiver Support Group 3rd Wednesday of Every Month
DESCRIPTION:
URL:https://elderbridge.org/events/webster-county-caregiver-support-group-3rd-wednesday-of-every-month/2025-09-17/
END:VEVENT
BEGIN:VEVENT
DTSTART;TZID=UTC:20250918T100000
DTEND;TZID=UTC:20250918T110000
DTSTAMP:20260421T232606
CREATED:20230203T011921Z
LAST-MODIFIED:20231130T172146Z
UID:8878-1758189600-1758193200@elderbridge.org
SUMMARY:Virtual Caregiver Support Group 3rd Thursday of Every Month
DESCRIPTION:
URL:https://elderbridge.org/events/virtual-caregiver-support-group-3rd-thursday-of-every-month/2025-09-18/
END:VEVENT
BEGIN:VEVENT
DTSTART;TZID=UTC:20251008T103000
DTEND;TZID=UTC:20251008T233000
DTSTAMP:20260421T232606
CREATED:20250219T232630Z
LAST-MODIFIED:20250220T005240Z
UID:10929-1759919400-1759966200@elderbridge.org
SUMMARY:Virtual Caregiver Support Group on the 2nd Wednesday of each Month from 10:30 to 11:30 AM - ZOOM Invites Sent Via Email
DESCRIPTION:
URL:https://elderbridge.org/events/virtual-caregiver-support-group-o-the-2nd-wednesday-of-each-month-from-1030-to-1130-am-zoom-invites-sent-via-email/2025-10-08/
END:VEVENT
BEGIN:VEVENT
DTSTART;TZID=UTC:20251008T110000
DTEND;TZID=UTC:20251008T113000
DTSTAMP:20260421T232606
CREATED:20251006T223952Z
LAST-MODIFIED:20251006T223952Z
UID:11537-1759921200-1759923000@elderbridge.org
SUMMARY:Fresh Conversations on Wednesday\, October 8\, at 11 AM at Charles City Senior Center
DESCRIPTION:
URL:https://elderbridge.org/events/fresh-conversations-on-wednesday-october-8-at-11-am-at-charles-city-senior-center/
END:VEVENT
BEGIN:VEVENT
DTSTART;TZID=UTC:20251014T123000
DTEND;TZID=UTC:20251014T130000
DTSTAMP:20260421T232606
CREATED:20251006T223620Z
LAST-MODIFIED:20251006T223636Z
UID:11534-1760445000-1760446800@elderbridge.org
SUMMARY:Fresh Conversations on Tuesday\, October 14\, at 12:30 PM at the Manly Senior Activity Center
DESCRIPTION:
URL:https://elderbridge.org/events/fresh-conversations-on-tuesday-october-14-at-1230-pm-at-the-manly-senior-activity-center/
END:VEVENT
BEGIN:VEVENT
DTSTART;TZID=UTC:20251015T114500
DTEND;TZID=UTC:20251015T121500
DTSTAMP:20260421T232606
CREATED:20251006T225250Z
LAST-MODIFIED:20251006T225250Z
UID:11543-1760528700-1760530500@elderbridge.org
SUMMARY:Fresh Conversations on Wednesday\, October 15\, at 11:45 PM at Deercreek Apartments
DESCRIPTION:
URL:https://elderbridge.org/events/fresh-conversations-on-wednesday-october-15-at-1145-pm-at-deercreek-apartments/
END:VEVENT
END:VCALENDAR