BEGIN:VCALENDAR
VERSION:2.0
PRODID:-//Elderbridge Agency On Aging - ECPv6.15.20//NONSGML v1.0//EN
CALSCALE:GREGORIAN
METHOD:PUBLISH
X-WR-CALNAME:Elderbridge Agency On Aging
X-ORIGINAL-URL:https://elderbridge.org
X-WR-CALDESC:Events for Elderbridge Agency On Aging
REFRESH-INTERVAL;VALUE=DURATION:PT1H
X-Robots-Tag:noindex
X-PUBLISHED-TTL:PT1H
BEGIN:VTIMEZONE
TZID:UTC
BEGIN:STANDARD
TZOFFSETFROM:+0000
TZOFFSETTO:+0000
TZNAME:UTC
DTSTART:20200101T000000
END:STANDARD
END:VTIMEZONE
BEGIN:VEVENT
DTSTART;TZID=UTC:20211019T100000
DTEND;TZID=UTC:20211019T233000
DTSTAMP:20260423T170116
CREATED:20210925T011200Z
LAST-MODIFIED:20220223T054823Z
UID:2775-1634637600-1634686200@elderbridge.org
SUMMARY:Dementia Friends Iowa 10am – 11:30am
DESCRIPTION:
URL:https://elderbridge.org/events/dementia-friends-iowa-10am-1130am/
ATTACH;FMTTYPE=image/jpeg:https://elderbridge.org/wp-content/uploads/2021/09/thumbnail_DF-Flyer-with-Session-Info-PNG.jpg
END:VEVENT
BEGIN:VEVENT
DTSTART;TZID=UTC:20211019T100000
DTEND;TZID=UTC:20211019T110000
DTSTAMP:20260423T170116
CREATED:20211014T011457Z
LAST-MODIFIED:20220223T054915Z
UID:2858-1634637600-1634641200@elderbridge.org
SUMMARY:Dementia Friends Iowa October 19th at 10AM Wright County ISU Extension Office
DESCRIPTION:
URL:https://elderbridge.org/events/dementia-friends-iowa-october-19th-at-10am-wright-county-isu-extension-office/
LOCATION:Wright County ISU Extention Office\, 2302 Madison Ave Ste. B\, Clarion\, IA\, 50525\, United States
ORGANIZER;CN="Emily Winker":MAILTO:ewinker@elderbridge.org
END:VEVENT
BEGIN:VEVENT
DTSTART;TZID=UTC:20210928T170000
DTEND;TZID=UTC:20210928T200000
DTSTAMP:20260423T170116
CREATED:20210925T010710Z
LAST-MODIFIED:20220223T054946Z
UID:2772-1632848400-1632859200@elderbridge.org
SUMMARY:Ready? Set\, Retire! Zoom Presentation 5:00pm – 8:00pm
DESCRIPTION:
URL:https://elderbridge.org/events/ready-set-retire-zoom-presentation-500pm-800pm/
ATTACH;FMTTYPE=image/png:https://elderbridge.org/wp-content/uploads/2021/09/RSR-9-28-21-flyer.png
END:VEVENT
BEGIN:VEVENT
DTSTART;TZID=UTC:20210908T100000
DTEND;TZID=UTC:20210908T120000
DTSTAMP:20260423T170116
CREATED:20210904T081345Z
LAST-MODIFIED:20220223T055811Z
UID:2544-1631095200-1631102400@elderbridge.org
SUMMARY:Senior Fun Day
DESCRIPTION:
URL:https://elderbridge.org/events/senior-fun-day/
LOCATION:Swan lake State Park – Educational Center Parking Lot\, United States
ATTACH;FMTTYPE=image/jpeg:https://elderbridge.org/wp-content/uploads/2021/09/SFD-Poster-2021-scaled.jpg
END:VEVENT
BEGIN:VEVENT
DTSTART;TZID=UTC:20210820T130000
DTEND;TZID=UTC:20210820T150000
DTSTAMP:20260423T170116
CREATED:20210809T211645Z
LAST-MODIFIED:20220223T055834Z
UID:2447-1629464400-1629471600@elderbridge.org
SUMMARY:MEDICARE ON SITE OPTIONS COUNSELING AUGUST 20 & 27 AT HEARTLAND SENIOR HOUSING FROM 1PM - 3PM
DESCRIPTION:
URL:https://elderbridge.org/events/medicare-on-site-options-counseling-august-20-27-at-heartland-senior-housing-from-1pm-3pm/2021-08-20/
LOCATION:Heartland Senior Housing\, 610 Central Avenue\, Fort Dodge\, IA\, 50501\, United States
ORGANIZER;CN="Amanda Billingsley":MAILTO:abillingsley@elderbridge.org
END:VEVENT
BEGIN:VEVENT
DTSTART;TZID=UTC:20210722T000000
DTEND;TZID=UTC:20210722T000000
DTSTAMP:20260423T170116
CREATED:20210625T084409Z
LAST-MODIFIED:20220223T060056Z
UID:2345-1626912000-1626912000@elderbridge.org
SUMMARY:Fresh Conversations con call with Sandi Iwen #8505 conference room July 22\, 2021  Call Sandi Iwen for more information at 800-243-0678.
DESCRIPTION:
URL:https://elderbridge.org/events/fresh-conversations-con-call-with-sandi-iwen-8505-conference-room-july-22-2021-call-sandi-iwen-for-more-information-at-800-243-0678/
END:VEVENT
BEGIN:VEVENT
DTSTART;TZID=UTC:20210721T000000
DTEND;TZID=UTC:20210721T000000
DTSTAMP:20260423T170116
CREATED:20210625T081356Z
LAST-MODIFIED:20220223T060128Z
UID:2343-1626825600-1626825600@elderbridge.org
SUMMARY:Fresh Conversations Zoom Meeting July 21st\, 2021 Call Sharla for more information at 800-243-0678
DESCRIPTION:
URL:https://elderbridge.org/events/fresh-conversations-zoom-meeting-july-21st-2021-call-sharla-for-more-information-at-800-243-0678/
END:VEVENT
BEGIN:VEVENT
DTSTART;TZID=UTC:20210706T150000
DTEND;TZID=UTC:20210706T160000
DTSTAMP:20260423T170116
CREATED:20210625T080942Z
LAST-MODIFIED:20220223T060204Z
UID:2340-1625583600-1625587200@elderbridge.org
SUMMARY:Coon Rapids Caregiver Support Group July 6\, 2021 3:00-4:00PM Call Elderbridge Agency on Aging at 800-243-0678 for more information.
DESCRIPTION:
URL:https://elderbridge.org/events/coon-rapids-caregiver-support-group-july-6-2021-300-400pm-call-elderbridge-agency-on-aging-at-800-243-0678-for-more-information/
END:VEVENT
BEGIN:VEVENT
DTSTART;TZID=UTC:20210624T150000
DTEND;TZID=UTC:20210624T160000
DTSTAMP:20260423T170116
CREATED:20210602T212241Z
LAST-MODIFIED:20220223T060247Z
UID:2295-1624546800-1624550400@elderbridge.org
SUMMARY:Caregiver Support Group on the 4th Thursday of the Month at 3:00 pm – 4:00 PM Hosted by Elderbridge Agency
DESCRIPTION:
URL:https://elderbridge.org/events/caregiver-support-group-on-the-4th-thursday-of-the-month-at-300-pm-400-pm-hosted-by-elderbridge-agency/
END:VEVENT
BEGIN:VEVENT
DTSTART;TZID=UTC:20210621T100000
DTEND;TZID=UTC:20210621T110000
DTSTAMP:20260423T170116
CREATED:20210602T211501Z
LAST-MODIFIED:20210602T211507Z
UID:2291-1624269600-1624273200@elderbridge.org
SUMMARY:
DESCRIPTION:ZOOM Link for Fresh Conversations June 21 at 10AM \n 
URL:https://elderbridge.org/events/2291/
ORGANIZER;CN="Sharla Kuyper":MAILTO:skuyper@elderbridge.org
END:VEVENT
BEGIN:VEVENT
DTSTART;TZID=UTC:20210616T133000
DTEND;TZID=UTC:20210616T143000
DTSTAMP:20260423T170116
CREATED:20210602T210937Z
LAST-MODIFIED:20220223T060334Z
UID:2288-1623850200-1623853800@elderbridge.org
SUMMARY:Fresh Conversations ZOOM Meeting June 16\, 2021  1:30PM - 2:30PM
DESCRIPTION:ZOOM Link for the June 16\, 2021 Fresh Conversations Meeting \nhttps://us02web.zoom.us/j/87538850323?pwd=SFJQOW85WjFZUDdSalRMd3VGanRBdz09 \n 
URL:https://elderbridge.org/events/fresh-conversations-zoom-meeting-june-16-2021-10am-11am/
ORGANIZER;CN="Sharla Kuyper":MAILTO:skuyper@elderbridge.org
END:VEVENT
BEGIN:VEVENT
DTSTART;VALUE=DATE:20210615
DTEND;VALUE=DATE:20210616
DTSTAMP:20260423T170116
CREATED:20210602T204500Z
LAST-MODIFIED:20220223T060438Z
UID:2276-1623715200-1623801599@elderbridge.org
SUMMARY:World Elder Abuse Awareness Day is June 15th
DESCRIPTION:World Elder Abuse Awareness Day is June 15th\nWorld Elder Abuse Awareness Day (WEAAD) was launched on June 15\, 2006\, by the International Network for the Prevention of Elder Abuse and the World Health Organization at the United Nations. \nThe purpose of WEAAD is to provide an opportunity for communities around the world to promote a better understanding of the abuse and neglect of older persons by raising awareness of the cultural\, social\, economic\, and demographic processes affecting elder abuse and neglect. \nIn addition\, WEAAD is in support of the United Nations International Plan of Action acknowledging the significance of elder abuse as a public health and human rights issue. WEAAD serves as a call-to-action for individuals\, organizations\, and communities to raise awareness about elder abuse\, neglect\, and exploitation. \n 
URL:https://elderbridge.org/events/2276/
END:VEVENT
END:VCALENDAR