BEGIN:VCALENDAR
VERSION:2.0
PRODID:-//Elderbridge Agency On Aging - ECPv6.15.20//NONSGML v1.0//EN
CALSCALE:GREGORIAN
METHOD:PUBLISH
X-WR-CALNAME:Elderbridge Agency On Aging
X-ORIGINAL-URL:https://elderbridge.org
X-WR-CALDESC:Events for Elderbridge Agency On Aging
REFRESH-INTERVAL;VALUE=DURATION:PT1H
X-Robots-Tag:noindex
X-PUBLISHED-TTL:PT1H
BEGIN:VTIMEZONE
TZID:UTC
BEGIN:STANDARD
TZOFFSETFROM:+0000
TZOFFSETTO:+0000
TZNAME:UTC
DTSTART:20220101T000000
END:STANDARD
END:VTIMEZONE
BEGIN:VEVENT
DTSTART;TZID=UTC:20230420T090000
DTEND;TZID=UTC:20230420T153000
DTSTAMP:20260422T222052
CREATED:20230308T190254Z
LAST-MODIFIED:20230329T145742Z
UID:8305-1681981200-1682004600@elderbridge.org
SUMMARY:Caregiver Conference at Clay County Regional Events Center on April 20th\, 2023 for Family Caregivers\, Professional Caregivers\, and Community Partners
DESCRIPTION:Family Caregivers are free to attend! \nFamily caregivers are spouses\, relatives\, friends\, or neighbors who provide assistance related to an individual with an underlying physical or mental disability for at-home care and assist in the activities of daily living (ADLs) that are unpaid. \nA recent study says that 26.5% of all American adults today are family caregivers. \n9:00 am -9:30 am – Registration\, Vendors\, light breakfast \n9:30 am -10:00 am – Introduction\, and Elderbridge Services \n10:00 am-12:00 pm – Ethan Huizenga \n“Substitute Decision Making in Iowa” \nDuring this workshop\, attendees will be educated on appointing substitute decision makers\, including guardians\, conservators\, and powers of attorney\, and the differences between each. \n12:00 pm-1:00 pm – Lunch \n1:00 pm-3:00 pm – Dr. James Coyle \n“Caring for the Caregiver” \nDuring this workshop\, we will define what Compassion Fatigue is\, identify the signs and symptoms of Compassion Fatigue\, and offer applicable ways to treat and manage Compassion Fatigue. \n  \nIf you are seeking CEUs for this event\, please contact Iowa Lake Community College with any questions or concerns: \nChantel Teeter – cteeter@iowalakes.edu \n  \nTo register for the event contact Emily Winker: \nPhone: 800-243-0678 \nEmail: ewinker@elderbridge.org \n  \nThe cost of attendance for Professional Caregivers and Community Partners is $25 per person (lunch included) Qualifications for CEUs require attendance for all sessions. \nCost of CEUs: Nursing and Social Workers: $12 / EMS: $30 Total CEUs available: 4 \nCommunity partners of Elderbridge are welcome to attend and have a table of information at the event. Please notify Elderbridge to reserve a table for your agency. \n  \n 
URL:https://elderbridge.org/events/caregiver-conference/
LOCATION:Clay County Regional Events Center\, 800 W. 18th Street\, Spencer\, IA\, 51333\, United States
ORGANIZER;CN="Emily Winker":MAILTO:ewinker@elderbridge.org
END:VEVENT
BEGIN:VEVENT
DTSTART;TZID=UTC:20230419T113000
DTEND;TZID=UTC:20230419T120000
DTSTAMP:20260422T222052
CREATED:20230405T004914Z
LAST-MODIFIED:20230405T004923Z
UID:8369-1681903800-1681905600@elderbridge.org
SUMMARY:Fresh Conversations in Rockford on April 19 at 11:30 AM
DESCRIPTION:
URL:https://elderbridge.org/events/fresh-conversations-in-rockford-on-april-19-at-1130-am-2/
END:VEVENT
BEGIN:VEVENT
DTSTART;TZID=UTC:20230419T113000
DTEND;TZID=UTC:20230419T114500
DTSTAMP:20260422T222052
CREATED:20230405T004638Z
LAST-MODIFIED:20230405T004647Z
UID:8366-1681903800-1681904700@elderbridge.org
SUMMARY:Fresh Conversations in Rockford on April 19 at 11:30 AM
DESCRIPTION:
URL:https://elderbridge.org/events/fresh-conversations-in-rockford-on-april-19-at-1130-am/
END:VEVENT
BEGIN:VEVENT
DTSTART;TZID=UTC:20230418T111500
DTEND;TZID=UTC:20230418T120000
DTSTAMP:20260422T222052
CREATED:20230405T003845Z
LAST-MODIFIED:20230405T003845Z
UID:8357-1681816500-1681819200@elderbridge.org
SUMMARY:Fresh Conversations at the Blue Heron of Mason City on April 18 at 11:15 AM
DESCRIPTION:
URL:https://elderbridge.org/events/fresh-conversations-at-the-blue-heron-of-mason-city-on-april-18-at-1115-am/
END:VEVENT
BEGIN:VEVENT
DTSTART;TZID=UTC:20230412T110000
DTEND;TZID=UTC:20230412T114500
DTSTAMP:20260422T222052
CREATED:20230405T004132Z
LAST-MODIFIED:20230405T004158Z
UID:8360-1681297200-1681299900@elderbridge.org
SUMMARY:Fresh Conversations at Charles City on April 12 at 11:00 AM
DESCRIPTION:
URL:https://elderbridge.org/events/fresh-conversations-at-charles-city-on-april-12-at-1100-am/
END:VEVENT
BEGIN:VEVENT
DTSTART;TZID=UTC:20230405T080000
DTEND;TZID=UTC:20230405T170000
DTSTAMP:20260422T222052
CREATED:20230405T004426Z
LAST-MODIFIED:20230405T004426Z
UID:8363-1680681600-1680714000@elderbridge.org
SUMMARY:Fresh Conversations at Deercreek Apartments in Fort Dodge on April 19 at 11:45 AM till 12:15 PM
DESCRIPTION:
URL:https://elderbridge.org/events/fresh-conversations-at-deercreek-apartments-in-fort-dodge-on-april-19-at-1145-am-till-1215-pm/
END:VEVENT
BEGIN:VEVENT
DTSTART;TZID=UTC:20230321T111500
DTEND;TZID=UTC:20230321T114500
DTSTAMP:20260422T222052
CREATED:20230301T021741Z
LAST-MODIFIED:20230310T183007Z
UID:8271-1679397300-1679399100@elderbridge.org
SUMMARY:Fresh Conversations at Northwood
DESCRIPTION:
URL:https://elderbridge.org/events/https-elderbridge-org-wp-content-uploads-2023-03-northwood-mar-23-fc-flyer-1-scaled-jpg/
LOCATION:Northwood Sr. Citizens Center\, 720 Central Ave.
ATTACH;FMTTYPE=image/jpeg:https://elderbridge.org/wp-content/uploads/2023/03/Northwood-Mar-23-FC-flyer-scaled.jpg
END:VEVENT
BEGIN:VEVENT
DTSTART;TZID=UTC:20230321T111500
DTEND;TZID=UTC:20230321T111500
DTSTAMP:20260422T222052
CREATED:20230301T020735Z
LAST-MODIFIED:20230301T021138Z
UID:8260-1679397300-1679397300@elderbridge.org
SUMMARY:Fresh Conversations at Blue Heron
DESCRIPTION:
URL:https://elderbridge.org/events/fresh-conversations-at-blue-heron/
LOCATION:The Blue Heron\, 1401 N Federal\, Mason City
ATTACH;FMTTYPE=image/jpeg:https://elderbridge.org/wp-content/uploads/2023/03/Blue-Heron-FC-Mar-2023-scaled.jpg
END:VEVENT
BEGIN:VEVENT
DTSTART;TZID=UTC:20230317T000000
DTEND;TZID=UTC:20230317T000000
DTSTAMP:20260422T222052
CREATED:20230301T021901Z
LAST-MODIFIED:20230301T022229Z
UID:8274-1679011200-1679011200@elderbridge.org
SUMMARY:Fresh Conversations at Osage
DESCRIPTION:
URL:https://elderbridge.org/events/fresh-conversations-at-osage/
LOCATION:Osage Sr. Center\, 615 State St\, Osage
ATTACH;FMTTYPE=image/jpeg:https://elderbridge.org/wp-content/uploads/2023/03/Osage-FC-Mar-23-scaled.jpg
END:VEVENT
BEGIN:VEVENT
DTSTART;TZID=UTC:20230316T111000
DTEND;TZID=UTC:20230316T111000
DTSTAMP:20260422T222052
CREATED:20230301T022433Z
LAST-MODIFIED:20230301T022433Z
UID:8280-1678965000-1678965000@elderbridge.org
SUMMARY:Fresh Conversations at Rockwell City
DESCRIPTION:
URL:https://elderbridge.org/events/fresh-conversations-at-rockwell-city/
LOCATION:Rockwell City Senior Center\, 422 Main St\, Rockwell City
ATTACH;FMTTYPE=image/jpeg:https://elderbridge.org/wp-content/uploads/2023/03/Rockwell-City-Mar-23-FC-flyer-scaled.jpg
END:VEVENT
BEGIN:VEVENT
DTSTART;TZID=UTC:20230315T114500
DTEND;TZID=UTC:20230315T114500
DTSTAMP:20260422T222052
CREATED:20230301T021546Z
LAST-MODIFIED:20230301T021546Z
UID:8268-1678880700-1678880700@elderbridge.org
SUMMARY:Fresh Conversations at Deercreek
DESCRIPTION:
URL:https://elderbridge.org/events/fresh-conversations-at-deercreek/
LOCATION:Deercreek Apts\, 700 S. 17th St.\, Fort Dodge\, IA
ATTACH;FMTTYPE=image/jpeg:https://elderbridge.org/wp-content/uploads/2023/03/Deercreek-Mar-23-FC-flyer-scaled.jpg
END:VEVENT
BEGIN:VEVENT
DTSTART;TZID=UTC:20230315T113000
DTEND;TZID=UTC:20230315T113000
DTSTAMP:20260422T222052
CREATED:20230301T022109Z
LAST-MODIFIED:20230301T022109Z
UID:8277-1678879800-1678879800@elderbridge.org
SUMMARY:Fresh Conversations at Rockford
DESCRIPTION:
URL:https://elderbridge.org/events/fresh-conversations-at-rockford/
LOCATION:Rockford Community Center\, 206 W. Main Ave.\, Rockford
ATTACH;FMTTYPE=image/jpeg:https://elderbridge.org/wp-content/uploads/2023/03/Rockford-Mar-23-FC-flyer-scaled.jpg
END:VEVENT
BEGIN:VEVENT
DTSTART;TZID=UTC:20230315T111500
DTEND;TZID=UTC:20230315T121500
DTSTAMP:20260422T222052
CREATED:20230310T183224Z
LAST-MODIFIED:20230310T183538Z
UID:8315-1678878900-1678882500@elderbridge.org
SUMMARY:Fresh Conversations at Manly
DESCRIPTION:
URL:https://elderbridge.org/events/fresh-conversations-manly-2/
END:VEVENT
BEGIN:VEVENT
DTSTART;TZID=UTC:20230308T110000
DTEND;TZID=UTC:20230308T110000
DTSTAMP:20260422T222052
CREATED:20230301T021353Z
LAST-MODIFIED:20230301T021353Z
UID:8265-1678273200-1678273200@elderbridge.org
SUMMARY:Fresh Conversations at Charles City
DESCRIPTION:
URL:https://elderbridge.org/events/fresh-conversations-at-charles-city/
LOCATION:Charles City Senior Center\, 900 Hulin Ave.\, Charles City
ATTACH;FMTTYPE=image/jpeg:https://elderbridge.org/wp-content/uploads/2023/03/Charles-City-FC-Mar-23-scaled.jpg
END:VEVENT
BEGIN:VEVENT
DTSTART;TZID=UTC:20230221T111500
DTEND;TZID=UTC:20230221T111500
DTSTAMP:20260422T222052
CREATED:20230202T094528Z
LAST-MODIFIED:20230202T184443Z
UID:8153-1676978100-1676978100@elderbridge.org
SUMMARY:Fresh Conversations Mason City
DESCRIPTION:
URL:https://elderbridge.org/events/mason-city-2/
LOCATION:The Blue Heron\, 1401 N Federal\, Mason City
ATTACH;FMTTYPE=image/png:https://elderbridge.org/wp-content/uploads/2023/02/Mason-City-FC.png
END:VEVENT
BEGIN:VEVENT
DTSTART;TZID=UTC:20230216T100000
DTEND;TZID=UTC:20230216T110000
DTSTAMP:20260422T222052
CREATED:20230203T011921Z
LAST-MODIFIED:20240113T025918Z
UID:8166-1676541600-1676545200@elderbridge.org
SUMMARY:Virtual Caregiver Support Group 3rd Thursday of Every Month
DESCRIPTION:
URL:https://elderbridge.org/events/virtual-caregiver-support-group-3rd-thursday-of-every-month/
END:VEVENT
BEGIN:VEVENT
DTSTART;TZID=UTC:20230215T150000
DTEND;TZID=UTC:20230215T160000
DTSTAMP:20260422T222052
CREATED:20230204T005903Z
LAST-MODIFIED:20240113T030018Z
UID:8200-1676473200-1676476800@elderbridge.org
SUMMARY:Webster County Caregiver Support Group 3rd Wednesday of Every Month
DESCRIPTION:
URL:https://elderbridge.org/events/webster-county-caregiver-support-group-3rd-wednesday-of-every-month/
END:VEVENT
BEGIN:VEVENT
DTSTART;TZID=UTC:20230215T114500
DTEND;TZID=UTC:20230215T114500
DTSTAMP:20260422T222052
CREATED:20230202T092056Z
LAST-MODIFIED:20230202T184307Z
UID:8131-1676461500-1676461500@elderbridge.org
SUMMARY:Fresh Conversations Fort Dodge
DESCRIPTION:
URL:https://elderbridge.org/events/fort-dodge-fc/
LOCATION:Deercreek Apts\, 700 S. 17th St.\, Fort Dodge\, IA
ATTACH;FMTTYPE=image/png:https://elderbridge.org/wp-content/uploads/2023/02/Fort-Dodge-FC.png
END:VEVENT
BEGIN:VEVENT
DTSTART;TZID=UTC:20230215T113000
DTEND;TZID=UTC:20230215T113000
DTSTAMP:20260422T222052
CREATED:20230202T092335Z
LAST-MODIFIED:20230202T183133Z
UID:8132-1676460600-1676460600@elderbridge.org
SUMMARY:Fresh Conversations at Rockford
DESCRIPTION:
URL:https://elderbridge.org/events/rockford-fc/
LOCATION:Rockford Community Center\, 206 W. Main Ave.\, Rockford
ATTACH;FMTTYPE=image/png:https://elderbridge.org/wp-content/uploads/2023/02/Rockford-FC.png
END:VEVENT
BEGIN:VEVENT
DTSTART;TZID=UTC:20230215T111500
DTEND;TZID=UTC:20230215T111500
DTSTAMP:20260422T222052
CREATED:20230202T093120Z
LAST-MODIFIED:20230202T182940Z
UID:8135-1676459700-1676459700@elderbridge.org
SUMMARY:Fresh Conversations at Northwood
DESCRIPTION:
URL:https://elderbridge.org/events/northwood-fc/
LOCATION:Northwood Sr. Citizens Center\, 720 Central Ave.
ATTACH;FMTTYPE=image/png:https://elderbridge.org/wp-content/uploads/2023/02/Northwood-FC.png
END:VEVENT
BEGIN:VEVENT
DTSTART;TZID=UTC:20230214T111500
DTEND;TZID=UTC:20230214T111500
DTSTAMP:20260422T222052
CREATED:20230202T091316Z
LAST-MODIFIED:20230202T182838Z
UID:8130-1676373300-1676373300@elderbridge.org
SUMMARY:Fresh Conversations at Manly
DESCRIPTION:
URL:https://elderbridge.org/events/manly-fc/
LOCATION:Manly Senior Citizens Center at 137 E. Main St.\, Manly
ATTACH;FMTTYPE=image/png:https://elderbridge.org/wp-content/uploads/2023/02/Manly-FC.png
END:VEVENT
BEGIN:VEVENT
DTSTART;TZID=UTC:20230208T110000
DTEND;TZID=UTC:20230208T110000
DTSTAMP:20260422T222052
CREATED:20230202T093408Z
LAST-MODIFIED:20230202T182739Z
UID:8134-1675854000-1675854000@elderbridge.org
SUMMARY:Fresh Conversations at Charles City
DESCRIPTION:
URL:https://elderbridge.org/events/charles-city-fc/
LOCATION:Charles City Senior Center\, 900 Hulin Ave.\, Charles City
ATTACH;FMTTYPE=image/png:https://elderbridge.org/wp-content/uploads/2023/02/Charles-City-FC.png
END:VEVENT
BEGIN:VEVENT
DTSTART;TZID=UTC:20230119T153000
DTEND;TZID=UTC:20230119T163000
DTSTAMP:20260422T222052
CREATED:20211215T223736Z
LAST-MODIFIED:20220223T044118Z
UID:4444-1674142200-1674145800@elderbridge.org
SUMMARY:Webster County Caregiver Support Group at Fort Dodge Library on the 3rd Thursday of Each Month
DESCRIPTION:
URL:https://elderbridge.org/events/webster-county-caregiver-support-group-2023-01-19/
LOCATION:Fort Dodge Public Library\, 424 Central Avenue\, Fort Dodge\, 50501\, United States
ORGANIZER;CN="Amanda Billingsley":MAILTO:abillingsley@elderbridge.org
END:VEVENT
BEGIN:VEVENT
DTSTART;TZID=UTC:20230118T114500
DTEND;TZID=UTC:20230118T121500
DTSTAMP:20260422T222052
CREATED:20221231T014058Z
LAST-MODIFIED:20221231T015433Z
UID:8030-1674042300-1674044100@elderbridge.org
SUMMARY:Fresh Conversations Deercreek
DESCRIPTION:
URL:https://elderbridge.org/events/beating-the-silent-killer-4/
ATTACH;FMTTYPE=image/jpeg:https://elderbridge.org/wp-content/uploads/2022/12/Deercreek-Jan-23-FC-Flyer-scaled.jpg
END:VEVENT
BEGIN:VEVENT
DTSTART;TZID=UTC:20230118T113000
DTEND;TZID=UTC:20230118T120000
DTSTAMP:20260422T222052
CREATED:20221231T015051Z
LAST-MODIFIED:20221231T015051Z
UID:8039-1674041400-1674043200@elderbridge.org
SUMMARY:Fresh Conversations Rockford
DESCRIPTION:
URL:https://elderbridge.org/events/fresh-conversations-rockford/
ATTACH;FMTTYPE=image/jpeg:https://elderbridge.org/wp-content/uploads/2022/12/Rockford-Jan-23-FC-Flyer-scaled.jpg
END:VEVENT
BEGIN:VEVENT
DTSTART;TZID=UTC:20230118T111500
DTEND;TZID=UTC:20230118T234500
DTSTAMP:20260422T222052
CREATED:20221231T014300Z
LAST-MODIFIED:20221231T015622Z
UID:8033-1674040500-1674085500@elderbridge.org
SUMMARY:Fresh Conversations Northwood
DESCRIPTION:
URL:https://elderbridge.org/events/beating-the-silent-killer-5/
ATTACH;FMTTYPE=image/jpeg:https://elderbridge.org/wp-content/uploads/2022/12/Northwood-Jan-23-FC-Flyer-scaled.jpg
END:VEVENT
BEGIN:VEVENT
DTSTART;TZID=UTC:20230117T111500
DTEND;TZID=UTC:20230117T234500
DTSTAMP:20260422T222052
CREATED:20221231T013419Z
LAST-MODIFIED:20221231T015949Z
UID:8024-1673954100-1673999100@elderbridge.org
SUMMARY:Fresh Conversations Blue Heron
DESCRIPTION:
URL:https://elderbridge.org/events/beating-the-silent-killer-2/
ATTACH;FMTTYPE=image/jpeg:https://elderbridge.org/wp-content/uploads/2022/12/Blue-Heron-FC-Jan-23-pdf-scaled.jpg
END:VEVENT
BEGIN:VEVENT
DTSTART;TZID=UTC:20230111T110000
DTEND;TZID=UTC:20230111T233000
DTSTAMP:20260422T222052
CREATED:20221231T013716Z
LAST-MODIFIED:20221231T015817Z
UID:8027-1673434800-1673479800@elderbridge.org
SUMMARY:Fresh Conversations Charles City
DESCRIPTION:
URL:https://elderbridge.org/events/beating-the-silent-killer-3/
ATTACH;FMTTYPE=image/jpeg:https://elderbridge.org/wp-content/uploads/2022/12/Charles-City-Jan-23-FC-Flyer-scaled.jpg
END:VEVENT
BEGIN:VEVENT
DTSTART;TZID=UTC:20230110T111500
DTEND;TZID=UTC:20230110T234500
DTSTAMP:20260422T222052
CREATED:20221231T012136Z
LAST-MODIFIED:20221231T020054Z
UID:8014-1673349300-1673394300@elderbridge.org
SUMMARY:Fresh Conversations Manly
DESCRIPTION:
URL:https://elderbridge.org/events/beating-the-silent-killer/
ATTACH;FMTTYPE=image/jpeg:https://elderbridge.org/wp-content/uploads/2022/12/Manly-Jan-23-FC-Flyer-jan-10-scaled.jpg
END:VEVENT
BEGIN:VEVENT
DTSTART;TZID=UTC:20230101T104500
DTEND;TZID=UTC:20230101T120000
DTSTAMP:20260422T222052
CREATED:20220105T041104Z
LAST-MODIFIED:20220223T044301Z
UID:4808-1672569900-1672574400@elderbridge.org
SUMMARY:Medicare Conversations 1st Tuesday of every month from 10:45am to 12:00am at Spencer Manor Community Room
DESCRIPTION:
URL:https://elderbridge.org/events/medicare-conversations-1st-tuesday-of-every-month-from-1045am-to-1200am-at-spencer-manor-community-room-2023-01-01/
LOCATION:Medicare Conversations\, 503 East 19th Street\, Spencer\, 51301\, United States
ORGANIZER;CN="Thomasina Hegg":MAILTO:thegg@elderbridge.org
END:VEVENT
END:VCALENDAR