BEGIN:VCALENDAR
VERSION:2.0
PRODID:-//Elderbridge Agency On Aging - ECPv6.15.20//NONSGML v1.0//EN
CALSCALE:GREGORIAN
METHOD:PUBLISH
X-WR-CALNAME:Elderbridge Agency On Aging
X-ORIGINAL-URL:https://elderbridge.org
X-WR-CALDESC:Events for Elderbridge Agency On Aging
REFRESH-INTERVAL;VALUE=DURATION:PT1H
X-Robots-Tag:noindex
X-PUBLISHED-TTL:PT1H
BEGIN:VTIMEZONE
TZID:UTC
BEGIN:STANDARD
TZOFFSETFROM:+0000
TZOFFSETTO:+0000
TZNAME:UTC
DTSTART:20240101T000000
END:STANDARD
END:VTIMEZONE
BEGIN:VEVENT
DTSTART;TZID=UTC:20250917T150000
DTEND;TZID=UTC:20250917T160000
DTSTAMP:20260422T225302
CREATED:20230204T005903Z
LAST-MODIFIED:20230204T005903Z
UID:8877-1758121200-1758124800@elderbridge.org
SUMMARY:Webster County Caregiver Support Group 3rd Wednesday of Every Month
DESCRIPTION:
URL:https://elderbridge.org/events/webster-county-caregiver-support-group-3rd-wednesday-of-every-month/2025-09-17/
END:VEVENT
BEGIN:VEVENT
DTSTART;TZID=UTC:20250918T100000
DTEND;TZID=UTC:20250918T110000
DTSTAMP:20260422T225302
CREATED:20230203T011921Z
LAST-MODIFIED:20231130T172146Z
UID:8878-1758189600-1758193200@elderbridge.org
SUMMARY:Virtual Caregiver Support Group 3rd Thursday of Every Month
DESCRIPTION:
URL:https://elderbridge.org/events/virtual-caregiver-support-group-3rd-thursday-of-every-month/2025-09-18/
END:VEVENT
BEGIN:VEVENT
DTSTART;TZID=UTC:20251008T103000
DTEND;TZID=UTC:20251008T233000
DTSTAMP:20260422T225302
CREATED:20250219T232630Z
LAST-MODIFIED:20250220T005240Z
UID:10929-1759919400-1759966200@elderbridge.org
SUMMARY:Virtual Caregiver Support Group on the 2nd Wednesday of each Month from 10:30 to 11:30 AM - ZOOM Invites Sent Via Email
DESCRIPTION:
URL:https://elderbridge.org/events/virtual-caregiver-support-group-o-the-2nd-wednesday-of-each-month-from-1030-to-1130-am-zoom-invites-sent-via-email/2025-10-08/
END:VEVENT
BEGIN:VEVENT
DTSTART;TZID=UTC:20251008T110000
DTEND;TZID=UTC:20251008T113000
DTSTAMP:20260422T225302
CREATED:20251006T223952Z
LAST-MODIFIED:20251006T223952Z
UID:11537-1759921200-1759923000@elderbridge.org
SUMMARY:Fresh Conversations on Wednesday\, October 8\, at 11 AM at Charles City Senior Center
DESCRIPTION:
URL:https://elderbridge.org/events/fresh-conversations-on-wednesday-october-8-at-11-am-at-charles-city-senior-center/
END:VEVENT
BEGIN:VEVENT
DTSTART;TZID=UTC:20251014T123000
DTEND;TZID=UTC:20251014T130000
DTSTAMP:20260422T225302
CREATED:20251006T223620Z
LAST-MODIFIED:20251006T223636Z
UID:11534-1760445000-1760446800@elderbridge.org
SUMMARY:Fresh Conversations on Tuesday\, October 14\, at 12:30 PM at the Manly Senior Activity Center
DESCRIPTION:
URL:https://elderbridge.org/events/fresh-conversations-on-tuesday-october-14-at-1230-pm-at-the-manly-senior-activity-center/
END:VEVENT
BEGIN:VEVENT
DTSTART;TZID=UTC:20251015T114500
DTEND;TZID=UTC:20251015T121500
DTSTAMP:20260422T225302
CREATED:20251006T225250Z
LAST-MODIFIED:20251006T225250Z
UID:11543-1760528700-1760530500@elderbridge.org
SUMMARY:Fresh Conversations on Wednesday\, October 15\, at 11:45 PM at Deercreek Apartments
DESCRIPTION:
URL:https://elderbridge.org/events/fresh-conversations-on-wednesday-october-15-at-1145-pm-at-deercreek-apartments/
END:VEVENT
BEGIN:VEVENT
DTSTART;TZID=UTC:20251015T150000
DTEND;TZID=UTC:20251015T160000
DTSTAMP:20260422T225302
CREATED:20230204T005903Z
LAST-MODIFIED:20230204T005903Z
UID:9050-1760540400-1760544000@elderbridge.org
SUMMARY:Webster County Caregiver Support Group 3rd Wednesday of Every Month
DESCRIPTION:
URL:https://elderbridge.org/events/webster-county-caregiver-support-group-3rd-wednesday-of-every-month/2025-10-15/
END:VEVENT
BEGIN:VEVENT
DTSTART;TZID=UTC:20251016T100000
DTEND;TZID=UTC:20251016T110000
DTSTAMP:20260422T225302
CREATED:20230203T011921Z
LAST-MODIFIED:20231130T172146Z
UID:9053-1760608800-1760612400@elderbridge.org
SUMMARY:Virtual Caregiver Support Group 3rd Thursday of Every Month
DESCRIPTION:
URL:https://elderbridge.org/events/virtual-caregiver-support-group-3rd-thursday-of-every-month/2025-10-16/
END:VEVENT
BEGIN:VEVENT
DTSTART;TZID=UTC:20251028T120000
DTEND;TZID=UTC:20251028T123000
DTSTAMP:20260422T225302
CREATED:20251009T185718Z
LAST-MODIFIED:20251009T185732Z
UID:11551-1761652800-1761654600@elderbridge.org
SUMMARY:Fresh Conversations on Tuesday\, October 28 at 12:00 PM at the Lakes Area Senior Center
DESCRIPTION:
URL:https://elderbridge.org/events/fresh-conversations-on-tuesday-october-28-at-1200-pm-at-the-lakes-area-senior-center/
END:VEVENT
BEGIN:VEVENT
DTSTART;TZID=UTC:20251106T090000
DTEND;TZID=UTC:20251106T153000
DTSTAMP:20260422T225302
CREATED:20250903T212204Z
LAST-MODIFIED:20250903T212229Z
UID:11485-1762419600-1762443000@elderbridge.org
SUMMARY:Elderbridge Agency on Aging Caregiver Conference November 6\, 2025
DESCRIPTION:
URL:https://elderbridge.org/events/elderbridge-agency-on-aging-caregiver-conference-november-6-2025/
LOCATION:East Shelter House -Swan Lake\, 23428 Swan Lake Road\, Carroll\, IA\, 51401\, United States
ORGANIZER;CN="Noa Sample-Bartels":MAILTO:nsample@elderbridge.org
END:VEVENT
BEGIN:VEVENT
DTSTART;TZID=UTC:20251112T103000
DTEND;TZID=UTC:20251112T233000
DTSTAMP:20260422T225302
CREATED:20250219T232630Z
LAST-MODIFIED:20250220T005240Z
UID:10930-1762943400-1762990200@elderbridge.org
SUMMARY:Virtual Caregiver Support Group on the 2nd Wednesday of each Month from 10:30 to 11:30 AM - ZOOM Invites Sent Via Email
DESCRIPTION:
URL:https://elderbridge.org/events/virtual-caregiver-support-group-o-the-2nd-wednesday-of-each-month-from-1030-to-1130-am-zoom-invites-sent-via-email/2025-11-12/
END:VEVENT
BEGIN:VEVENT
DTSTART;TZID=UTC:20251119T150000
DTEND;TZID=UTC:20251119T160000
DTSTAMP:20260422T225302
CREATED:20230204T005903Z
LAST-MODIFIED:20230204T005903Z
UID:9143-1763564400-1763568000@elderbridge.org
SUMMARY:Webster County Caregiver Support Group 3rd Wednesday of Every Month
DESCRIPTION:
URL:https://elderbridge.org/events/webster-county-caregiver-support-group-3rd-wednesday-of-every-month/2025-11-19/
END:VEVENT
BEGIN:VEVENT
DTSTART;TZID=UTC:20251120T100000
DTEND;TZID=UTC:20251120T110000
DTSTAMP:20260422T225302
CREATED:20230203T011921Z
LAST-MODIFIED:20231130T172147Z
UID:9144-1763632800-1763636400@elderbridge.org
SUMMARY:Virtual Caregiver Support Group 3rd Thursday of Every Month
DESCRIPTION:
URL:https://elderbridge.org/events/virtual-caregiver-support-group-3rd-thursday-of-every-month/2025-11-20/
END:VEVENT
BEGIN:VEVENT
DTSTART;TZID=UTC:20251209T123000
DTEND;TZID=UTC:20251209T130000
DTSTAMP:20260422T225302
CREATED:20251205T011458Z
LAST-MODIFIED:20251205T011511Z
UID:11686-1765283400-1765285200@elderbridge.org
SUMMARY:Fresh Conversatioins at the Manly Senior Center on December 9 at 12:30 PM
DESCRIPTION:
URL:https://elderbridge.org/events/fresh-conversatioins-at-the-manly-senior-center-on-december-9-at-1230-pm/
END:VEVENT
BEGIN:VEVENT
DTSTART;TZID=UTC:20251210T103000
DTEND;TZID=UTC:20251210T233000
DTSTAMP:20260422T225302
CREATED:20250219T232630Z
LAST-MODIFIED:20250220T005240Z
UID:10931-1765362600-1765409400@elderbridge.org
SUMMARY:Virtual Caregiver Support Group on the 2nd Wednesday of each Month from 10:30 to 11:30 AM - ZOOM Invites Sent Via Email
DESCRIPTION:
URL:https://elderbridge.org/events/virtual-caregiver-support-group-o-the-2nd-wednesday-of-each-month-from-1030-to-1130-am-zoom-invites-sent-via-email/2025-12-10/
END:VEVENT
BEGIN:VEVENT
DTSTART;TZID=UTC:20251210T110000
DTEND;TZID=UTC:20251210T113000
DTSTAMP:20260422T225302
CREATED:20251205T005728Z
LAST-MODIFIED:20251205T005745Z
UID:11679-1765364400-1765366200@elderbridge.org
SUMMARY:Fresh Conversations at the Charles City Senior Center on December 10 at 11:00 AM
DESCRIPTION:
URL:https://elderbridge.org/events/fresh-conversations-at-the-charles-city-senior-center-on-december-10-at-1100-am/
END:VEVENT
BEGIN:VEVENT
DTSTART;TZID=UTC:20251216T121500
DTEND;TZID=UTC:20251216T124500
DTSTAMP:20260422T225302
CREATED:20251205T011817Z
LAST-MODIFIED:20251205T011817Z
UID:11689-1765887300-1765889100@elderbridge.org
SUMMARY:Fresh Conversations will be at the Northwood Senior Center on December 16 at 12:15 PM
DESCRIPTION:
URL:https://elderbridge.org/events/fresh-conversations-will-be-at-the-northwood-senior-center-on-december-16-at-1215-pm/
END:VEVENT
BEGIN:VEVENT
DTSTART;TZID=UTC:20251217T114500
DTEND;TZID=UTC:20251217T121500
DTSTAMP:20260422T225302
CREATED:20251205T010932Z
LAST-MODIFIED:20251205T011036Z
UID:11682-1765971900-1765973700@elderbridge.org
SUMMARY:Fresh Conversations in Fort Dodge at Deercreek Apartments on December 17 at 11:45 AM
DESCRIPTION:
URL:https://elderbridge.org/events/fresh-conversations-in-fort-dodge-at-deercreek-apartmentson-december-17-at-1145-am/
END:VEVENT
BEGIN:VEVENT
DTSTART;TZID=UTC:20251217T150000
DTEND;TZID=UTC:20251217T160000
DTSTAMP:20260422T225302
CREATED:20230204T005903Z
LAST-MODIFIED:20230204T005903Z
UID:9396-1765983600-1765987200@elderbridge.org
SUMMARY:Webster County Caregiver Support Group 3rd Wednesday of Every Month
DESCRIPTION:
URL:https://elderbridge.org/events/webster-county-caregiver-support-group-3rd-wednesday-of-every-month/2025-12-17/
END:VEVENT
BEGIN:VEVENT
DTSTART;TZID=UTC:20260114T110000
DTEND;TZID=UTC:20260114T113000
DTSTAMP:20260422T225302
CREATED:20251224T031956Z
LAST-MODIFIED:20251224T032151Z
UID:11700-1768388400-1768390200@elderbridge.org
SUMMARY:Fresh Conversations in Charles City on January 14 at 11:00 AM
DESCRIPTION:
URL:https://elderbridge.org/events/fresh-conversations-in-charles-city-on-january-14-at-1100-am/
END:VEVENT
BEGIN:VEVENT
DTSTART;TZID=UTC:20260120T121500
DTEND;TZID=UTC:20260120T124500
DTSTAMP:20260422T225302
CREATED:20251224T034137Z
LAST-MODIFIED:20251224T034152Z
UID:11713-1768911300-1768913100@elderbridge.org
SUMMARY:Fresh Conversations in Northwood on January 20th at 12:15 PM to 12:45 PM
DESCRIPTION:
URL:https://elderbridge.org/events/fresh-conversations-in-northwood-on-january-20th-at-1215-pm-to-1245-pm/
END:VEVENT
BEGIN:VEVENT
DTSTART;TZID=UTC:20260120T123000
DTEND;TZID=UTC:20260120T130000
DTSTAMP:20260422T225302
CREATED:20251224T033706Z
LAST-MODIFIED:20251224T033726Z
UID:11708-1768912200-1768914000@elderbridge.org
SUMMARY:Fresh Conversations at Manly Senior Center on Janaury 20 at 12:30 PM
DESCRIPTION:
URL:https://elderbridge.org/events/fresh-conversations-at-manly-senior-center-on-janaury-20-at-1230-pm/
END:VEVENT
BEGIN:VEVENT
DTSTART;TZID=UTC:20260121T114500
DTEND;TZID=UTC:20260121T121500
DTSTAMP:20260422T225302
CREATED:20251224T033249Z
LAST-MODIFIED:20251224T033249Z
UID:11705-1768995900-1768997700@elderbridge.org
SUMMARY:Fresh Conversations at Deercreek Apartments  in Fort Dodge January 21at 11:45 AM
DESCRIPTION:
URL:https://elderbridge.org/events/fresh-conversations-at-deercreek-apartments-in-fort-dodge-january-21at-1145-am/
END:VEVENT
BEGIN:VEVENT
DTSTART;TZID=UTC:20260211T110000
DTEND;TZID=UTC:20260211T113000
DTSTAMP:20260422T225302
CREATED:20260127T020830Z
LAST-MODIFIED:20260127T020900Z
UID:11758-1770807600-1770809400@elderbridge.org
SUMMARY:Fresh Conversations in Charles City on February 11\, 2026\, at 11:00 AM
DESCRIPTION:
URL:https://elderbridge.org/events/fresh-conversations-in-charles-city-on-february-11-2026-at-1100-am/
END:VEVENT
BEGIN:VEVENT
DTSTART;TZID=UTC:20260211T123000
DTEND;TZID=UTC:20260211T130000
DTSTAMP:20260422T225302
CREATED:20260127T022022Z
LAST-MODIFIED:20260127T022022Z
UID:11770-1770813000-1770814800@elderbridge.org
SUMMARY:Fresh Conversations in Manly on February 11\, 2026\, at 12:30 PM
DESCRIPTION:
URL:https://elderbridge.org/events/fresh-conversations-in-manly-on-february-11-2026-at-1230-pm/
END:VEVENT
BEGIN:VEVENT
DTSTART;TZID=UTC:20260217T121500
DTEND;TZID=UTC:20260217T124500
DTSTAMP:20260422T225302
CREATED:20260127T021640Z
LAST-MODIFIED:20260127T021640Z
UID:11767-1771330500-1771332300@elderbridge.org
SUMMARY:Fresh Conversations in Northwood on February 17\, 2026\, at 12:15 PM
DESCRIPTION:
URL:https://elderbridge.org/events/fresh-conversations-in-northwood-on-february-17-2026-at-1215-pm/
END:VEVENT
BEGIN:VEVENT
DTSTART;TZID=UTC:20260218T114500
DTEND;TZID=UTC:20260218T121500
DTSTAMP:20260422T225302
CREATED:20260127T021210Z
LAST-MODIFIED:20260127T021210Z
UID:11761-1771415100-1771416900@elderbridge.org
SUMMARY:Fresh Conversations in Fort Dodge on February 18\, 2026 at 11:45 AM
DESCRIPTION:
URL:https://elderbridge.org/events/fresh-conversations-in-fort-dodge-on-february-18-2026-at-1145-am/
END:VEVENT
BEGIN:VEVENT
DTSTART;TZID=UTC:20260310T123000
DTEND;TZID=UTC:20260310T130000
DTSTAMP:20260422T225302
CREATED:20260303T153528Z
LAST-MODIFIED:20260303T183013Z
UID:11919-1773145800-1773147600@elderbridge.org
SUMMARY:Fresh Conversations in Manly on March 10 at 12:30 PM
DESCRIPTION:
URL:https://elderbridge.org/events/fresh-conversations-in-manly-on-march-10-at-1230-pm/
END:VEVENT
BEGIN:VEVENT
DTSTART;TZID=UTC:20260311T110000
DTEND;TZID=UTC:20260311T113000
DTSTAMP:20260422T225302
CREATED:20260303T152910Z
LAST-MODIFIED:20260303T152938Z
UID:11913-1773226800-1773228600@elderbridge.org
SUMMARY:Fresh Conversations in Charles City on March 11 at 11:00 AM
DESCRIPTION:
URL:https://elderbridge.org/events/fresh-conversations-in-charles-city-on-march-11-at-1100-am/
END:VEVENT
BEGIN:VEVENT
DTSTART;TZID=UTC:20260317T103000
DTEND;TZID=UTC:20260317T113000
DTSTAMP:20260422T225302
CREATED:20260306T053826Z
LAST-MODIFIED:20260306T053826Z
UID:12006-1773743400-1773747000@elderbridge.org
SUMMARY:Virtual Caregiver Support Group on every Tuesday of the Month via Teams at 10:30 Am to 11:30 AM
DESCRIPTION:
URL:https://elderbridge.org/events/virtual-caregiver-support-group-on-every-tuesday-of-the-month-via-teams-at-1030-am-to-1130-am/2026-03-17/
END:VEVENT
END:VCALENDAR