BEGIN:VCALENDAR
VERSION:2.0
PRODID:-//Elderbridge Agency On Aging - ECPv6.15.20//NONSGML v1.0//EN
CALSCALE:GREGORIAN
METHOD:PUBLISH
X-WR-CALNAME:Elderbridge Agency On Aging
X-ORIGINAL-URL:https://elderbridge.org
X-WR-CALDESC:Events for Elderbridge Agency On Aging
REFRESH-INTERVAL;VALUE=DURATION:PT1H
X-Robots-Tag:noindex
X-PUBLISHED-TTL:PT1H
BEGIN:VTIMEZONE
TZID:UTC
BEGIN:STANDARD
TZOFFSETFROM:+0000
TZOFFSETTO:+0000
TZNAME:UTC
DTSTART:20220101T000000
END:STANDARD
END:VTIMEZONE
BEGIN:VEVENT
DTSTART;TZID=UTC:20240301T113000
DTEND;TZID=UTC:20240301T120000
DTSTAMP:20260422T215932
CREATED:20240224T015839Z
LAST-MODIFIED:20240224T015853Z
UID:9744-1709292600-1709294400@elderbridge.org
SUMMARY:Sibley Senior Center Words of Wisdom March 1 at 11:30 AM
DESCRIPTION:
URL:https://elderbridge.org/events/sibley-senior-center-words-of-wisdom-march-1-at-1130-am/
END:VEVENT
BEGIN:VEVENT
DTSTART;TZID=UTC:20240227T093000
DTEND;TZID=UTC:20240227T223000
DTSTAMP:20260422T215932
CREATED:20240118T010739Z
LAST-MODIFIED:20240118T010753Z
UID:9617-1709026200-1709073000@elderbridge.org
SUMMARY:Caregiver Support Group at Trinity Lutheran Church in Mason City on the Fourth Tuesday of every Month from 9:30 AM to 10:30 AM
DESCRIPTION:
URL:https://elderbridge.org/events/caregiver-support-group-at-trinity-lutheran-church-in-mason-city-on-the-fourth-tuesday-of-every-month-from-930-am-to-1030-am/
END:VEVENT
BEGIN:VEVENT
DTSTART;TZID=UTC:20240227T003000
DTEND;TZID=UTC:20240227T130000
DTSTAMP:20260422T215932
CREATED:20240113T030644Z
LAST-MODIFIED:20240113T030652Z
UID:9608-1708993800-1709038800@elderbridge.org
SUMMARY:Fresh Conversations at Lakes Area Senior Center on February 27 at 12:30 PM
DESCRIPTION:
URL:https://elderbridge.org/events/fresh-conversations-at-lakes-area-senior-center-on-february-27-at-1230-pm/
END:VEVENT
BEGIN:VEVENT
DTSTART;TZID=UTC:20240225T080000
DTEND;TZID=UTC:20240303T200000
DTSTAMP:20260422T215932
CREATED:20231006T021611Z
LAST-MODIFIED:20231006T021626Z
UID:8931-1708848000-1709496000@elderbridge.org
SUMMARY:"Slam Dunk" Against Hunger Elderbridge Annual Fundraiser
DESCRIPTION:
URL:https://elderbridge.org/events/slam-dunk-against-hunger-elderbridge-annual-fundraiser/
ORGANIZER;CN="Laura Allen":MAILTO:lallen@elderbridge.org
END:VEVENT
BEGIN:VEVENT
DTSTART;TZID=UTC:20240222T110000
DTEND;TZID=UTC:20240222T233000
DTSTAMP:20260422T215932
CREATED:20240113T030852Z
LAST-MODIFIED:20240113T030907Z
UID:9611-1708599600-1708644600@elderbridge.org
SUMMARY:Fresh Conversations at Athens Woods Estates on February 22 at 11:00 AM
DESCRIPTION:
URL:https://elderbridge.org/events/fresh-conversations-at-athens-woods-estates-on-february-22-at-1100-am/
END:VEVENT
BEGIN:VEVENT
DTSTART;TZID=UTC:20240221T114500
DTEND;TZID=UTC:20240221T121500
DTSTAMP:20260422T215932
CREATED:20240112T204141Z
LAST-MODIFIED:20240112T204226Z
UID:9562-1708515900-1708517700@elderbridge.org
SUMMARY:Fresh Conversations at Deercreek Apartments in Fort Dodge on February 21 at 11:45 AM
DESCRIPTION:
URL:https://elderbridge.org/events/fresh-conversations-at-deercreek-apartments-in-fort-dodge-on-february-21-at-1145-am/
END:VEVENT
BEGIN:VEVENT
DTSTART;TZID=UTC:20240221T113000
DTEND;TZID=UTC:20240221T120000
DTSTAMP:20260422T215932
CREATED:20240113T030418Z
LAST-MODIFIED:20240113T030434Z
UID:9605-1708515000-1708516800@elderbridge.org
SUMMARY:Fresh Conversations at Rockford Community Center on February 21 at 11:30 AM
DESCRIPTION:
URL:https://elderbridge.org/events/fresh-conversations-at-rockford-community-center-on-february-21-at-1130-am/
END:VEVENT
BEGIN:VEVENT
DTSTART;TZID=UTC:20240220T121500
DTEND;TZID=UTC:20240220T124500
DTSTAMP:20260422T215932
CREATED:20240113T025325Z
LAST-MODIFIED:20240113T025332Z
UID:9585-1708431300-1708433100@elderbridge.org
SUMMARY:Fresh Conversations at Northwood Senior Center on February 20 at 12:15 PM
DESCRIPTION:
URL:https://elderbridge.org/events/fresh-conversations-at-northwood-senior-center-on-february-20-at-1215-pm/
END:VEVENT
BEGIN:VEVENT
DTSTART;TZID=UTC:20240216T120000
DTEND;TZID=UTC:20240216T123000
DTSTAMP:20260422T215932
CREATED:20240113T025523Z
LAST-MODIFIED:20240113T030125Z
UID:9588-1708084800-1708086600@elderbridge.org
SUMMARY:Fresh Conversations at Cedar Valley Seminary on February 16 at Noon
DESCRIPTION:
URL:https://elderbridge.org/events/fresh-conversations-at-cedar-valley-seminary-on-february-16-at-noon/
END:VEVENT
BEGIN:VEVENT
DTSTART;TZID=UTC:20240215T113000
DTEND;TZID=UTC:20240215T120000
DTSTAMP:20260422T215932
CREATED:20240113T024830Z
LAST-MODIFIED:20240113T024830Z
UID:9579-1707996600-1707998400@elderbridge.org
SUMMARY:Fresh Conversations at Eagle Grover Senior Center on February 15 at 11:30
DESCRIPTION:
URL:https://elderbridge.org/events/fresh-conversations-at-eagle-grover-senior-center-on-february-15-at-1130/
END:VEVENT
BEGIN:VEVENT
DTSTART;TZID=UTC:20240214T113000
DTEND;TZID=UTC:20240214T170000
DTSTAMP:20260422T215932
CREATED:20240112T184135Z
LAST-MODIFIED:20240112T184135Z
UID:9559-1707910200-1707930000@elderbridge.org
SUMMARY:Fresh Conversations at Charles City Senior Center February 14\, 2024 at 11:00 AM
DESCRIPTION:
URL:https://elderbridge.org/events/fresh-conversations-at-charles-city-senior-center-february-14-2024-at-1100-am/
END:VEVENT
BEGIN:VEVENT
DTSTART;TZID=UTC:20240213T123000
DTEND;TZID=UTC:20240213T130000
DTSTAMP:20260422T215932
CREATED:20240113T025108Z
LAST-MODIFIED:20240113T025119Z
UID:9582-1707827400-1707829200@elderbridge.org
SUMMARY:Fresh Conversations at Manly Senior Center on February 13 at 12:30 PM
DESCRIPTION:
URL:https://elderbridge.org/events/fresh-conversations-at-manly-senior-center-on-february-13-at-1230-pm/
END:VEVENT
BEGIN:VEVENT
DTSTART;TZID=UTC:20240208T113000
DTEND;TZID=UTC:20240208T120000
DTSTAMP:20260422T215932
CREATED:20240125T014745Z
LAST-MODIFIED:20240125T014745Z
UID:9650-1707391800-1707393600@elderbridge.org
SUMMARY:Words on Wellness at the Storm Lake Senior Center on February 8\, at 11:30PM
DESCRIPTION:
URL:https://elderbridge.org/events/words-on-wellness-at-the-storm-lake-senior-center-on-february-8-at-1130pm/
END:VEVENT
BEGIN:VEVENT
DTSTART;TZID=UTC:20240202T113000
DTEND;TZID=UTC:20240202T120000
DTSTAMP:20260422T215932
CREATED:20240125T014527Z
LAST-MODIFIED:20240125T014536Z
UID:9647-1706873400-1706875200@elderbridge.org
SUMMARY:Word on Wellness at the Sibley Senior Center on February 2 at 11:30AM
DESCRIPTION:
URL:https://elderbridge.org/events/word-on-wellness-at-the-sibley-senior-center-on-february-2-at-1130am/
END:VEVENT
BEGIN:VEVENT
DTSTART;TZID=UTC:20240201T120000
DTEND;TZID=UTC:20240201T123000
DTSTAMP:20260422T215932
CREATED:20240125T014157Z
LAST-MODIFIED:20240125T014157Z
UID:9644-1706788800-1706790600@elderbridge.org
SUMMARY:Words on Wellness at the Lake Park Senior Center on February 1\, at 12:00PM
DESCRIPTION:
URL:https://elderbridge.org/events/words-on-wellness-at-the-lake-park-senior-center-on-february-1-at-1200pm/
END:VEVENT
BEGIN:VEVENT
DTSTART;TZID=UTC:20240130T123000
DTEND;TZID=UTC:20240130T130000
DTSTAMP:20260422T215932
CREATED:20231222T210136Z
LAST-MODIFIED:20231222T210239Z
UID:9458-1706617800-1706619600@elderbridge.org
SUMMARY:Words on Wellness at the Hawarden Senior Center on January 30 at 12:30
DESCRIPTION:
URL:https://elderbridge.org/events/words-on-wellness-at-the-hawarden-senior-center-on-january-30-at-1230/
END:VEVENT
BEGIN:VEVENT
DTSTART;TZID=UTC:20240125T110000
DTEND;TZID=UTC:20240125T120000
DTSTAMP:20260422T215932
CREATED:20231220T004445Z
LAST-MODIFIED:20231220T004445Z
UID:9426-1706180400-1706184000@elderbridge.org
SUMMARY:Fresh Conversations at Athens Woods Estates 1250 Hwy 175\, Stratford on January 25th at 11:00 AM
DESCRIPTION:
URL:https://elderbridge.org/events/fresh-conversations-at-athens-woods-estates-1250-hwy-175-stratford-on-january-25th-at-1100-am/
END:VEVENT
BEGIN:VEVENT
DTSTART;TZID=UTC:20240119T130000
DTEND;TZID=UTC:20240119T140000
DTSTAMP:20260422T215932
CREATED:20231220T003114Z
LAST-MODIFIED:20231227T223418Z
UID:9416-1705669200-1705672800@elderbridge.org
SUMMARY:Fresh Conversations at Cedar Valley Seminary 200 N. 7th Street in Osage on January 19th at Noon
DESCRIPTION:
URL:https://elderbridge.org/events/fresh-conversations-at-osage-senior-center-615-state-street-on-january-19th-at-noon/
END:VEVENT
BEGIN:VEVENT
DTSTART;TZID=UTC:20240118T110000
DTEND;TZID=UTC:20240118T120000
DTSTAMP:20260422T215932
CREATED:20231220T004920Z
LAST-MODIFIED:20231220T004920Z
UID:9430-1705575600-1705579200@elderbridge.org
SUMMARY:Fresh Conversations at Eagle Grove Senior Center 401 W Broadway on January 18th at 11:00 AM
DESCRIPTION:
URL:https://elderbridge.org/events/fresh-conversations-at-eagle-grove-senior-center-401-w-broadway-on-january-18th-at-1100-am/
END:VEVENT
BEGIN:VEVENT
DTSTART;TZID=UTC:20240117T114500
DTEND;TZID=UTC:20240117T124500
DTSTAMP:20260422T215932
CREATED:20231220T004144Z
LAST-MODIFIED:20231220T004144Z
UID:9424-1705491900-1705495500@elderbridge.org
SUMMARY:Fresh Conversations at Deercreek Apts 700 So 17th St. Fort Dodge on January 17th at 11:45 AM
DESCRIPTION:
URL:https://elderbridge.org/events/fresh-conversations-at-deercreek-apts-700-so-17th-st-fort-dodge-on-january-17th-at-1145-am/
END:VEVENT
BEGIN:VEVENT
DTSTART;TZID=UTC:20240117T113000
DTEND;TZID=UTC:20240117T123000
DTSTAMP:20260422T215932
CREATED:20231220T002014Z
LAST-MODIFIED:20231220T002427Z
UID:9402-1705491000-1705494600@elderbridge.org
SUMMARY:Fresh Conversations at Rockford Comm Center 206 West Main Ave on January 17th at 11:30 AM
DESCRIPTION:
URL:https://elderbridge.org/events/fresh-conversations-at-rockford-comm-center-206-west-main-ave-on-january-17th-at-1130-am/
END:VEVENT
BEGIN:VEVENT
DTSTART;TZID=UTC:20240116T001500
DTEND;TZID=UTC:20240116T131500
DTSTAMP:20260422T215932
CREATED:20231220T003523Z
LAST-MODIFIED:20231220T003523Z
UID:9419-1705364100-1705410900@elderbridge.org
SUMMARY:Fresh Conversations at Northwood Senior Center 720 Central Ave on January 16th at 12:15
DESCRIPTION:
URL:https://elderbridge.org/events/fresh-conversations-at-northwood-senior-center-720-central-ave-on-january-16th-at-1215/
END:VEVENT
BEGIN:VEVENT
DTSTART;TZID=UTC:20240111T123000
DTEND;TZID=UTC:20240111T130000
DTSTAMP:20260422T215932
CREATED:20231224T234852Z
LAST-MODIFIED:20231224T234852Z
UID:9473-1704976200-1704978000@elderbridge.org
SUMMARY:Words on Wellness at Storm Lake Senior Center on January 11 at 12:30
DESCRIPTION:
URL:https://elderbridge.org/events/words-on-wellness-at-storm-lake-senior-center-on-january-11-at-1230/
END:VEVENT
BEGIN:VEVENT
DTSTART;TZID=UTC:20240110T110000
DTEND;TZID=UTC:20240110T233000
DTSTAMP:20260422T215932
CREATED:20231215T225311Z
LAST-MODIFIED:20231219T001431Z
UID:9390-1704884400-1704929400@elderbridge.org
SUMMARY:Fresh Conversations at Charles City Senior Center on January 19 at 11:00 AM
DESCRIPTION:
URL:https://elderbridge.org/events/charles-city-senior-center-fresh-conversations-january-19-at-1100-am/
END:VEVENT
BEGIN:VEVENT
DTSTART;TZID=UTC:20240109T123000
DTEND;TZID=UTC:20240109T133000
DTSTAMP:20260422T215932
CREATED:20231220T003819Z
LAST-MODIFIED:20231220T003819Z
UID:9422-1704803400-1704807000@elderbridge.org
SUMMARY:Fresh Conversations at Manly Senior Citizens Center 137 E Main St on January 9th at 12:30
DESCRIPTION:
URL:https://elderbridge.org/events/fresh-conversations-at-manly-senior-citizens-center-137-e-main-st-on-january-9th-at-1230/
END:VEVENT
BEGIN:VEVENT
DTSTART;TZID=UTC:20240105T113000
DTEND;TZID=UTC:20240105T120000
DTSTAMP:20260422T215932
CREATED:20231224T234619Z
LAST-MODIFIED:20231224T234619Z
UID:9470-1704454200-1704456000@elderbridge.org
SUMMARY:Words of Wisdom at Sibley Senior Center on January 5 at 11:30
DESCRIPTION:
URL:https://elderbridge.org/events/words-of-wisdom-at-sibley-senior-center-on-january-5-at-1130/
END:VEVENT
BEGIN:VEVENT
DTSTART;TZID=UTC:20240104T120000
DTEND;TZID=UTC:20240104T123000
DTSTAMP:20260422T215932
CREATED:20231224T235915Z
LAST-MODIFIED:20231224T235915Z
UID:9476-1704369600-1704371400@elderbridge.org
SUMMARY:Words on Wellness at Lake Park Senior Center on January 4 at 12 PM
DESCRIPTION:
URL:https://elderbridge.org/events/words-on-wellness-at-lake-park-senior-center-on-january-4-at-12-pm/
END:VEVENT
BEGIN:VEVENT
DTSTART;TZID=UTC:20231230T123000
DTEND;TZID=UTC:20231230T133000
DTSTAMP:20260422T215932
CREATED:20231220T004709Z
LAST-MODIFIED:20231220T004709Z
UID:9428-1703939400-1703943000@elderbridge.org
SUMMARY:Fresh Conversations at Lakes Area Senior Center 2101 Zenith Ave Spirit Lake on December 30th at 12:30
DESCRIPTION:
URL:https://elderbridge.org/events/fresh-conversations-at-lakes-area-senior-center-2101-zenith-ave-spirit-lake-on-december-30th-at-1230/
END:VEVENT
BEGIN:VEVENT
DTSTART;TZID=UTC:20231228T110000
DTEND;TZID=UTC:20231228T110000
DTSTAMP:20260422T215932
CREATED:20231128T104717Z
LAST-MODIFIED:20231128T123203Z
UID:9167-1703761200-1703761200@elderbridge.org
SUMMARY:Fresh Conversations in Athens Woods Estates 1250 Hwy 175\, Stratford
DESCRIPTION:
URL:https://elderbridge.org/events/fresh-conversations-in-athens-woods-estates-1250-hwy-175-stratford/
END:VEVENT
BEGIN:VEVENT
DTSTART;TZID=UTC:20231222T080000
DTEND;TZID=UTC:20231222T170000
DTSTAMP:20260422T215932
CREATED:20231222T212709Z
LAST-MODIFIED:20231222T212730Z
UID:9461-1703232000-1703264400@elderbridge.org
SUMMARY:Words on Wellness January 4 at 12:00 at Lake Park Senior Center
DESCRIPTION:
URL:https://elderbridge.org/events/words-on-wellness-january-4-at-1200-at-lake-park-senior-center/
END:VEVENT
END:VCALENDAR