BEGIN:VCALENDAR
VERSION:2.0
PRODID:-//Elderbridge Agency On Aging - ECPv6.15.20//NONSGML v1.0//EN
CALSCALE:GREGORIAN
METHOD:PUBLISH
X-ORIGINAL-URL:https://elderbridge.org
X-WR-CALDESC:Events for Elderbridge Agency On Aging
REFRESH-INTERVAL;VALUE=DURATION:PT1H
X-Robots-Tag:noindex
X-PUBLISHED-TTL:PT1H
BEGIN:VTIMEZONE
TZID:UTC
BEGIN:STANDARD
TZOFFSETFROM:+0000
TZOFFSETTO:+0000
TZNAME:UTC
DTSTART:20250101T000000
END:STANDARD
END:VTIMEZONE
BEGIN:VEVENT
DTSTART;TZID=UTC:20260414T123000
DTEND;TZID=UTC:20260414T130000
DTSTAMP:20260424T121503
CREATED:20260403T020619Z
LAST-MODIFIED:20260403T020721Z
UID:12054-1776169800-1776171600@elderbridge.org
SUMMARY:Fresh Conversations on Tuesday\, April 14\, at 12:30PM in Manly
DESCRIPTION:
URL:https://elderbridge.org/events/fresh-conversations-on-tuesday-april-14-at-1230pm-in-manly/
END:VEVENT
END:VCALENDAR