BEGIN:VCALENDAR
VERSION:2.0
PRODID:-//Elderbridge Agency On Aging - ECPv6.15.20//NONSGML v1.0//EN
CALSCALE:GREGORIAN
METHOD:PUBLISH
X-ORIGINAL-URL:https://elderbridge.org
X-WR-CALDESC:Events for Elderbridge Agency On Aging
REFRESH-INTERVAL;VALUE=DURATION:PT1H
X-Robots-Tag:noindex
X-PUBLISHED-TTL:PT1H
BEGIN:VTIMEZONE
TZID:UTC
BEGIN:STANDARD
TZOFFSETFROM:+0000
TZOFFSETTO:+0000
TZNAME:UTC
DTSTART:20240101T000000
END:STANDARD
END:VTIMEZONE
BEGIN:VEVENT
DTSTART;TZID=UTC:20250319T121500
DTEND;TZID=UTC:20250319T124500
DTSTAMP:20260421T175713
CREATED:20250227T020505Z
LAST-MODIFIED:20250227T020530Z
UID:11032-1742386500-1742388300@elderbridge.org
SUMMARY:Fresh Conversations at the Webster City Senior Center on Wednesday\, March 19 at 12:15 PM
DESCRIPTION:
URL:https://elderbridge.org/events/fresh-conversations-at-the-webster-city-senior-center-on-wednesday-march-19-at-1215-pm/
END:VEVENT
BEGIN:VEVENT
DTSTART;TZID=UTC:20250319T150000
DTEND;TZID=UTC:20250319T160000
DTSTAMP:20260421T175713
CREATED:20230204T005903Z
LAST-MODIFIED:20230204T005903Z
UID:8339-1742396400-1742400000@elderbridge.org
SUMMARY:Webster County Caregiver Support Group 3rd Wednesday of Every Month
DESCRIPTION:
URL:https://elderbridge.org/events/webster-county-caregiver-support-group-3rd-wednesday-of-every-month/2025-03-19/
END:VEVENT
END:VCALENDAR