BEGIN:VCALENDAR
VERSION:2.0
PRODID:-//Elderbridge Agency On Aging - ECPv6.15.20//NONSGML v1.0//EN
CALSCALE:GREGORIAN
METHOD:PUBLISH
X-ORIGINAL-URL:https://elderbridge.org
X-WR-CALDESC:Events for Elderbridge Agency On Aging
REFRESH-INTERVAL;VALUE=DURATION:PT1H
X-Robots-Tag:noindex
X-PUBLISHED-TTL:PT1H
BEGIN:VTIMEZONE
TZID:UTC
BEGIN:STANDARD
TZOFFSETFROM:+0000
TZOFFSETTO:+0000
TZNAME:UTC
DTSTART:20240101T000000
END:STANDARD
END:VTIMEZONE
BEGIN:VEVENT
DTSTART;TZID=UTC:20250318T121500
DTEND;TZID=UTC:20250318T124500
DTSTAMP:20260421T175715
CREATED:20250227T015754Z
LAST-MODIFIED:20250227T015808Z
UID:11025-1742300100-1742301900@elderbridge.org
SUMMARY:Fresh Conversations at Northwood Senior Center on Tuesday\, March 18 at 12:15 PM
DESCRIPTION:
URL:https://elderbridge.org/events/fresh-conversations-at-northwood-senior-center-on-tuesday-march-18-at-1215-pm/
END:VEVENT
END:VCALENDAR