BEGIN:VCALENDAR
VERSION:2.0
PRODID:-//Elderbridge Agency On Aging - ECPv6.15.20//NONSGML v1.0//EN
CALSCALE:GREGORIAN
METHOD:PUBLISH
X-ORIGINAL-URL:https://elderbridge.org
X-WR-CALDESC:Events for Elderbridge Agency On Aging
REFRESH-INTERVAL;VALUE=DURATION:PT1H
X-Robots-Tag:noindex
X-PUBLISHED-TTL:PT1H
BEGIN:VTIMEZONE
TZID:UTC
BEGIN:STANDARD
TZOFFSETFROM:+0000
TZOFFSETTO:+0000
TZNAME:UTC
DTSTART:20230101T000000
END:STANDARD
END:VTIMEZONE
BEGIN:VEVENT
DTSTART;TZID=UTC:20240718T100000
DTEND;TZID=UTC:20240718T110000
DTSTAMP:20260421T222736
CREATED:20230203T011921Z
LAST-MODIFIED:20231130T172138Z
UID:9185-1721296800-1721300400@elderbridge.org
SUMMARY:Virtual Caregiver Support Group 3rd Thursday of Every Month
DESCRIPTION:
URL:https://elderbridge.org/events/virtual-caregiver-support-group-3rd-thursday-of-every-month/2024-07-18/
END:VEVENT
BEGIN:VEVENT
DTSTART;TZID=UTC:20240718T113000
DTEND;TZID=UTC:20240718T120000
DTSTAMP:20260421T222736
CREATED:20240627T232124Z
LAST-MODIFIED:20240627T232124Z
UID:10269-1721302200-1721304000@elderbridge.org
SUMMARY:Fresh Conversations at Eagle Grove Senior Center on July 18 at 11:30 AM
DESCRIPTION:
URL:https://elderbridge.org/events/fresh-conversations-at-eagle-grove-senior-center-on-july-18-at-1130-am/
END:VEVENT
END:VCALENDAR