BEGIN:VCALENDAR
VERSION:2.0
PRODID:-//Elderbridge Agency On Aging - ECPv6.15.20//NONSGML v1.0//EN
CALSCALE:GREGORIAN
METHOD:PUBLISH
X-ORIGINAL-URL:https://elderbridge.org
X-WR-CALDESC:Events for Elderbridge Agency On Aging
REFRESH-INTERVAL;VALUE=DURATION:PT1H
X-Robots-Tag:noindex
X-PUBLISHED-TTL:PT1H
BEGIN:VTIMEZONE
TZID:UTC
BEGIN:STANDARD
TZOFFSETFROM:+0000
TZOFFSETTO:+0000
TZNAME:UTC
DTSTART:20230101T000000
END:STANDARD
END:VTIMEZONE
BEGIN:VEVENT
DTSTART;TZID=UTC:20240717T114500
DTEND;TZID=UTC:20240717T121500
DTSTAMP:20260421T183924
CREATED:20240627T231850Z
LAST-MODIFIED:20240627T231906Z
UID:10266-1721216700-1721218500@elderbridge.org
SUMMARY:Fresh Conversations at Deercreek Apartments in Fort Dodge on July 17 at 11:45
DESCRIPTION:
URL:https://elderbridge.org/events/fresh-conversations-at-deercreek-apartments-in-fort-dodge-on-july-17-at-1145/
END:VEVENT
BEGIN:VEVENT
DTSTART;TZID=UTC:20240717T150000
DTEND;TZID=UTC:20240717T160000
DTSTAMP:20260421T183924
CREATED:20230204T005903Z
LAST-MODIFIED:20230204T005903Z
UID:8220-1721228400-1721232000@elderbridge.org
SUMMARY:Webster County Caregiver Support Group 3rd Wednesday of Every Month
DESCRIPTION:
URL:https://elderbridge.org/events/webster-county-caregiver-support-group-3rd-wednesday-of-every-month/2024-07-17/
END:VEVENT
END:VCALENDAR