BEGIN:VCALENDAR
VERSION:2.0
PRODID:-//Elderbridge Agency On Aging - ECPv6.15.20//NONSGML v1.0//EN
CALSCALE:GREGORIAN
METHOD:PUBLISH
X-ORIGINAL-URL:https://elderbridge.org
X-WR-CALDESC:Events for Elderbridge Agency On Aging
REFRESH-INTERVAL;VALUE=DURATION:PT1H
X-Robots-Tag:noindex
X-PUBLISHED-TTL:PT1H
BEGIN:VTIMEZONE
TZID:UTC
BEGIN:STANDARD
TZOFFSETFROM:+0000
TZOFFSETTO:+0000
TZNAME:UTC
DTSTART:20230101T000000
END:STANDARD
END:VTIMEZONE
BEGIN:VEVENT
DTSTART;TZID=UTC:20240613T080000
DTEND;TZID=UTC:20240613T100000
DTSTAMP:20260421T152534
CREATED:20240427T012039Z
LAST-MODIFIED:20240427T012900Z
UID:10022-1718265600-1718272800@elderbridge.org
SUMMARY:50th Anniversary for Elderbridge Agency on Aging at Mason City 's Elderbridge Office on June 13\, 2024 from 8:00 AM to 10:00 AM
DESCRIPTION:
URL:https://elderbridge.org/events/50th-anniversary-for-elderbridge-agency-on-aging-on-june-13-2024-from-800-am-to-1000-am/
END:VEVENT
END:VCALENDAR