BEGIN:VCALENDAR
VERSION:2.0
PRODID:-//Elderbridge Agency On Aging - ECPv6.15.20//NONSGML v1.0//EN
CALSCALE:GREGORIAN
METHOD:PUBLISH
X-WR-CALNAME:Elderbridge Agency On Aging
X-ORIGINAL-URL:https://elderbridge.org
X-WR-CALDESC:Events for Elderbridge Agency On Aging
REFRESH-INTERVAL;VALUE=DURATION:PT1H
X-Robots-Tag:noindex
X-PUBLISHED-TTL:PT1H
BEGIN:VTIMEZONE
TZID:UTC
BEGIN:STANDARD
TZOFFSETFROM:+0000
TZOFFSETTO:+0000
TZNAME:UTC
DTSTART:20230101T000000
END:STANDARD
END:VTIMEZONE
BEGIN:VEVENT
DTSTART;TZID=UTC:20240611T123000
DTEND;TZID=UTC:20240611T130000
DTSTAMP:20260421T154222
CREATED:20240522T022138Z
LAST-MODIFIED:20240522T022551Z
UID:10088-1718109000-1718110800@elderbridge.org
SUMMARY:Fresh Conversations at the Manly Senior center on Tuesday\, June 11 at 12:30 PM
DESCRIPTION:
URL:https://elderbridge.org/events/fresh-conversations-at-the-manly-senior-center-on-tuesday-june-11-at-1230-pm/
END:VEVENT
END:VCALENDAR