BEGIN:VCALENDAR
VERSION:2.0
PRODID:-//Elderbridge Agency On Aging - ECPv6.15.20//NONSGML v1.0//EN
CALSCALE:GREGORIAN
METHOD:PUBLISH
X-WR-CALNAME:Elderbridge Agency On Aging
X-ORIGINAL-URL:https://elderbridge.org
X-WR-CALDESC:Events for Elderbridge Agency On Aging
REFRESH-INTERVAL;VALUE=DURATION:PT1H
X-Robots-Tag:noindex
X-PUBLISHED-TTL:PT1H
BEGIN:VTIMEZONE
TZID:UTC
BEGIN:STANDARD
TZOFFSETFROM:+0000
TZOFFSETTO:+0000
TZNAME:UTC
DTSTART:20230101T000000
END:STANDARD
END:VTIMEZONE
BEGIN:VEVENT
DTSTART;TZID=UTC:20240522T100000
DTEND;TZID=UTC:20240522T140000
DTSTAMP:20260421T183708
CREATED:20240427T010554Z
LAST-MODIFIED:20240427T010607Z
UID:10013-1716372000-1716386400@elderbridge.org
SUMMARY:Caregiver Appreciation Event at Boulders Event Center on Wednesday\, May 22\, 2024 from 10:00 AM to 2:00 PM
DESCRIPTION:
URL:https://elderbridge.org/events/caregiver-appreciation-event-at-boulders-event-center-on-wednesday-may-22-2024-from-1000-am-to-200-pm/
END:VEVENT
END:VCALENDAR