BEGIN:VCALENDAR
VERSION:2.0
PRODID:-//Elderbridge Agency On Aging - ECPv6.15.20//NONSGML v1.0//EN
CALSCALE:GREGORIAN
METHOD:PUBLISH
X-ORIGINAL-URL:https://elderbridge.org
X-WR-CALDESC:Events for Elderbridge Agency On Aging
REFRESH-INTERVAL;VALUE=DURATION:PT1H
X-Robots-Tag:noindex
X-PUBLISHED-TTL:PT1H
BEGIN:VTIMEZONE
TZID:UTC
BEGIN:STANDARD
TZOFFSETFROM:+0000
TZOFFSETTO:+0000
TZNAME:UTC
DTSTART:20230101T000000
END:STANDARD
END:VTIMEZONE
BEGIN:VEVENT
DTSTART;TZID=UTC:20240516T100000
DTEND;TZID=UTC:20240516T110000
DTSTAMP:20260421T222812
CREATED:20230203T011921Z
LAST-MODIFIED:20231130T172137Z
UID:9183-1715853600-1715857200@elderbridge.org
SUMMARY:Virtual Caregiver Support Group 3rd Thursday of Every Month
DESCRIPTION:
URL:https://elderbridge.org/events/virtual-caregiver-support-group-3rd-thursday-of-every-month/2024-05-16/
END:VEVENT
END:VCALENDAR