BEGIN:VCALENDAR
VERSION:2.0
PRODID:-//Elderbridge Agency On Aging - ECPv6.15.20//NONSGML v1.0//EN
CALSCALE:GREGORIAN
METHOD:PUBLISH
X-ORIGINAL-URL:https://elderbridge.org
X-WR-CALDESC:Events for Elderbridge Agency On Aging
REFRESH-INTERVAL;VALUE=DURATION:PT1H
X-Robots-Tag:noindex
X-PUBLISHED-TTL:PT1H
BEGIN:VTIMEZONE
TZID:UTC
BEGIN:STANDARD
TZOFFSETFROM:+0000
TZOFFSETTO:+0000
TZNAME:UTC
DTSTART:20220101T000000
END:STANDARD
END:VTIMEZONE
BEGIN:VEVENT
DTSTART;TZID=UTC:20231219T121500
DTEND;TZID=UTC:20231219T121500
DTSTAMP:20260423T095230
CREATED:20231128T104342Z
LAST-MODIFIED:20231128T123017Z
UID:9164-1702988100-1702988100@elderbridge.org
SUMMARY:Fresh Conversations in Northwood Senior Center 720 Central Ave
DESCRIPTION:
URL:https://elderbridge.org/events/fresh-conversations-in-northwood-senior-center-720-central-ave/
END:VEVENT
END:VCALENDAR